PDS_VERSION_ID = PDS3
/* FILE DATA ELEMENTS */
RECORD_TYPE = STREAM
/* POINTERS TO DATA OBJECTS */
^COMPRESSED_FILE = "HG188_0000_S13.JP2"
/* IDENTIFICATION DATA ELEMENTS */
DATA_SET_ID = "MEX-M-HRSC-5-REFDR-MAPPROJECTED-V3.0"
DATA_SET_NAME = "MARS EXPRESS HRSC MAP PROJECTED REFDR V3.0"
DETECTOR_ID = MEX_HRSC_S1
EVENT_TYPE = "MARS-REGIONAL-MAPPING-Te-Gl-Pf"
INSTRUMENT_HOST_ID = MEX
INSTRUMENT_HOST_NAME = "MARS EXPRESS"
INSTRUMENT_ID = HRSC
INSTRUMENT_NAME = "HIGH RESOLUTION STEREO CAMERA"
MISSION_NAME = "MARS EXPRESS"
MISSION_PHASE_NAME = ME_Phase_35
PROCESSING_LEVEL_ID = 3
PRODUCT_CREATION_TIME = 2017-06-30T05:49:47.000Z
PRODUCT_ID = "HG188_0000_S13.JP2"
RELEASE_ID = 0136
REVISION_ID = 0000
/* QUALITY DATA ELEMENTS */
DATA_QUALITY_ID = 1
DATA_QUALITY_DESC = "Data calculated based on original SPICE kernels"
/* TIME DATA ELEMENTS */
SPACECRAFT_CLOCK_START_COUNT = "1/0424234620.08304"
SPACECRAFT_CLOCK_STOP_COUNT = "1/0424235560.31319"
START_TIME = 2016-10-11T03:05:43.852Z
STOP_TIME = 2016-10-11T03:12:46.650Z
/* ORBITAL DATA ELEMENTS */
ASCENDING_NODE_LONGITUDE = 269.85
MAXIMUM_RESOLUTION = 172.5
FOOTPRINT_POINT_LATITUDE = (43.361,43.3515,43.3415,43.3311,43.32, 43.3085,43.2965,43.284,43.2711,43.2577, 43.2438,43.2295,43.2147,43.1995,43.1837 ,43.1675,43.1509,43.1336,43.116,43.0979 ,43.0793,43.0602,43.0405,43.0203, 42.9996,42.9938,42.7999,42.6084,42.2299 ,41.9478,41.484,41.1216,40.6748,40.3242 ,39.9772,39.6338,39.2959,38.8801, 38.4736,38.1518,37.8325,37.522,37.2897, 36.9831,36.6025,36.302,36.0116,35.7291, 35.3093,35.0275,34.8861,34.9171,34.9718 ,35.0217,35.0581,35.093,35.1418,35.1888 ,35.2385,35.2792,35.3165,35.3578, 35.3855,35.4204,35.4501,35.4902,35.5302 ,35.5725,35.6125,35.6633,35.7021, 35.7515,35.7906,35.8386,35.8671,35.9621 ,36.2073,36.4569,36.7777,37.0354, 37.3059,37.6547,37.9287,38.2753,38.5573 ,38.8404,39.2125,39.5136,39.9765, 40.2868,40.6073,40.8543,41.1936,41.5318 ,41.8668,42.2092,42.5615,43.0916, 43.4554,43.361)
FOOTPRINT_POINT_LONGITUDE = (51.5031,51.8826,52.2615,52.6397, 53.0173,53.3944,53.7711,54.1474,54.5235 ,54.8993,55.2748,55.6502,56.0253, 56.3999,56.7744,57.1488,57.5233,57.898, 58.2731,58.6485,59.0242,59.4001,59.7764 ,60.1532,60.5305,60.8206,60.8415,60.863 ,60.9062,60.9376,60.99,61.0335,61.0875, 61.1316,61.1749,61.2177,61.2611,61.3154 ,61.3713,61.4152,61.4582,61.504,61.5371 ,61.5812,61.6346,61.6772,61.7236, 61.7725,61.8445,61.8888,61.6872,61.3439 ,60.7747,60.323,59.8659,59.4092,58.9586 ,58.2749,57.7098,57.2584,56.9213, 56.4697,56.1303,55.6773,55.3377,54.8847 ,54.4312,53.9772,53.5226,52.9533, 52.4969,51.9249,51.4661,50.8911,50.5451 ,50.1652,50.202,50.2387,50.2835,50.3204 ,50.3545,50.3954,50.4312,50.4764, 50.5124,50.5495,50.5915,50.6255,50.675, 50.7091,50.7409,50.7633,50.7904,50.8195 ,50.8512,50.8815,50.9095,50.9535, 50.9806,51.5031)
ORBIT_NUMBER = 16188
ORBITAL_ECCENTRICITY = 0.571
ORBITAL_INCLINATION = 86.95
ORBITAL_SEMIMAJOR_AXIS = 8774.13
PERIAPSIS_ALTITUDE = 381.81
PERIAPSIS_ARGUMENT_ANGLE = 69.05
PERIAPSIS_TIME = 2016-10-11T02:39:12.000Z
SPACECRAFT_ORIENTATION = (0.0,1.0,0.0)
^MEX_ORIENTATION_DESC = "MEX_ORIENTATION_DESC.TXT"
SPACECRAFT_POINTING_MODE = NADIR
^MEX_POINTING_DESC = "MEX_POINTING_DESC.TXT"
RIGHT_ASCENSION = -1e+32
DECLINATION = -1e+32
OFFSET_ANGLE = -1e+32
SPACECRAFT_SOLAR_DISTANCE = 2.06998e+08
TARGET_NAME = MARS
/* CAMERA DATA ELEMENTS */
DETECTOR_TEMPERATURE = 17.5549
FOCAL_PLANE_TEMPERATURE = 8.7872
INST_CMPRS_NAME = "DISCRETE COSINE TRANSFORMATION (DCT)"
INST_CMPRS_RATIO = 10.0128
INST_CMPRS_QUALITY = 0
INST_CMPRS_QUANTZ_TBL_ID = 0
INSTRUMENT_TEMPERATURE = 11.4379
LENS_TEMPERATURE = 8.5833
MACROPIXEL_SIZE = 2
MISSING_FRAMES = 0
PIXEL_SUBSAMPLING_FLAG = N
SIGNAL_CHAIN_ID = 1
/* RADIOMETRIC DATA ELEMENTS */
BANDWIDTH = 180.0
CENTER_FILTER_WAVELENGTH = 677.0
RADIANCE_OFFSET = 4.97768
RADIANCE_SCALING_FACTOR = 0.0166335
REFLECTANCE_SCALING_FACTOR = 0.000371842
MEX:REFLECTANCE_OFFSET = 0.111276
/* IMAGE OBJECT DEFINITIONS */
OBJECT = IMAGE
  INTERCHANGE_FORMAT = BINARY
  LINES = 4793
  LINE_SAMPLES = 3749
  SAMPLE_TYPE = UNSIGNED_INTEGER
  SAMPLE_BITS = 8
  BANDS = 1
  BAND_STORAGE_TYPE = BAND_SEQUENTIAL
  MAXIMUM = 255
  MEAN = 171.789
  MINIMUM = 1
  STANDARD_DEVIATION = 58.9598
END_OBJECT = IMAGE
/* MAP OBJECT DEFINITIONS */
OBJECT = IMAGE_MAP_PROJECTION
  ^DATA_SET_MAP_PROJECTION_CATALOG= "DSMAP.CAT"
  A_AXIS_RADIUS = 3396.0
  B_AXIS_RADIUS = 3396.0
  C_AXIS_RADIUS = 3396.0
  CENTER_LATITUDE = 0.0
  CENTER_LONGITUDE = 55.0
  COORDINATE_SYSTEM_NAME = PLANETOGRAPHIC
  COORDINATE_SYSTEM_TYPE = "BODY-FIXED ROTATING"
  EASTERNMOST_LONGITUDE = 61.8888
  FIRST_STANDARD_PARALLEL = "N/A"
  LINE_FIRST_PIXEL = 1
  LINE_LAST_PIXEL = 4793
  LINE_PROJECTION_OFFSET = 25657.75
  MAP_PROJECTION_ROTATION = 0.0
  MAP_PROJECTION_TYPE = SINUSOIDAL
  MAP_RESOLUTION = 592.713803866667
  MAP_SCALE = 0.1
  MAXIMUM_LATITUDE = 43.4554
  MINIMUM_LATITUDE = 34.8861
  POSITIVE_LONGITUDE_DIRECTION = EAST
  REFERENCE_LATITUDE = "N/A"
  REFERENCE_LONGITUDE = "N/A"
  SAMPLE_FIRST_PIXEL = 1
  SAMPLE_LAST_PIXEL = 3749
  SAMPLE_PROJECTION_OFFSET = 1704.75
  SECOND_STANDARD_PARALLEL = "N/A"
  WESTERNMOST_LONGITUDE = 50.1652
END_OBJECT = IMAGE_MAP_PROJECTION
/* The JPEG2000 image data file associated with this label. */
OBJECT = COMPRESSED_FILE
  FILE_NAME = "HG188_0000_S13.JP2"
  RECORD_TYPE = UNDEFINED
  FILE_RECORDS = UNK
  ENCODING_TYPE = "JP2"
  INTERCHANGE_FORMAT = BINARY
  UNCOMPRESSED_FILE_NAME = "HG188_0000_S13.IMG"
  REQUIRED_STORAGE_BYTES = "17991451"
  ^DESCRIPTION = "JP2INFO.TXT"
END_OBJECT = COMPRESSED_FILE
END
