PDS_VERSION_ID = PDS3
/* FILE DATA ELEMENTS */
RECORD_TYPE = STREAM
/* POINTERS TO DATA OBJECTS */
^COMPRESSED_FILE = "HG193_0000_GR3.JP2"
/* IDENTIFICATION DATA ELEMENTS */
DATA_SET_ID = "MEX-M-HRSC-5-REFDR-MAPPROJECTED-V3.0"
DATA_SET_NAME = "MARS EXPRESS HRSC MAP PROJECTED REFDR V3.0"
DETECTOR_ID = MEX_HRSC_GREEN
EVENT_TYPE = "MARS-REGIONAL-MAPPING-Vo-Te"
INSTRUMENT_HOST_ID = MEX
INSTRUMENT_HOST_NAME = "MARS EXPRESS"
INSTRUMENT_ID = HRSC
INSTRUMENT_NAME = "HIGH RESOLUTION STEREO CAMERA"
MISSION_NAME = "MARS EXPRESS"
MISSION_PHASE_NAME = ME_Phase_35
PROCESSING_LEVEL_ID = 3
PRODUCT_CREATION_TIME = 2017-06-30T05:49:47.000Z
PRODUCT_ID = "HG193_0000_GR3.JP2"
RELEASE_ID = 0136
REVISION_ID = 0000
/* QUALITY DATA ELEMENTS */
DATA_QUALITY_ID = 1
DATA_QUALITY_DESC = "Data calculated based on original SPICE kernels"
/* TIME DATA ELEMENTS */
SPACECRAFT_CLOCK_START_COUNT = "1/0424360374.09035"
SPACECRAFT_CLOCK_STOP_COUNT = "1/0424361313.55401"
START_TIME = 2016-10-12T13:55:42.796Z
STOP_TIME = 2016-10-12T14:05:44.999Z
/* ORBITAL DATA ELEMENTS */
ASCENDING_NODE_LONGITUDE = 269.76
MAXIMUM_RESOLUTION = 389.7
FOOTPRINT_POINT_LATITUDE = (52.8293,52.8594,52.8936,52.9082, 52.9143,52.9123,52.4168,51.9166,51.4199 ,50.9268,50.4371,49.9505,49.4679, 48.9888,48.5132,48.041,47.572,47.1065, 46.6441,46.1852,45.7294,45.2769,44.8275 ,44.3812,43.9381,43.4981,43.0613, 42.6277,42.1972,41.7696,41.3452,40.9238 ,40.5054,40.0899,39.6773,39.2676, 38.8608,38.4566,38.0555,37.2616,36.4784 ,35.7063,34.9444,34.1934,33.4524, 32.7214,32.0001,31.6305,31.6762,31.7191 ,31.7592,31.8008,31.8349,31.8624, 31.8914,31.9268,31.9492,31.9734,31.9895 ,32.0053,32.6935,33.3923,34.1012,34.821 ,35.5514,36.2927,37.045,37.809,38.5848, 39.3724,40.1723,40.577,40.985,41.3961, 41.8104,42.2277,42.6484,43.0717,43.4984 ,43.9283,44.3616,44.798,45.2377,45.6808 ,46.1273,46.5772,47.0306,47.4874, 47.9478,48.4112,48.8783,49.349,49.8231, 50.3009,50.7823,51.2673,51.7559,52.2481 ,52.744,52.8293)
FOOTPRINT_POINT_LONGITUDE = (261.243,262.147,263.571,264.605, 265.641,266.615,267.248,267.277,267.305 ,267.332,267.357,267.381,267.404, 267.427,267.449,267.469,267.489,267.508 ,267.525,267.542,267.559,267.574, 267.588,267.601,267.614,267.626,267.638 ,267.649,267.659,267.669,267.679, 267.688,267.697,267.705,267.713,267.721 ,267.728,267.734,267.74,267.751,267.761 ,267.77,267.776,267.783,267.789,267.793 ,267.796,267.411,266.772,266.134, 265.498,264.782,264.146,263.59,262.954, 262.076,261.438,260.639,259.997,259.299 ,259.379,259.457,259.533,259.606, 259.677,259.747,259.814,259.878,259.938 ,259.996,260.049,260.074,260.097, 260.119,260.14,260.16,260.179,260.198, 260.215,260.231,260.246,260.26,260.272, 260.283,260.293,260.3,260.306,260.311, 260.313,260.314,260.314,260.311,260.306 ,260.298,260.289,260.277,260.262, 260.245,260.225,261.243)
ORBIT_NUMBER = 16193
ORBITAL_ECCENTRICITY = 0.572
ORBITAL_INCLINATION = 86.95
ORBITAL_SEMIMAJOR_AXIS = 8778.66
PERIAPSIS_ALTITUDE = 381.86
PERIAPSIS_ARGUMENT_ANGLE = 68.17
PERIAPSIS_TIME = 2016-10-12T13:37:52.000Z
SPACECRAFT_ORIENTATION = (0.0,1.0,0.0)
^MEX_ORIENTATION_DESC = "MEX_ORIENTATION_DESC.TXT"
SPACECRAFT_POINTING_MODE = NADIR
^MEX_POINTING_DESC = "MEX_POINTING_DESC.TXT"
RIGHT_ASCENSION = -1e+32
DECLINATION = -1e+32
OFFSET_ANGLE = -1e+32
SPACECRAFT_SOLAR_DISTANCE = 2.06943e+08
TARGET_NAME = MARS
/* CAMERA DATA ELEMENTS */
DETECTOR_TEMPERATURE = 18.3705
FOCAL_PLANE_TEMPERATURE = 8.5833
INST_CMPRS_NAME = "DISCRETE COSINE TRANSFORMATION (DCT)"
INST_CMPRS_RATIO = 11.8772
INST_CMPRS_QUALITY = 0
INST_CMPRS_QUANTZ_TBL_ID = 0
INSTRUMENT_TEMPERATURE = 11.234
LENS_TEMPERATURE = 8.5833
MACROPIXEL_SIZE = 8
MISSING_FRAMES = 0
PIXEL_SUBSAMPLING_FLAG = N
SIGNAL_CHAIN_ID = 2
/* RADIOMETRIC DATA ELEMENTS */
BANDWIDTH = 88.0
CENTER_FILTER_WAVELENGTH = 538.0
RADIANCE_OFFSET = 0.966313
RADIANCE_SCALING_FACTOR = 0.00790241
REFLECTANCE_SCALING_FACTOR = 0.000291373
MEX:REFLECTANCE_OFFSET = 0.0356292
/* IMAGE OBJECT DEFINITIONS */
OBJECT = IMAGE
  INTERCHANGE_FORMAT = BINARY
  LINES = 3159
  LINE_SAMPLES = 1044
  SAMPLE_TYPE = UNSIGNED_INTEGER
  SAMPLE_BITS = 8
  BANDS = 1
  BAND_STORAGE_TYPE = BAND_SEQUENTIAL
  MAXIMUM = 255
  MEAN = 156.265
  MINIMUM = 1
  STANDARD_DEVIATION = 40.9433
END_OBJECT = IMAGE
/* MAP OBJECT DEFINITIONS */
OBJECT = IMAGE_MAP_PROJECTION
  ^DATA_SET_MAP_PROJECTION_CATALOG= "DSMAP.CAT"
  A_AXIS_RADIUS = 3396.0
  B_AXIS_RADIUS = 3396.0
  C_AXIS_RADIUS = 3396.0
  CENTER_LATITUDE = 0.0
  CENTER_LONGITUDE = 264.0
  COORDINATE_SYSTEM_NAME = PLANETOGRAPHIC
  COORDINATE_SYSTEM_TYPE = "BODY-FIXED ROTATING"
  EASTERNMOST_LONGITUDE = 267.796
  FIRST_STANDARD_PARALLEL = "N/A"
  LINE_FIRST_PIXEL = 1
  LINE_LAST_PIXEL = 3159
  LINE_PROJECTION_OFFSET = 7846.0625
  MAP_PROJECTION_ROTATION = 0.0
  MAP_PROJECTION_TYPE = SINUSOIDAL
  MAP_RESOLUTION = 148.178450966667
  MAP_SCALE = 0.4
  MAXIMUM_LATITUDE = 52.9143
  MINIMUM_LATITUDE = 31.6305
  POSITIVE_LONGITUDE_DIRECTION = EAST
  REFERENCE_LATITUDE = "N/A"
  REFERENCE_LONGITUDE = "N/A"
  SAMPLE_FIRST_PIXEL = 1
  SAMPLE_LAST_PIXEL = 1044
  SAMPLE_PROJECTION_OFFSET = 572.4375
  SECOND_STANDARD_PARALLEL = "N/A"
  WESTERNMOST_LONGITUDE = 259.299
END_OBJECT = IMAGE_MAP_PROJECTION
/* The JPEG2000 image data file associated with this label. */
OBJECT = COMPRESSED_FILE
  FILE_NAME = "HG193_0000_GR3.JP2"
  RECORD_TYPE = UNDEFINED
  FILE_RECORDS = UNK
  ENCODING_TYPE = "JP2"
  INTERCHANGE_FORMAT = BINARY
  UNCOMPRESSED_FILE_NAME = "HG193_0000_GR3.IMG"
  REQUIRED_STORAGE_BYTES = "3315744"
  ^DESCRIPTION = "JP2INFO.TXT"
END_OBJECT = COMPRESSED_FILE
END
