PDS_VERSION_ID = PDS3
/* FILE DATA ELEMENTS */
RECORD_TYPE = STREAM
/* POINTERS TO DATA OBJECTS */
^COMPRESSED_FILE = "HG193_0000_ND3.JP2"
/* IDENTIFICATION DATA ELEMENTS */
DATA_SET_ID = "MEX-M-HRSC-5-REFDR-MAPPROJECTED-V3.0"
DATA_SET_NAME = "MARS EXPRESS HRSC MAP PROJECTED REFDR V3.0"
DETECTOR_ID = MEX_HRSC_NADIR
EVENT_TYPE = "MARS-REGIONAL-MAPPING-Vo-Te"
INSTRUMENT_HOST_ID = MEX
INSTRUMENT_HOST_NAME = "MARS EXPRESS"
INSTRUMENT_ID = HRSC
INSTRUMENT_NAME = "HIGH RESOLUTION STEREO CAMERA"
MISSION_NAME = "MARS EXPRESS"
MISSION_PHASE_NAME = ME_Phase_35
PROCESSING_LEVEL_ID = 3
PRODUCT_CREATION_TIME = 2017-06-30T05:49:47.000Z
PRODUCT_ID = "HG193_0000_ND3.JP2"
RELEASE_ID = 0136
REVISION_ID = 0000
/* QUALITY DATA ELEMENTS */
DATA_QUALITY_ID = 1
DATA_QUALITY_DESC = "Data calculated based on original SPICE kernels"
/* TIME DATA ELEMENTS */
SPACECRAFT_CLOCK_START_COUNT = "1/0424360374.09035"
SPACECRAFT_CLOCK_STOP_COUNT = "1/0424361313.55401"
START_TIME = 2016-10-12T13:55:14.656Z
STOP_TIME = 2016-10-12T14:04:38.650Z
/* ORBITAL DATA ELEMENTS */
ASCENDING_NODE_LONGITUDE = 269.76
MAXIMUM_RESOLUTION = 47.2
FOOTPRINT_POINT_LATITUDE = (52.8428,52.8844,52.9312,52.9452, 52.9544,52.9479,52.4525,51.9603,51.4712 ,50.9851,50.5022,50.0222,49.5453, 49.0714,48.6005,48.1325,47.6676,47.2055 ,46.7465,46.2903,45.837,45.3866,44.9391 ,44.4944,44.0525,43.6135,43.1772, 42.7437,42.3129,41.8849,41.4595,41.0368 ,40.6168,40.1994,39.7846,39.3725, 38.9629,38.556,37.7496,36.9533,36.1668, 35.39,34.6231,33.865,33.1164,32.3769, 31.6464,31.6737,31.721,31.7817,31.8067, 31.8371,31.8578,31.8826,31.904,31.9243, 31.9372,31.9475,31.9562,32.1367,32.8454 ,33.5636,34.2915,35.0291,35.7768, 36.5345,37.3026,38.081,38.87,39.6697, 40.0736,40.4803,40.8896,41.3017,41.7166 ,42.1343,42.5549,42.9783,43.4046, 43.8338,44.2658,44.7009,45.1388,45.5797 ,46.0236,46.4705,46.9203,47.3732,47.829 ,48.288,48.7501,49.2152,49.6834,50.1547 ,50.6291,51.1067,51.5874,52.0712, 52.5583,52.8428)
FOOTPRINT_POINT_LONGITUDE = (260.972,262.037,263.768,264.634, 266.169,267.187,267.217,267.245,267.271 ,267.297,267.32,267.342,267.363,267.384 ,267.405,267.424,267.442,267.46,267.476 ,267.491,267.506,267.52,267.532,267.544 ,267.556,267.566,267.576,267.585, 267.594,267.603,267.611,267.619,267.626 ,267.632,267.639,267.644,267.65,267.654 ,267.663,267.67,267.675,267.679,267.679 ,267.684,267.684,267.684,267.683, 267.199,266.473,265.426,264.943,264.301 ,263.819,263.175,262.531,261.806, 261.241,260.675,260.027,259.519,259.595 ,259.669,259.741,259.81,259.878,259.942 ,260.005,260.064,260.12,260.171,260.195 ,260.219,260.241,260.261,260.28,260.299 ,260.316,260.332,260.349,260.363, 260.376,260.389,260.4,260.409,260.417, 260.423,260.427,260.431,260.432,260.432 ,260.43,260.426,260.42,260.412,260.402, 260.39,260.375,260.357,260.337,260.972)
ORBIT_NUMBER = 16193
ORBITAL_ECCENTRICITY = 0.572
ORBITAL_INCLINATION = 86.95
ORBITAL_SEMIMAJOR_AXIS = 8778.66
PERIAPSIS_ALTITUDE = 381.86
PERIAPSIS_ARGUMENT_ANGLE = 68.17
PERIAPSIS_TIME = 2016-10-12T13:37:52.000Z
SPACECRAFT_ORIENTATION = (0.0,1.0,0.0)
^MEX_ORIENTATION_DESC = "MEX_ORIENTATION_DESC.TXT"
SPACECRAFT_POINTING_MODE = NADIR
^MEX_POINTING_DESC = "MEX_POINTING_DESC.TXT"
RIGHT_ASCENSION = -1e+32
DECLINATION = -1e+32
OFFSET_ANGLE = -1e+32
SPACECRAFT_SOLAR_DISTANCE = 2.06943e+08
TARGET_NAME = MARS
/* CAMERA DATA ELEMENTS */
DETECTOR_TEMPERATURE = 18.3705
FOCAL_PLANE_TEMPERATURE = 8.5833
INST_CMPRS_NAME = "DISCRETE COSINE TRANSFORMATION (DCT)"
INST_CMPRS_RATIO = 7.32506
INST_CMPRS_QUALITY = 0
INST_CMPRS_QUANTZ_TBL_ID = 0
INSTRUMENT_TEMPERATURE = 11.234
LENS_TEMPERATURE = 8.5833
MACROPIXEL_SIZE = 1
MISSING_FRAMES = 0
PIXEL_SUBSAMPLING_FLAG = N
SIGNAL_CHAIN_ID = 0
/* RADIOMETRIC DATA ELEMENTS */
BANDWIDTH = 177.0
CENTER_FILTER_WAVELENGTH = 677.5
RADIANCE_OFFSET = 1.97343
RADIANCE_SCALING_FACTOR = 0.0321939
REFLECTANCE_SCALING_FACTOR = 0.000732414
MEX:REFLECTANCE_OFFSET = 0.0448956
/* IMAGE OBJECT DEFINITIONS */
OBJECT = IMAGE
  INTERCHANGE_FORMAT = BINARY
  LINES = 25265
  LINE_SAMPLES = 8349
  SAMPLE_TYPE = UNSIGNED_INTEGER
  SAMPLE_BITS = 8
  BANDS = 1
  BAND_STORAGE_TYPE = BAND_SEQUENTIAL
  MAXIMUM = 255
  MEAN = 137.917
  MINIMUM = 1
  STANDARD_DEVIATION = 47.2402
END_OBJECT = IMAGE
/* MAP OBJECT DEFINITIONS */
OBJECT = IMAGE_MAP_PROJECTION
  ^DATA_SET_MAP_PROJECTION_CATALOG= "DSMAP.CAT"
  A_AXIS_RADIUS = 3396.0
  B_AXIS_RADIUS = 3396.0
  C_AXIS_RADIUS = 3396.0
  CENTER_LATITUDE = 0.0
  CENTER_LONGITUDE = 264.0
  COORDINATE_SYSTEM_NAME = PLANETOGRAPHIC
  COORDINATE_SYSTEM_TYPE = "BODY-FIXED ROTATING"
  EASTERNMOST_LONGITUDE = 267.684
  FIRST_STANDARD_PARALLEL = "N/A"
  LINE_FIRST_PIXEL = 1
  LINE_LAST_PIXEL = 25265
  LINE_PROJECTION_OFFSET = 62772.0
  MAP_PROJECTION_ROTATION = 0.0
  MAP_PROJECTION_TYPE = SINUSOIDAL
  MAP_RESOLUTION = 1185.42760773333
  MAP_SCALE = 0.05
  MAXIMUM_LATITUDE = 52.9544
  MINIMUM_LATITUDE = 31.6464
  POSITIVE_LONGITUDE_DIRECTION = EAST
  REFERENCE_LATITUDE = "N/A"
  REFERENCE_LONGITUDE = "N/A"
  SAMPLE_FIRST_PIXEL = 1
  SAMPLE_LAST_PIXEL = 8349
  SAMPLE_PROJECTION_OFFSET = 4583.0
  SECOND_STANDARD_PARALLEL = "N/A"
  WESTERNMOST_LONGITUDE = 259.519
END_OBJECT = IMAGE_MAP_PROJECTION
/* The JPEG2000 image data file associated with this label. */
OBJECT = COMPRESSED_FILE
  FILE_NAME = "HG193_0000_ND3.JP2"
  RECORD_TYPE = UNDEFINED
  FILE_RECORDS = UNK
  ENCODING_TYPE = "JP2"
  INTERCHANGE_FORMAT = BINARY
  UNCOMPRESSED_FILE_NAME = "HG193_0000_ND3.IMG"
  REQUIRED_STORAGE_BYTES = "210970881"
  ^DESCRIPTION = "JP2INFO.TXT"
END_OBJECT = COMPRESSED_FILE
END
