PDS_VERSION_ID = PDS3
/* FILE DATA ELEMENTS */
RECORD_TYPE = STREAM
/* POINTERS TO DATA OBJECTS */
^COMPRESSED_FILE = "HG200_0000_BL3.JP2"
/* IDENTIFICATION DATA ELEMENTS */
DATA_SET_ID = "MEX-M-HRSC-5-REFDR-MAPPROJECTED-V3.0"
DATA_SET_NAME = "MARS EXPRESS HRSC MAP PROJECTED REFDR V3.0"
DETECTOR_ID = MEX_HRSC_BLUE
EVENT_TYPE = "MARS-REGIONAL-MAPPING-Vo-Te-Pf"
INSTRUMENT_HOST_ID = MEX
INSTRUMENT_HOST_NAME = "MARS EXPRESS"
INSTRUMENT_ID = HRSC
INSTRUMENT_NAME = "HIGH RESOLUTION STEREO CAMERA"
MISSION_NAME = "MARS EXPRESS"
MISSION_PHASE_NAME = ME_Phase_35
PROCESSING_LEVEL_ID = 3
PRODUCT_CREATION_TIME = 2017-06-30T05:49:47.000Z
PRODUCT_ID = "HG200_0000_BL3.JP2"
RELEASE_ID = 0136
REVISION_ID = 0000
/* QUALITY DATA ELEMENTS */
DATA_QUALITY_ID = 1
DATA_QUALITY_DESC = "Data calculated based on original SPICE kernels"
/* TIME DATA ELEMENTS */
SPACECRAFT_CLOCK_START_COUNT = "1/0424536685.07337"
SPACECRAFT_CLOCK_STOP_COUNT = "1/0424537555.08582"
START_TIME = 2016-10-14T14:53:24.481Z
STOP_TIME = 2016-10-14T15:02:28.606Z
/* ORBITAL DATA ELEMENTS */
ASCENDING_NODE_LONGITUDE = 269.63
MAXIMUM_RESOLUTION = 378.6
FOOTPRINT_POINT_LATITUDE = (52.8199,52.8628,52.8929,52.919,52.936, 52.9441,52.9441,52.6749,52.1862,51.7004 ,51.2171,50.7372,50.2596,49.7847, 49.3124,48.8429,48.3759,47.9117,47.4501 ,46.9913,46.5351,46.0816,45.6309, 45.1828,44.7374,44.2949,43.855,43.4179, 42.9826,42.5508,42.1195,41.6923,41.0546 ,40.6329,40.2136,39.7969,39.3826, 38.9704,38.5608,38.1535,37.3459,36.5476 ,35.7579,34.9776,34.2054,33.4418, 32.6871,31.9406,31.5785,31.6191,31.6517 ,31.691,31.7157,31.7373,31.7556,31.777, 31.7884,31.7951,31.7986,31.9796,32.7012 ,33.4316,34.171,34.9196,35.6772,36.4442 ,37.2206,38.0067,38.8026,39.6084, 40.0151,40.4244,40.8359,41.25,41.6668, 42.0861,42.5079,42.9322,43.3593,43.7891 ,44.2213,44.6564,45.0942,45.5347, 45.9778,46.4238,46.8725,47.3237,47.7779 ,48.2347,48.6942,49.1566,49.6218, 50.0899,50.5607,51.0343,51.5109,51.9903 ,52.4726,52.8199)
FOOTPRINT_POINT_LONGITUDE = (264.679,265.681,266.559,267.563, 268.567,269.573,270.393,270.929,270.955 ,270.979,271.003,271.025,271.046, 271.066,271.085,271.103,271.121,271.137 ,271.153,271.167,271.181,271.194, 271.206,271.216,271.226,271.235,271.243 ,271.25,271.258,271.263,271.271,271.276 ,271.285,271.289,271.294,271.297,271.3, 271.303,271.305,271.307,271.309,271.309 ,271.309,271.306,271.304,271.3,271.294, 271.288,270.473,269.799,269.202,268.383 ,267.787,267.191,266.594,265.697, 265.024,264.424,263.824,263.341,263.417 ,263.492,263.563,263.632,263.699, 263.762,263.823,263.88,263.934,263.985, 264.009,264.032,264.054,264.075,264.095 ,264.114,264.131,264.148,264.163, 264.177,264.19,264.201,264.212,264.221, 264.228,264.234,264.239,264.242,264.243 ,264.242,264.24,264.235,264.229,264.221 ,264.21,264.198,264.183,264.166,264.146 ,264.679)
ORBIT_NUMBER = 16200
ORBITAL_ECCENTRICITY = 0.572
ORBITAL_INCLINATION = 86.95
ORBITAL_SEMIMAJOR_AXIS = 8780.25
PERIAPSIS_ALTITUDE = 381.38
PERIAPSIS_ARGUMENT_ANGLE = 66.97
PERIAPSIS_TIME = 2016-10-14T14:36:00.000Z
SPACECRAFT_ORIENTATION = (0.0,1.0,0.0)
^MEX_ORIENTATION_DESC = "MEX_ORIENTATION_DESC.TXT"
SPACECRAFT_POINTING_MODE = NADIR
^MEX_POINTING_DESC = "MEX_POINTING_DESC.TXT"
RIGHT_ASCENSION = -1e+32
DECLINATION = -1e+32
OFFSET_ANGLE = -1e+32
SPACECRAFT_SOLAR_DISTANCE = 2.06873e+08
TARGET_NAME = MARS
/* CAMERA DATA ELEMENTS */
DETECTOR_TEMPERATURE = 17.9627
FOCAL_PLANE_TEMPERATURE = 8.1755
INST_CMPRS_NAME = "DISCRETE COSINE TRANSFORMATION (DCT)"
INST_CMPRS_RATIO = 11.2242
INST_CMPRS_QUALITY = 0
INST_CMPRS_QUANTZ_TBL_ID = 0
INSTRUMENT_TEMPERATURE = 11.0301
LENS_TEMPERATURE = 8.1755
MACROPIXEL_SIZE = 8
MISSING_FRAMES = 0
PIXEL_SUBSAMPLING_FLAG = N
SIGNAL_CHAIN_ID = 2
/* RADIOMETRIC DATA ELEMENTS */
BANDWIDTH = 76.0
CENTER_FILTER_WAVELENGTH = 444.0
RADIANCE_OFFSET = 0.585476
RADIANCE_SCALING_FACTOR = 0.00290825
REFLECTANCE_SCALING_FACTOR = 0.000127877
MEX:REFLECTANCE_OFFSET = 0.0257436
/* IMAGE OBJECT DEFINITIONS */
OBJECT = IMAGE
  INTERCHANGE_FORMAT = BINARY
  LINES = 3180
  LINE_SAMPLES = 1078
  SAMPLE_TYPE = UNSIGNED_INTEGER
  SAMPLE_BITS = 8
  BANDS = 1
  BAND_STORAGE_TYPE = BAND_SEQUENTIAL
  MAXIMUM = 255
  MEAN = 104.738
  MINIMUM = 1
  STANDARD_DEVIATION = 35.1831
END_OBJECT = IMAGE
/* MAP OBJECT DEFINITIONS */
OBJECT = IMAGE_MAP_PROJECTION
  ^DATA_SET_MAP_PROJECTION_CATALOG= "DSMAP.CAT"
  A_AXIS_RADIUS = 3396.0
  B_AXIS_RADIUS = 3396.0
  C_AXIS_RADIUS = 3396.0
  CENTER_LATITUDE = 0.0
  CENTER_LONGITUDE = 268.0
  COORDINATE_SYSTEM_NAME = PLANETOGRAPHIC
  COORDINATE_SYSTEM_TYPE = "BODY-FIXED ROTATING"
  EASTERNMOST_LONGITUDE = 271.309
  FIRST_STANDARD_PARALLEL = "N/A"
  LINE_FIRST_PIXEL = 1
  LINE_LAST_PIXEL = 3180
  LINE_PROJECTION_OFFSET = 7842.9375
  MAP_PROJECTION_ROTATION = 0.0
  MAP_PROJECTION_TYPE = SINUSOIDAL
  MAP_RESOLUTION = 148.178450966667
  MAP_SCALE = 0.4
  MAXIMUM_LATITUDE = 52.9441
  MINIMUM_LATITUDE = 31.5785
  POSITIVE_LONGITUDE_DIRECTION = EAST
  REFERENCE_LATITUDE = "N/A"
  REFERENCE_LONGITUDE = "N/A"
  SAMPLE_FIRST_PIXEL = 1
  SAMPLE_LAST_PIXEL = 1078
  SAMPLE_PROJECTION_OFFSET = 618.5625
  SECOND_STANDARD_PARALLEL = "N/A"
  WESTERNMOST_LONGITUDE = 263.341
END_OBJECT = IMAGE_MAP_PROJECTION
/* The JPEG2000 image data file associated with this label. */
OBJECT = COMPRESSED_FILE
  FILE_NAME = "HG200_0000_BL3.JP2"
  RECORD_TYPE = UNDEFINED
  FILE_RECORDS = UNK
  ENCODING_TYPE = "JP2"
  INTERCHANGE_FORMAT = BINARY
  UNCOMPRESSED_FILE_NAME = "HG200_0000_BL3.IMG"
  REQUIRED_STORAGE_BYTES = "3446366"
  ^DESCRIPTION = "JP2INFO.TXT"
END_OBJECT = COMPRESSED_FILE
END
