PDS_VERSION_ID = PDS3
/* FILE DATA ELEMENTS */
RECORD_TYPE = STREAM
/* POINTERS TO DATA OBJECTS */
^COMPRESSED_FILE = "HG207_0000_BL3.JP2"
/* IDENTIFICATION DATA ELEMENTS */
DATA_SET_ID = "MEX-M-HRSC-5-REFDR-MAPPROJECTED-V3.0"
DATA_SET_NAME = "MARS EXPRESS HRSC MAP PROJECTED REFDR V3.0"
DETECTOR_ID = MEX_HRSC_BLUE
EVENT_TYPE = "MARS-REGIONAL-MAPPING-Vo-Te-Pf"
INSTRUMENT_HOST_ID = MEX
INSTRUMENT_HOST_NAME = "MARS EXPRESS"
INSTRUMENT_ID = HRSC
INSTRUMENT_NAME = "HIGH RESOLUTION STEREO CAMERA"
MISSION_NAME = "MARS EXPRESS"
MISSION_PHASE_NAME = ME_Phase_35
PROCESSING_LEVEL_ID = 3
PRODUCT_CREATION_TIME = 2017-06-30T09:33:55.000Z
PRODUCT_ID = "HG207_0000_BL3.JP2"
RELEASE_ID = 0137
REVISION_ID = 0000
/* QUALITY DATA ELEMENTS */
DATA_QUALITY_ID = 1
DATA_QUALITY_DESC = "Data calculated based on original SPICE kernels"
/* TIME DATA ELEMENTS */
SPACECRAFT_CLOCK_START_COUNT = "1/0424712994.09058"
SPACECRAFT_CLOCK_STOP_COUNT = "1/0424713850.11879"
START_TIME = 2016-10-16T15:51:58.174Z
STOP_TIME = 2016-10-16T16:01:14.239Z
/* ORBITAL DATA ELEMENTS */
ASCENDING_NODE_LONGITUDE = 269.5
MAXIMUM_RESOLUTION = 390.2
FOOTPRINT_POINT_LATITUDE = (52.8031,52.8493,52.8956,52.921,52.935, 52.9392,52.4212,51.9328,51.4471,50.9645 ,50.4845,50.0075,49.5335,49.0626, 48.5944,48.1285,47.6641,47.2033,46.7452 ,46.2898,45.8372,45.3874,44.9408, 44.4979,44.0581,43.617,43.1807,42.7474, 42.3161,41.6722,41.2468,40.8241,40.4045 ,39.9867,39.5706,39.1577,38.7471, 38.3377,37.9315,37.5275,36.727,35.9361, 35.1536,34.3801,33.6161,32.861,32.1138, 31.4317,31.4797,31.5268,31.5653,31.5952 ,31.6189,31.6427,31.6722,31.6939, 31.7031,31.7104,31.716,32.4321,33.157, 33.8909,34.634,35.3863,36.148,36.9191, 37.6999,38.4907,38.8897,39.2913,39.6954 ,40.1021,40.5112,40.9231,41.3374, 41.7544,42.1738,42.596,43.0207,43.4479, 43.8778,44.3106,44.746,45.1841,45.6252, 46.069,46.5156,46.9651,47.4173,47.8724, 48.3304,48.7912,49.255,49.7213,50.1905, 50.6622,51.1368,51.6146,52.0953, 52.8031)
FOOTPRINT_POINT_LONGITUDE = (268.208,269.241,270.598,271.697, 272.732,274.029,274.855,274.879,274.903 ,274.925,274.946,274.965,274.983, 274.999,275.015,275.03,275.048,275.062, 275.076,275.088,275.1,275.111,275.12, 275.125,275.13,275.141,275.148,275.153, 275.158,275.168,275.173,275.177,275.179 ,275.182,275.186,275.188,275.189, 275.193,275.194,275.195,275.195,275.194 ,275.191,275.187,275.181,275.173, 275.165,274.94,274.246,273.476,272.786, 272.173,271.636,271.023,270.101,269.178 ,268.639,268.022,266.963,267.043, 267.121,267.196,267.269,267.339,267.406 ,267.47,267.531,267.589,267.617,267.644 ,267.669,267.694,267.718,267.742, 267.763,267.784,267.804,267.823,267.84, 267.856,267.87,267.884,267.896,267.907, 267.916,267.924,267.931,267.936,267.94, 267.942,267.942,267.941,267.938,267.932 ,267.924,267.913,267.9,267.885,267.867, 268.208)
ORBIT_NUMBER = 16207
ORBITAL_ECCENTRICITY = 0.572
ORBITAL_INCLINATION = 86.95
ORBITAL_SEMIMAJOR_AXIS = 8781.87
PERIAPSIS_ALTITUDE = 380.93
PERIAPSIS_ARGUMENT_ANGLE = 65.77
PERIAPSIS_TIME = 2016-10-16T15:34:07.000Z
SPACECRAFT_ORIENTATION = (0.0,1.0,0.0)
^MEX_ORIENTATION_DESC = "MEX_ORIENTATION_DESC.TXT"
SPACECRAFT_POINTING_MODE = NADIR
^MEX_POINTING_DESC = "MEX_POINTING_DESC.TXT"
RIGHT_ASCENSION = -1e+32
DECLINATION = -1e+32
OFFSET_ANGLE = -1e+32
SPACECRAFT_SOLAR_DISTANCE = 2.06811e+08
TARGET_NAME = MARS
/* CAMERA DATA ELEMENTS */
DETECTOR_TEMPERATURE = 18.3705
FOCAL_PLANE_TEMPERATURE = 7.7677
INST_CMPRS_NAME = "DISCRETE COSINE TRANSFORMATION (DCT)"
INST_CMPRS_RATIO = 11.8399
INST_CMPRS_QUALITY = 0
INST_CMPRS_QUANTZ_TBL_ID = 0
INSTRUMENT_TEMPERATURE = 11.234
LENS_TEMPERATURE = 8.7872
MACROPIXEL_SIZE = 8
MISSING_FRAMES = 0
PIXEL_SUBSAMPLING_FLAG = N
SIGNAL_CHAIN_ID = 2
/* RADIOMETRIC DATA ELEMENTS */
BANDWIDTH = 76.0
CENTER_FILTER_WAVELENGTH = 444.0
RADIANCE_OFFSET = 0.646811
RADIANCE_SCALING_FACTOR = 0.00233972
REFLECTANCE_SCALING_FACTOR = 0.000102817
MEX:REFLECTANCE_OFFSET = 0.0284237
/* IMAGE OBJECT DEFINITIONS */
OBJECT = IMAGE
  INTERCHANGE_FORMAT = BINARY
  LINES = 3195
  LINE_SAMPLES = 1108
  SAMPLE_TYPE = UNSIGNED_INTEGER
  SAMPLE_BITS = 8
  BANDS = 1
  BAND_STORAGE_TYPE = BAND_SEQUENTIAL
  MAXIMUM = 255
  MEAN = 102.828
  MINIMUM = 1
  STANDARD_DEVIATION = 30.1166
END_OBJECT = IMAGE
/* MAP OBJECT DEFINITIONS */
OBJECT = IMAGE_MAP_PROJECTION
  ^DATA_SET_MAP_PROJECTION_CATALOG= "DSMAP.CAT"
  A_AXIS_RADIUS = 3396.0
  B_AXIS_RADIUS = 3396.0
  C_AXIS_RADIUS = 3396.0
  CENTER_LATITUDE = 0.0
  CENTER_LONGITUDE = 272.0
  COORDINATE_SYSTEM_NAME = PLANETOGRAPHIC
  COORDINATE_SYSTEM_TYPE = "BODY-FIXED ROTATING"
  EASTERNMOST_LONGITUDE = 275.195
  FIRST_STANDARD_PARALLEL = "N/A"
  LINE_FIRST_PIXEL = 1
  LINE_LAST_PIXEL = 3195
  LINE_PROJECTION_OFFSET = 7843.6875
  MAP_PROJECTION_ROTATION = 0.0
  MAP_PROJECTION_TYPE = SINUSOIDAL
  MAP_RESOLUTION = 148.178450966667
  MAP_SCALE = 0.4
  MAXIMUM_LATITUDE = 52.9392
  MINIMUM_LATITUDE = 31.4317
  POSITIVE_LONGITUDE_DIRECTION = EAST
  REFERENCE_LATITUDE = "N/A"
  REFERENCE_LONGITUDE = "N/A"
  SAMPLE_FIRST_PIXEL = 1
  SAMPLE_LAST_PIXEL = 1108
  SAMPLE_PROJECTION_OFFSET = 663.8125
  SECOND_STANDARD_PARALLEL = "N/A"
  WESTERNMOST_LONGITUDE = 266.963
END_OBJECT = IMAGE_MAP_PROJECTION
/* The JPEG2000 image data file associated with this label. */
OBJECT = COMPRESSED_FILE
  FILE_NAME = "HG207_0000_BL3.JP2"
  RECORD_TYPE = UNDEFINED
  FILE_RECORDS = UNK
  ENCODING_TYPE = "JP2"
  INTERCHANGE_FORMAT = BINARY
  UNCOMPRESSED_FILE_NAME = "HG207_0000_BL3.IMG"
  REQUIRED_STORAGE_BYTES = "3558896"
  ^DESCRIPTION = "JP2INFO.TXT"
END_OBJECT = COMPRESSED_FILE
END
