PDS_VERSION_ID = PDS3
/* FILE DATA ELEMENTS */
RECORD_TYPE = STREAM
/* POINTERS TO DATA OBJECTS */
^COMPRESSED_FILE = "HG448_0000_ND3.JP2"
/* IDENTIFICATION DATA ELEMENTS */
DATA_SET_ID = "MEX-M-HRSC-5-REFDR-MAPPROJECTED-V3.0"
DATA_SET_NAME = "MARS EXPRESS HRSC MAP PROJECTED REFDR V3.0"
DETECTOR_ID = MEX_HRSC_NADIR
EVENT_TYPE = "MARS-TERMINATOR-CALIBRATION-Tc"
INSTRUMENT_HOST_ID = MEX
INSTRUMENT_HOST_NAME = "MARS EXPRESS"
INSTRUMENT_ID = HRSC
INSTRUMENT_NAME = "HIGH RESOLUTION STEREO CAMERA"
MISSION_NAME = "MARS EXPRESS"
MISSION_PHASE_NAME = ME_Phase_35
PROCESSING_LEVEL_ID = 3
PRODUCT_CREATION_TIME = 2017-06-30T09:33:55.000Z
PRODUCT_ID = "HG448_0000_ND3.JP2"
RELEASE_ID = 0137
REVISION_ID = 0000
/* QUALITY DATA ELEMENTS */
DATA_QUALITY_ID = 1
DATA_QUALITY_DESC = "Data calculated based on original SPICE kernels"
/* TIME DATA ELEMENTS */
SPACECRAFT_CLOCK_START_COUNT = "1/0430793921.07274"
SPACECRAFT_CLOCK_STOP_COUNT = "1/0430794358.64179"
START_TIME = 2016-12-26T01:00:52.617Z
STOP_TIME = 2016-12-26T01:04:02.614Z
/* ORBITAL DATA ELEMENTS */
ASCENDING_NODE_LONGITUDE = 264.98
MAXIMUM_RESOLUTION = 420.8
FOOTPRINT_POINT_LATITUDE = (-15.0018,-15.7817,-16.2947,-16.8026, -17.3054,-17.8032,-18.2963,-18.7849, -19.2692,-19.7494,-20.2257,-20.6982, -21.1672,-21.633,-22.0956,-22.555, -23.0114,-23.4646,-23.9146,-24.3617, -24.8058,-25.686,-26.5558,-27.4157, -28.2657,-28.6871,-29.1061,-29.5229, -29.9376,-30.3504,-30.7614,-31.1704, -31.5774,-31.9821,-32.3847,-32.7852, -33.1838,-33.5807,-33.9757,-34.3689, -34.7599,-35.1486,-35.5348,-35.9186, -36.3,-36.6789,-37.0554,-37.8792, -39.0826,-40.1412,-40.6027,-40.2187, -39.8339,-39.4439,-39.0545,-38.6567, -38.2621,-37.8676,-37.4657,-37.0632, -36.6574,-36.2523,-35.8427,-35.4326, -35.0204,-34.6063,-34.1918,-33.5631, -33.1423,-32.7191,-32.2939,-31.8653, -31.2155,-30.7825,-30.1283,-29.4705, -29.0292,-28.5859,-27.9171,-27.4679, -27.0169,-26.5631,-26.1064,-25.6471, -25.1851,-24.4865,-24.0174,-23.545, -23.0693,-22.5899,-22.1072,-21.6211, -21.1303,-20.6358,-20.136,-19.3769, -18.8674,-17.6642,-16.5097,-15.0018)
FOOTPRINT_POINT_LONGITUDE = (39.8659,40.7947,41.4111,42.0257, 42.6388,43.2506,43.8616,44.4721,45.0823 ,45.6926,46.3032,46.9144,47.5268, 48.1407,48.7564,49.3742,49.9944,50.617, 51.2423,51.8705,52.5019,53.7751,55.0642 ,56.3722,57.7015,58.3745,59.0536, 59.7393,60.432,61.1325,61.8413,62.5585, 63.2842,64.0186,64.7622,65.5155,66.2797 ,67.0555,67.8436,68.6442,69.4575, 70.2838,71.1236,71.9778,72.8472,73.7328 ,74.6355,75.0777,75.2958,75.5131, 74.7079,73.7278,72.7715,71.8311,70.9138 ,70.0058,69.1225,68.2577,67.4021, 66.5631,65.7373,64.9279,64.1285,63.3425 ,62.5675,61.8032,61.0506,59.9381, 59.2089,58.4883,57.7759,57.0709,56.0274 ,55.3414,54.3255,53.3238,52.6633,52.008 ,51.0339,50.3909,49.7502,49.1133, 48.4802,47.8507,47.2253,46.2872,45.6687 ,45.0505,44.4339,43.818,43.2041,42.5923 ,41.9789,41.3665,40.7516,39.826,39.2132 ,39.3052,39.559,39.8659)
ORBIT_NUMBER = 16448
ORBITAL_ECCENTRICITY = 0.576
ORBITAL_INCLINATION = 86.94
ORBITAL_SEMIMAJOR_AXIS = 8846.29
PERIAPSIS_ALTITUDE = 357.55
PERIAPSIS_ARGUMENT_ANGLE = 24.1
PERIAPSIS_TIME = 2016-12-25T21:29:01.000Z
SPACECRAFT_ORIENTATION = (0.0,1.0,0.0)
^MEX_ORIENTATION_DESC = "MEX_ORIENTATION_DESC.TXT"
SPACECRAFT_POINTING_MODE = INERT
^MEX_POINTING_DESC = "MEX_POINTING_DESC.TXT"
RIGHT_ASCENSION = 314.249
DECLINATION = -13.094
OFFSET_ANGLE = -1e+32
SPACECRAFT_SOLAR_DISTANCE = 2.10063e+08
TARGET_NAME = MARS
/* CAMERA DATA ELEMENTS */
DETECTOR_TEMPERATURE = 18.3705
FOCAL_PLANE_TEMPERATURE = 8.5833
INST_CMPRS_NAME = "DISCRETE COSINE TRANSFORMATION (DCT)"
INST_CMPRS_RATIO = 7.4449
INST_CMPRS_QUALITY = 0
INST_CMPRS_QUANTZ_TBL_ID = 0
INSTRUMENT_TEMPERATURE = 11.0301
LENS_TEMPERATURE = 9.195
MACROPIXEL_SIZE = 1
MISSING_FRAMES = 0
PIXEL_SUBSAMPLING_FLAG = N
SIGNAL_CHAIN_ID = 0
/* RADIOMETRIC DATA ELEMENTS */
BANDWIDTH = 177.0
CENTER_FILTER_WAVELENGTH = 677.5
RADIANCE_OFFSET = 1.99354
RADIANCE_SCALING_FACTOR = 0.0300552
REFLECTANCE_SCALING_FACTOR = 0.000704646
MEX:REFLECTANCE_OFFSET = 0.0467388
/* IMAGE OBJECT DEFINITIONS */
OBJECT = IMAGE
  INTERCHANGE_FORMAT = BINARY
  LINES = 3843
  LINE_SAMPLES = 4610
  SAMPLE_TYPE = UNSIGNED_INTEGER
  SAMPLE_BITS = 8
  BANDS = 1
  BAND_STORAGE_TYPE = BAND_SEQUENTIAL
  MAXIMUM = 254
  MEAN = 115.774
  MINIMUM = 1
  STANDARD_DEVIATION = 79.6688
END_OBJECT = IMAGE
/* MAP OBJECT DEFINITIONS */
OBJECT = IMAGE_MAP_PROJECTION
  ^DATA_SET_MAP_PROJECTION_CATALOG= "DSMAP.CAT"
  A_AXIS_RADIUS = 3396.0
  B_AXIS_RADIUS = 3396.0
  C_AXIS_RADIUS = 3396.0
  CENTER_LATITUDE = 0.0
  CENTER_LONGITUDE = 55.0
  COORDINATE_SYSTEM_NAME = PLANETOGRAPHIC
  COORDINATE_SYSTEM_TYPE = "BODY-FIXED ROTATING"
  EASTERNMOST_LONGITUDE = 75.51309999999999
  FIRST_STANDARD_PARALLEL = "N/A"
  LINE_FIRST_PIXEL = 1
  LINE_LAST_PIXEL = 3843
  LINE_PROJECTION_OFFSET = -2219.0
  MAP_PROJECTION_ROTATION = 0.0
  MAP_PROJECTION_TYPE = SINUSOIDAL
  MAP_RESOLUTION = 148.178450966667
  MAP_SCALE = 0.4
  MAXIMUM_LATITUDE = -15.0018
  MINIMUM_LATITUDE = -40.6027
  POSITIVE_LONGITUDE_DIRECTION = EAST
  REFERENCE_LATITUDE = "N/A"
  REFERENCE_LONGITUDE = "N/A"
  SAMPLE_FIRST_PIXEL = 1
  SAMPLE_LAST_PIXEL = 4610
  SAMPLE_PROJECTION_OFFSET = 2253.0
  SECOND_STANDARD_PARALLEL = "N/A"
  WESTERNMOST_LONGITUDE = 39.2132
END_OBJECT = IMAGE_MAP_PROJECTION
/* The JPEG2000 image data file associated with this label. */
OBJECT = COMPRESSED_FILE
  FILE_NAME = "HG448_0000_ND3.JP2"
  RECORD_TYPE = UNDEFINED
  FILE_RECORDS = UNK
  ENCODING_TYPE = "JP2"
  INTERCHANGE_FORMAT = BINARY
  UNCOMPRESSED_FILE_NAME = "HG448_0000_ND3.IMG"
  REQUIRED_STORAGE_BYTES = "17743890"
  ^DESCRIPTION = "JP2INFO.TXT"
END_OBJECT = COMPRESSED_FILE
END
