PDS_VERSION_ID = PDS3
/* FILE DATA ELEMENTS */
RECORD_TYPE = STREAM
/* POINTERS TO DATA OBJECTS */
^COMPRESSED_FILE = "HG455_0000_ND3.JP2"
/* IDENTIFICATION DATA ELEMENTS */
DATA_SET_ID = "MEX-M-HRSC-5-REFDR-MAPPROJECTED-V3.0"
DATA_SET_NAME = "MARS EXPRESS HRSC MAP PROJECTED REFDR V3.0"
DETECTOR_ID = MEX_HRSC_NADIR
EVENT_TYPE = "MARS-TERMINATOR-VARIABLE-Eo-Tc-At"
INSTRUMENT_HOST_ID = MEX
INSTRUMENT_HOST_NAME = "MARS EXPRESS"
INSTRUMENT_ID = HRSC
INSTRUMENT_NAME = "HIGH RESOLUTION STEREO CAMERA"
MISSION_NAME = "MARS EXPRESS"
MISSION_PHASE_NAME = ME_Phase_35
PROCESSING_LEVEL_ID = 3
PRODUCT_CREATION_TIME = 2017-06-30T09:33:55.000Z
PRODUCT_ID = "HG455_0000_ND3.JP2"
RELEASE_ID = 0137
REVISION_ID = 0000
/* QUALITY DATA ELEMENTS */
DATA_QUALITY_ID = 1
DATA_QUALITY_DESC = "Data calculated based on original SPICE kernels"
/* TIME DATA ELEMENTS */
SPACECRAFT_CLOCK_START_COUNT = "1/0430954365.07306"
SPACECRAFT_CLOCK_STOP_COUNT = "1/0430956776.33979"
START_TIME = 2016-12-27T21:55:11.132Z
STOP_TIME = 2016-12-27T22:11:09.015Z
/* ORBITAL DATA ELEMENTS */
ASCENDING_NODE_LONGITUDE = 264.85
MAXIMUM_RESOLUTION = 42.2
FOOTPRINT_POINT_LATITUDE = (-65.7849,-65.8334,-65.8637,-65.8757, -65.8499,-65.8102,-65.6885,-65.5982, -65.4902,-65.3644,-65.1412,-64.5268, -63.9006,-63.2635,-62.6145,-61.954, -61.2815,-60.5972,-59.9013,-59.1933, -58.4732,-57.7409,-56.9962,-56.239, -55.4693,-54.6931,-53.9248,-53.165, -52.4134,-51.6698,-50.9345,-50.2075, -49.4884,-48.7773,-48.0741,-47.3787, -46.6914,-46.0117,-45.3395,-44.6752, -44.0181,-43.3683,-42.7255,-42.0901, -41.4619,-40.8408,-40.2262,-39.0178, -37.8356,-36.6791,-35.5474,-34.4395, -33.3553,-32.2937,-32.2882,-32.2829, -32.2676,-32.7732,-33.8477,-34.9453, -36.0675,-37.2142,-38.3871,-39.5865, -40.8139,-41.4381,-42.0698,-42.7089, -43.3553,-44.0099,-44.6715,-45.341, -46.0191,-46.7053,-47.3997,-48.1027, -48.814,-49.5344,-50.2631,-51.0012, -51.7483,-52.5054,-53.2715,-54.0471, -54.8329,-55.6278,-56.4183,-57.1976, -57.9653,-58.7224,-59.4688,-60.2048, -60.9303,-61.6459,-62.3513,-63.047, -63.7329,-64.4091,-65.077,-65.7849)
FOOTPRINT_POINT_LONGITUDE = (300.925,299.262,297.6,295.94,292.832, 291.182,288.108,286.479,284.86,283.247, 280.864,281.367,281.847,282.309,282.747 ,283.168,283.567,283.949,284.316, 284.667,285.002,285.322,285.628,285.921 ,286.202,286.466,286.714,286.946, 287.163,287.365,287.553,287.73,287.894, 288.049,288.194,288.332,288.461,288.583 ,288.699,288.806,288.906,289.003, 289.094,289.179,289.263,289.34,289.414, 289.551,289.674,289.786,289.886,289.978 ,290.063,290.141,291.262,292.337, 293.456,294.562,294.669,294.782,294.902 ,295.031,295.168,295.315,295.472, 295.554,295.64,295.728,295.826,295.92, 296.022,296.127,296.235,296.348,296.466 ,296.589,296.72,296.855,297.0,297.146, 297.305,297.463,297.636,297.819,298.006 ,298.21,298.42,298.636,298.865,299.096, 299.333,299.577,299.83,300.089,300.36, 300.637,300.928,301.232,301.533, 300.925)
ORBIT_NUMBER = 16455
ORBITAL_ECCENTRICITY = 0.576
ORBITAL_INCLINATION = 86.93
ORBITAL_SEMIMAJOR_AXIS = 8846.99
PERIAPSIS_ALTITUDE = 356.9
PERIAPSIS_ARGUMENT_ANGLE = 22.88
PERIAPSIS_TIME = 2016-12-27T22:27:10.000Z
SPACECRAFT_ORIENTATION = (0.0,1.0,0.0)
^MEX_ORIENTATION_DESC = "MEX_ORIENTATION_DESC.TXT"
SPACECRAFT_POINTING_MODE = NADIR
^MEX_POINTING_DESC = "MEX_POINTING_DESC.TXT"
RIGHT_ASCENSION = -1e+32
DECLINATION = -1e+32
OFFSET_ANGLE = -1e+32
SPACECRAFT_SOLAR_DISTANCE = 2.10301e+08
TARGET_NAME = MARS
/* CAMERA DATA ELEMENTS */
DETECTOR_TEMPERATURE = 18.3705
FOCAL_PLANE_TEMPERATURE = 7.9716
INST_CMPRS_NAME = "DISCRETE COSINE TRANSFORMATION (DCT)"
INST_CMPRS_RATIO = 7.60771
INST_CMPRS_QUALITY = 0
INST_CMPRS_QUANTZ_TBL_ID = 0
INSTRUMENT_TEMPERATURE = 10.6223
LENS_TEMPERATURE = 8.3794
MACROPIXEL_SIZE = 1
MISSING_FRAMES = 0
PIXEL_SUBSAMPLING_FLAG = N
SIGNAL_CHAIN_ID = 0
/* RADIOMETRIC DATA ELEMENTS */
BANDWIDTH = 177.0
CENTER_FILTER_WAVELENGTH = 677.5
RADIANCE_OFFSET = 0.0287881
RADIANCE_SCALING_FACTOR = 0.00956782
REFLECTANCE_SCALING_FACTOR = 0.000224782
MEX:REFLECTANCE_OFFSET = 0.000676336
/* IMAGE OBJECT DEFINITIONS */
OBJECT = IMAGE
  INTERCHANGE_FORMAT = BINARY
  LINES = 39868
  LINE_SAMPLES = 10356
  SAMPLE_TYPE = UNSIGNED_INTEGER
  SAMPLE_BITS = 8
  BANDS = 1
  BAND_STORAGE_TYPE = BAND_SEQUENTIAL
  MAXIMUM = 255
  MEAN = 159.773
  MINIMUM = 1
  STANDARD_DEVIATION = 79.3281
END_OBJECT = IMAGE
/* MAP OBJECT DEFINITIONS */
OBJECT = IMAGE_MAP_PROJECTION
  ^DATA_SET_MAP_PROJECTION_CATALOG= "DSMAP.CAT"
  A_AXIS_RADIUS = 3396.0
  B_AXIS_RADIUS = 3396.0
  C_AXIS_RADIUS = 3396.0
  CENTER_LATITUDE = 0.0
  CENTER_LONGITUDE = 292.0
  COORDINATE_SYSTEM_NAME = PLANETOGRAPHIC
  COORDINATE_SYSTEM_TYPE = "BODY-FIXED ROTATING"
  EASTERNMOST_LONGITUDE = 301.533
  FIRST_STANDARD_PARALLEL = "N/A"
  LINE_FIRST_PIXEL = 1
  LINE_LAST_PIXEL = 39868
  LINE_PROJECTION_OFFSET = -38225.0
  MAP_PROJECTION_ROTATION = 0.0
  MAP_PROJECTION_TYPE = SINUSOIDAL
  MAP_RESOLUTION = 1185.42760773333
  MAP_SCALE = 0.05
  MAXIMUM_LATITUDE = -32.2676
  MINIMUM_LATITUDE = -65.87569999999999
  POSITIVE_LONGITUDE_DIRECTION = EAST
  REFERENCE_LATITUDE = "N/A"
  REFERENCE_LONGITUDE = "N/A"
  SAMPLE_FIRST_PIXEL = 1
  SAMPLE_LAST_PIXEL = 10356
  SAMPLE_PROJECTION_OFFSET = 5544.0
  SECOND_STANDARD_PARALLEL = "N/A"
  WESTERNMOST_LONGITUDE = 280.864
END_OBJECT = IMAGE_MAP_PROJECTION
/* The JPEG2000 image data file associated with this label. */
OBJECT = COMPRESSED_FILE
  FILE_NAME = "HG455_0000_ND3.JP2"
  RECORD_TYPE = UNDEFINED
  FILE_RECORDS = UNK
  ENCODING_TYPE = "JP2"
  INTERCHANGE_FORMAT = BINARY
  UNCOMPRESSED_FILE_NAME = "HG455_0000_ND3.IMG"
  REQUIRED_STORAGE_BYTES = "412904076"
  ^DESCRIPTION = "JP2INFO.TXT"
END_OBJECT = COMPRESSED_FILE
END
