PDS_VERSION_ID = PDS3
/* FILE DATA ELEMENTS */
RECORD_TYPE = STREAM
/* POINTERS TO DATA OBJECTS */
^COMPRESSED_FILE = "HG455_0000_P23.JP2"
/* IDENTIFICATION DATA ELEMENTS */
DATA_SET_ID = "MEX-M-HRSC-5-REFDR-MAPPROJECTED-V3.0"
DATA_SET_NAME = "MARS EXPRESS HRSC MAP PROJECTED REFDR V3.0"
DETECTOR_ID = MEX_HRSC_P2
EVENT_TYPE = "MARS-TERMINATOR-VARIABLE-Eo-Tc-At"
INSTRUMENT_HOST_ID = MEX
INSTRUMENT_HOST_NAME = "MARS EXPRESS"
INSTRUMENT_ID = HRSC
INSTRUMENT_NAME = "HIGH RESOLUTION STEREO CAMERA"
MISSION_NAME = "MARS EXPRESS"
MISSION_PHASE_NAME = ME_Phase_35
PROCESSING_LEVEL_ID = 3
PRODUCT_CREATION_TIME = 2017-06-30T09:33:55.000Z
PRODUCT_ID = "HG455_0000_P23.JP2"
RELEASE_ID = 0137
REVISION_ID = 0000
/* QUALITY DATA ELEMENTS */
DATA_QUALITY_ID = 1
DATA_QUALITY_DESC = "Data calculated based on original SPICE kernels"
/* TIME DATA ELEMENTS */
SPACECRAFT_CLOCK_START_COUNT = "1/0430954365.07306"
SPACECRAFT_CLOCK_STOP_COUNT = "1/0430956776.33979"
START_TIME = 2016-12-27T21:45:15.171Z
STOP_TIME = 2016-12-27T22:09:24.986Z
/* ORBITAL DATA ELEMENTS */
ASCENDING_NODE_LONGITUDE = 264.85
MAXIMUM_RESOLUTION = 198.5
FOOTPRINT_POINT_LATITUDE = (-65.9002,-66.0058,-66.0713,-66.0969, -66.083,-66.0299,-65.9379,-65.8074, -65.6388,-65.4328,-65.1894,-64.909, -64.592,-63.7304,-62.9552,-62.3365, -61.4807,-60.5622,-59.5958,-58.5726, -57.4896,-56.3472,-55.1326,-54.5013, -53.8536,-53.1893,-52.5063,-51.8046, -51.0821,-50.3404,-49.5753,-48.7887, -47.9803,-47.1617,-46.3503,-45.5481, -44.7467,-43.9551,-43.1748,-42.4011, -41.634,-40.875,-40.1244,-39.3822, -38.6485,-37.9225,-36.8419,-35.7942, -35.0977,-34.4115,-33.734,-33.0645, -32.4036,-32.2982,-32.3063,-32.2948, -32.2824,-32.2504,-32.9141,-33.5851, -34.2643,-34.9515,-35.6467,-36.3501, -37.0621,-37.7831,-38.5144,-39.2503, -39.9965,-40.7526,-41.5176,-42.2919, -43.0798,-43.8672,-44.6666,-45.4764, -46.2971,-47.128,-47.9697,-48.801, -49.6137,-50.4004,-51.1744,-51.9317, -52.6722,-53.3809,-54.4364,-55.4353, -56.1046,-56.7416,-57.3606,-57.9647, -59.1391,-60.2606,-61.326,-62.5954, -63.5584,-64.4757,-65.345,-65.9002)
FOOTPRINT_POINT_LONGITUDE = (305.439,303.206,300.97,298.734,296.504 ,294.283,292.078,289.896,287.74,285.613 ,283.518,281.458,279.438,278.937,279.69 ,280.244,280.969,281.672,282.356, 283.017,283.654,284.267,284.851,285.134 ,285.41,285.68,285.943,286.199,286.447, 286.689,286.922,287.147,287.365,287.574 ,287.77,287.954,288.123,288.282,288.432 ,288.573,288.704,288.827,288.942, 289.051,289.153,289.249,289.38,289.507, 289.581,289.653,289.721,289.785,289.847 ,290.69,291.524,292.911,293.652,294.828 ,294.907,294.989,295.075,295.165, 295.259,295.357,295.46,295.567,295.679, 295.798,295.922,296.053,296.19,296.334, 296.483,296.646,296.817,296.997,297.187 ,297.388,297.601,297.826,298.056, 298.296,298.539,298.788,299.043,299.313 ,299.718,300.152,300.436,300.739, 301.053,301.376,302.042,302.745,303.492 ,304.479,305.32,306.209,307.152, 305.439)
ORBIT_NUMBER = 16455
ORBITAL_ECCENTRICITY = 0.576
ORBITAL_INCLINATION = 86.93
ORBITAL_SEMIMAJOR_AXIS = 8846.99
PERIAPSIS_ALTITUDE = 356.9
PERIAPSIS_ARGUMENT_ANGLE = 22.88
PERIAPSIS_TIME = 2016-12-27T22:27:10.000Z
SPACECRAFT_ORIENTATION = (0.0,1.0,0.0)
^MEX_ORIENTATION_DESC = "MEX_ORIENTATION_DESC.TXT"
SPACECRAFT_POINTING_MODE = NADIR
^MEX_POINTING_DESC = "MEX_POINTING_DESC.TXT"
RIGHT_ASCENSION = -1e+32
DECLINATION = -1e+32
OFFSET_ANGLE = -1e+32
SPACECRAFT_SOLAR_DISTANCE = 2.10301e+08
TARGET_NAME = MARS
/* CAMERA DATA ELEMENTS */
DETECTOR_TEMPERATURE = 18.5744
FOCAL_PLANE_TEMPERATURE = 7.9716
INST_CMPRS_NAME = "DISCRETE COSINE TRANSFORMATION (DCT)"
INST_CMPRS_RATIO = 15.3796
INST_CMPRS_QUALITY = 0
INST_CMPRS_QUANTZ_TBL_ID = 0
INSTRUMENT_TEMPERATURE = 10.6223
LENS_TEMPERATURE = 8.3794
MACROPIXEL_SIZE = 4
MISSING_FRAMES = 0
PIXEL_SUBSAMPLING_FLAG = N
SIGNAL_CHAIN_ID = 3
/* RADIOMETRIC DATA ELEMENTS */
BANDWIDTH = 177.0
CENTER_FILTER_WAVELENGTH = 676.5
RADIANCE_OFFSET = 0.0677188
RADIANCE_SCALING_FACTOR = 0.00745993
REFLECTANCE_SCALING_FACTOR = 0.000174927
MEX:REFLECTANCE_OFFSET = 0.00158793
/* IMAGE OBJECT DEFINITIONS */
OBJECT = IMAGE
  INTERCHANGE_FORMAT = BINARY
  LINES = 9967
  LINE_SAMPLES = 2589
  SAMPLE_TYPE = UNSIGNED_INTEGER
  SAMPLE_BITS = 8
  BANDS = 1
  BAND_STORAGE_TYPE = BAND_SEQUENTIAL
  MAXIMUM = 255
  MEAN = 189.461
  MINIMUM = 1
  STANDARD_DEVIATION = 77.6124
END_OBJECT = IMAGE
/* MAP OBJECT DEFINITIONS */
OBJECT = IMAGE_MAP_PROJECTION
  ^DATA_SET_MAP_PROJECTION_CATALOG= "DSMAP.CAT"
  A_AXIS_RADIUS = 3396.0
  B_AXIS_RADIUS = 3396.0
  C_AXIS_RADIUS = 3396.0
  CENTER_LATITUDE = 0.0
  CENTER_LONGITUDE = 292.0
  COORDINATE_SYSTEM_NAME = PLANETOGRAPHIC
  COORDINATE_SYSTEM_TYPE = "BODY-FIXED ROTATING"
  EASTERNMOST_LONGITUDE = 307.152
  FIRST_STANDARD_PARALLEL = "N/A"
  LINE_FIRST_PIXEL = 1
  LINE_LAST_PIXEL = 9967
  LINE_PROJECTION_OFFSET = -9556.625
  MAP_PROJECTION_ROTATION = 0.0
  MAP_PROJECTION_TYPE = SINUSOIDAL
  MAP_RESOLUTION = 296.356901933333
  MAP_SCALE = 0.2
  MAXIMUM_LATITUDE = -32.2504
  MINIMUM_LATITUDE = -66.09690000000001
  POSITIVE_LONGITUDE_DIRECTION = EAST
  REFERENCE_LATITUDE = "N/A"
  REFERENCE_LONGITUDE = "N/A"
  SAMPLE_FIRST_PIXEL = 1
  SAMPLE_LAST_PIXEL = 2589
  SAMPLE_PROJECTION_OFFSET = 1385.625
  SECOND_STANDARD_PARALLEL = "N/A"
  WESTERNMOST_LONGITUDE = 278.937
END_OBJECT = IMAGE_MAP_PROJECTION
/* The JPEG2000 image data file associated with this label. */
OBJECT = COMPRESSED_FILE
  FILE_NAME = "HG455_0000_P23.JP2"
  RECORD_TYPE = UNDEFINED
  FILE_RECORDS = UNK
  ENCODING_TYPE = "JP2"
  INTERCHANGE_FORMAT = BINARY
  UNCOMPRESSED_FILE_NAME = "HG455_0000_P23.IMG"
  REQUIRED_STORAGE_BYTES = "25825275"
  ^DESCRIPTION = "JP2INFO.TXT"
END_OBJECT = COMPRESSED_FILE
END
