PDS_VERSION_ID = PDS3
/* FILE DATA ELEMENTS */
RECORD_TYPE = STREAM
/* POINTERS TO DATA OBJECTS */
^COMPRESSED_FILE = "HG465_0000_GR3.JP2"
/* IDENTIFICATION DATA ELEMENTS */
DATA_SET_ID = "MEX-M-HRSC-5-REFDR-MAPPROJECTED-V3.0"
DATA_SET_NAME = "MARS EXPRESS HRSC MAP PROJECTED REFDR V3.0"
DETECTOR_ID = MEX_HRSC_GREEN
EVENT_TYPE = "MARS-TERMINATOR-VARIABLE-Ot-At-Sh"
INSTRUMENT_HOST_ID = MEX
INSTRUMENT_HOST_NAME = "MARS EXPRESS"
INSTRUMENT_ID = HRSC
INSTRUMENT_NAME = "HIGH RESOLUTION STEREO CAMERA"
MISSION_NAME = "MARS EXPRESS"
MISSION_PHASE_NAME = ME_Phase_35
PROCESSING_LEVEL_ID = 3
PRODUCT_CREATION_TIME = 2017-06-30T09:33:55.000Z
PRODUCT_ID = "HG465_0000_GR3.JP2"
RELEASE_ID = 0137
REVISION_ID = 0000
/* QUALITY DATA ELEMENTS */
DATA_QUALITY_ID = 1
DATA_QUALITY_DESC = "Data calculated based on original SPICE kernels"
/* TIME DATA ELEMENTS */
SPACECRAFT_CLOCK_START_COUNT = "1/0431206238.09041"
SPACECRAFT_CLOCK_STOP_COUNT = "1/0431208723.61680"
START_TIME = 2016-12-30T19:54:14.548Z
STOP_TIME = 2016-12-30T20:10:55.455Z
/* ORBITAL DATA ELEMENTS */
ASCENDING_NODE_LONGITUDE = 264.67
MAXIMUM_RESOLUTION = 70.9
FOOTPRINT_POINT_LATITUDE = (-67.2357,-67.2553,-67.2027,-67.0904, -66.9168,-66.5822,-65.2731,-64.6022, -63.9202,-63.226,-62.5205,-61.8033, -61.0748,-60.335,-59.5839,-58.8215, -58.0468,-57.2609,-56.4613,-55.6509, -54.8285,-53.994,-53.1469,-52.2866, -51.4139,-50.5285,-49.6303,-48.719, -47.801,-46.8955,-46.0047,-45.1278, -44.2643,-43.4143,-42.577,-41.7523, -40.9414,-40.1423,-39.355,-38.5793, -37.8154,-37.0645,-36.3219,-35.589, -34.869,-34.1583,-32.768,-31.4157, -30.099,-28.818,-28.1886,-28.1806, -28.1668,-28.7826,-30.0644,-31.382, -32.7359,-34.1285,-34.8399,-35.5619, -36.2949,-37.039,-37.7943,-38.56, -39.3383,-40.1284,-40.9308,-41.7469, -42.5742,-43.4164,-44.2716,-45.1407, -46.0242,-46.9222,-47.8354,-48.7626, -49.6842,-50.593,-51.4895,-52.3755, -53.2482,-54.1112,-54.9618,-55.8019, -56.6309,-57.4483,-58.2556,-59.0531, -59.8395,-60.616,-61.3825,-62.1392, -62.8865,-63.6239,-64.3525,-65.071, -65.7814,-66.4826,-67.1749,-67.2357)
FOOTPRINT_POINT_LONGITUDE = (355.163,351.931,348.308,345.115, 341.952,337.49,338.581,339.08,339.553, 340.009,340.441,340.853,341.244,341.615 ,341.965,342.297,342.615,342.914, 343.207,343.48,343.738,343.984,344.218, 344.444,344.658,344.86,345.053,345.236, 345.408,345.57,345.717,345.854,345.98, 346.098,346.208,346.31,346.404,346.492, 346.575,346.653,346.724,346.788,346.853 ,346.917,346.972,347.026,347.122, 347.208,347.285,347.354,347.861,349.218 ,350.236,350.941,351.041,351.15,351.267 ,351.393,351.458,351.528,351.601, 351.676,351.757,351.836,351.923,352.011 ,352.104,352.206,352.305,352.414, 352.528,352.647,352.773,352.906,353.046 ,353.194,353.349,353.506,353.667, 353.836,354.005,354.186,354.368,354.558 ,354.753,354.951,355.158,355.375, 355.595,355.823,356.06,356.305,356.56, 356.823,357.098,357.38,357.678,357.987, 358.309,355.163)
ORBIT_NUMBER = 16465
ORBITAL_ECCENTRICITY = 0.576
ORBITAL_INCLINATION = 86.92
ORBITAL_SEMIMAJOR_AXIS = 8844.56
PERIAPSIS_ALTITUDE = 356.6
PERIAPSIS_ARGUMENT_ANGLE = 21.11
PERIAPSIS_TIME = 2016-12-30T20:24:35.000Z
SPACECRAFT_ORIENTATION = (0.0,1.0,0.0)
^MEX_ORIENTATION_DESC = "MEX_ORIENTATION_DESC.TXT"
SPACECRAFT_POINTING_MODE = NADIR
^MEX_POINTING_DESC = "MEX_POINTING_DESC.TXT"
RIGHT_ASCENSION = -1e+32
DECLINATION = -1e+32
OFFSET_ANGLE = -1e+32
SPACECRAFT_SOLAR_DISTANCE = 2.10654e+08
TARGET_NAME = MARS
/* CAMERA DATA ELEMENTS */
DETECTOR_TEMPERATURE = 17.9627
FOCAL_PLANE_TEMPERATURE = 7.9716
INST_CMPRS_NAME = "DISCRETE COSINE TRANSFORMATION (DCT)"
INST_CMPRS_RATIO = 9.68162
INST_CMPRS_QUALITY = 0
INST_CMPRS_QUANTZ_TBL_ID = 0
INSTRUMENT_TEMPERATURE = 11.0301
LENS_TEMPERATURE = 8.5833
MACROPIXEL_SIZE = 2
MISSING_FRAMES = 0
PIXEL_SUBSAMPLING_FLAG = N
SIGNAL_CHAIN_ID = 2
/* RADIOMETRIC DATA ELEMENTS */
BANDWIDTH = 88.0
CENTER_FILTER_WAVELENGTH = 538.0
RADIANCE_OFFSET = 0.0497242
RADIANCE_SCALING_FACTOR = 0.00343682
REFLECTANCE_SCALING_FACTOR = 0.0001313
MEX:REFLECTANCE_OFFSET = 0.00189966
/* IMAGE OBJECT DEFINITIONS */
OBJECT = IMAGE
  INTERCHANGE_FORMAT = BINARY
  LINES = 46390
  LINE_SAMPLES = 10278
  SAMPLE_TYPE = UNSIGNED_INTEGER
  SAMPLE_BITS = 8
  BANDS = 1
  BAND_STORAGE_TYPE = BAND_SEQUENTIAL
  MAXIMUM = 255
  MEAN = 183.912
  MINIMUM = 1
  STANDARD_DEVIATION = 76.4896
END_OBJECT = IMAGE
/* MAP OBJECT DEFINITIONS */
OBJECT = IMAGE_MAP_PROJECTION
  ^DATA_SET_MAP_PROJECTION_CATALOG= "DSMAP.CAT"
  A_AXIS_RADIUS = 3396.0
  B_AXIS_RADIUS = 3396.0
  C_AXIS_RADIUS = 3396.0
  CENTER_LATITUDE = 0.0
  CENTER_LONGITUDE = 349.0
  COORDINATE_SYSTEM_NAME = PLANETOGRAPHIC
  COORDINATE_SYSTEM_TYPE = "BODY-FIXED ROTATING"
  EASTERNMOST_LONGITUDE = 358.309
  FIRST_STANDARD_PARALLEL = "N/A"
  LINE_FIRST_PIXEL = 1
  LINE_LAST_PIXEL = 46390
  LINE_PROJECTION_OFFSET = -33378.75
  MAP_PROJECTION_ROTATION = 0.0
  MAP_PROJECTION_TYPE = SINUSOIDAL
  MAP_RESOLUTION = 1185.42760773333
  MAP_SCALE = 0.05
  MAXIMUM_LATITUDE = -28.1668
  MINIMUM_LATITUDE = -67.25530000000001
  POSITIVE_LONGITUDE_DIRECTION = EAST
  REFERENCE_LATITUDE = "N/A"
  REFERENCE_LONGITUDE = "N/A"
  SAMPLE_FIRST_PIXEL = 1
  SAMPLE_LAST_PIXEL = 10278
  SAMPLE_PROJECTION_OFFSET = 5720.25
  SECOND_STANDARD_PARALLEL = "N/A"
  WESTERNMOST_LONGITUDE = 337.49
END_OBJECT = IMAGE_MAP_PROJECTION
/* The JPEG2000 image data file associated with this label. */
OBJECT = COMPRESSED_FILE
  FILE_NAME = "HG465_0000_GR3.JP2"
  RECORD_TYPE = UNDEFINED
  FILE_RECORDS = UNK
  ENCODING_TYPE = "JP2"
  INTERCHANGE_FORMAT = BINARY
  UNCOMPRESSED_FILE_NAME = "HG465_0000_GR3.IMG"
  REQUIRED_STORAGE_BYTES = "476827254"
  ^DESCRIPTION = "JP2INFO.TXT"
END_OBJECT = COMPRESSED_FILE
END
