PDS_VERSION_ID = PDS3
/* FILE DATA ELEMENTS */
RECORD_TYPE = STREAM
/* POINTERS TO DATA OBJECTS */
^COMPRESSED_FILE = "HG468_0000_ND3.JP2"
/* IDENTIFICATION DATA ELEMENTS */
DATA_SET_ID = "MEX-M-HRSC-5-REFDR-MAPPROJECTED-V3.0"
DATA_SET_NAME = "MARS EXPRESS HRSC MAP PROJECTED REFDR V3.0"
DETECTOR_ID = MEX_HRSC_NADIR
EVENT_TYPE = "MARS-TERMINATOR-CALIBRATION-Tc"
INSTRUMENT_HOST_ID = MEX
INSTRUMENT_HOST_NAME = "MARS EXPRESS"
INSTRUMENT_ID = HRSC
INSTRUMENT_NAME = "HIGH RESOLUTION STEREO CAMERA"
MISSION_NAME = "MARS EXPRESS"
MISSION_PHASE_NAME = ME_Phase_35
PROCESSING_LEVEL_ID = 3
PRODUCT_CREATION_TIME = 2017-06-30T09:33:55.000Z
PRODUCT_ID = "HG468_0000_ND3.JP2"
RELEASE_ID = 0137
REVISION_ID = 0000
/* QUALITY DATA ELEMENTS */
DATA_QUALITY_ID = 1
DATA_QUALITY_DESC = "Data calculated based on original SPICE kernels"
/* TIME DATA ELEMENTS */
SPACECRAFT_CLOCK_START_COUNT = "1/0431297620.08237"
SPACECRAFT_CLOCK_STOP_COUNT = "1/0431298057.65508"
START_TIME = 2016-12-31T20:55:51.669Z
STOP_TIME = 2016-12-31T20:59:01.666Z
/* ORBITAL DATA ELEMENTS */
ASCENDING_NODE_LONGITUDE = 264.61
MAXIMUM_RESOLUTION = 420.9
FOOTPRINT_POINT_LATITUDE = (-12.28,-12.7912,-13.2976,-13.7994, -14.2965,-14.7894,-15.2781,-15.7629, -16.244,-16.7216,-17.1958,-17.6669, -18.1351,-18.6006,-19.0634,-19.5234, -19.9807,-20.4353,-20.8873,-21.3368, -22.229,-23.1127,-23.9883,-24.8561, -25.2872,-25.7164,-26.1439,-26.57, -26.9948,-27.4183,-27.8405,-28.2613, -28.6806,-29.0984,-29.5148,-29.9302, -30.3446,-30.758,-31.1705,-31.5816, -31.9914,-32.3996,-32.8065,-33.2121, -33.6163,-34.0193,-34.8553,-35.9565, -36.6817,-37.9469,-37.5358,-37.1175, -36.7114,-36.0921,-35.6792,-35.2627, -34.8431,-34.2085,-33.781,-33.3624, -32.9408,-32.5173,-32.0936,-31.667, -31.2402,-30.8114,-30.3818,-29.9499, -29.5186,-29.0853,-28.6506,-28.2144, -27.776,-27.3357,-26.4519,-25.5606, -24.8881,-24.2109,-23.758,-23.301, -22.8425,-22.3808,-21.9172,-21.4513, -20.9828,-20.2749,-19.8003,-19.3223, -18.841,-18.3574,-17.8685,-17.3762, -16.6319,-16.1291,-15.6222,-14.6843, -13.7895,-12.8927,-11.8818,-12.28)
FOOTPRINT_POINT_LONGITUDE = (154.93,155.539,156.145,156.75,157.352, 157.953,158.552,159.151,159.749,160.346 ,160.944,161.542,162.141,162.741, 163.343,163.946,164.55,165.157,165.766, 166.378,167.609,168.853,170.112,171.39, 172.036,172.687,173.344,174.007,174.677 ,175.354,176.038,176.731,177.431, 178.138,178.855,179.582,180.319,181.067 ,181.826,182.597,183.38,184.175,184.984 ,185.806,186.643,187.496,187.826, 187.976,188.088,188.296,187.361,186.435 ,185.547,184.238,183.387,182.549, 181.723,180.508,179.712,178.94,178.177, 177.425,176.684,175.952,175.229,174.516 ,173.811,173.115,172.427,171.747, 171.073,170.406,169.745,169.09,167.796, 166.522,165.577,164.641,164.018,163.402 ,162.784,162.176,161.565,160.957, 160.351,159.444,158.845,158.244,157.644 ,157.046,156.443,155.84,154.939,154.333 ,153.725,153.387,153.566,153.742, 153.936,154.93)
ORBIT_NUMBER = 16468
ORBITAL_ECCENTRICITY = 0.576
ORBITAL_INCLINATION = 86.93
ORBITAL_SEMIMAJOR_AXIS = 8851.96
PERIAPSIS_ALTITUDE = 355.37
PERIAPSIS_ARGUMENT_ANGLE = 20.64
PERIAPSIS_TIME = 2016-12-31T17:23:56.000Z
SPACECRAFT_ORIENTATION = (0.0,1.0,0.0)
^MEX_ORIENTATION_DESC = "MEX_ORIENTATION_DESC.TXT"
SPACECRAFT_POINTING_MODE = INERT
^MEX_POINTING_DESC = "MEX_POINTING_DESC.TXT"
RIGHT_ASCENSION = 313.539
DECLINATION = -16.508
OFFSET_ANGLE = -1e+32
SPACECRAFT_SOLAR_DISTANCE = 2.10762e+08
TARGET_NAME = MARS
/* CAMERA DATA ELEMENTS */
DETECTOR_TEMPERATURE = 18.5744
FOCAL_PLANE_TEMPERATURE = 8.7872
INST_CMPRS_NAME = "DISCRETE COSINE TRANSFORMATION (DCT)"
INST_CMPRS_RATIO = 7.00645
INST_CMPRS_QUALITY = 0
INST_CMPRS_QUANTZ_TBL_ID = 0
INSTRUMENT_TEMPERATURE = 11.234
LENS_TEMPERATURE = 9.3989
MACROPIXEL_SIZE = 1
MISSING_FRAMES = 0
PIXEL_SUBSAMPLING_FLAG = N
SIGNAL_CHAIN_ID = 0
/* RADIOMETRIC DATA ELEMENTS */
BANDWIDTH = 177.0
CENTER_FILTER_WAVELENGTH = 677.5
RADIANCE_OFFSET = 1.81634
RADIANCE_SCALING_FACTOR = 0.0215424
REFLECTANCE_SCALING_FACTOR = 0.000508439
MEX:REFLECTANCE_OFFSET = 0.0428688
/* IMAGE OBJECT DEFINITIONS */
OBJECT = IMAGE
  INTERCHANGE_FORMAT = BINARY
  LINES = 3918
  LINE_SAMPLES = 4570
  SAMPLE_TYPE = UNSIGNED_INTEGER
  SAMPLE_BITS = 8
  BANDS = 1
  BAND_STORAGE_TYPE = BAND_SEQUENTIAL
  MAXIMUM = 254
  MEAN = 109.413
  MINIMUM = 1
  STANDARD_DEVIATION = 41.9025
END_OBJECT = IMAGE
/* MAP OBJECT DEFINITIONS */
OBJECT = IMAGE_MAP_PROJECTION
  ^DATA_SET_MAP_PROJECTION_CATALOG= "DSMAP.CAT"
  A_AXIS_RADIUS = 3396.0
  B_AXIS_RADIUS = 3396.0
  C_AXIS_RADIUS = 3396.0
  CENTER_LATITUDE = 0.0
  CENTER_LONGITUDE = 169.0
  COORDINATE_SYSTEM_NAME = PLANETOGRAPHIC
  COORDINATE_SYSTEM_TYPE = "BODY-FIXED ROTATING"
  EASTERNMOST_LONGITUDE = 188.296
  FIRST_STANDARD_PARALLEL = "N/A"
  LINE_FIRST_PIXEL = 1
  LINE_LAST_PIXEL = 3918
  LINE_PROJECTION_OFFSET = -1700.0
  MAP_PROJECTION_ROTATION = 0.0
  MAP_PROJECTION_TYPE = SINUSOIDAL
  MAP_RESOLUTION = 148.178450966667
  MAP_SCALE = 0.4
  MAXIMUM_LATITUDE = -11.8818
  MINIMUM_LATITUDE = -37.9469
  POSITIVE_LONGITUDE_DIRECTION = EAST
  REFERENCE_LATITUDE = "N/A"
  REFERENCE_LONGITUDE = "N/A"
  SAMPLE_FIRST_PIXEL = 1
  SAMPLE_LAST_PIXEL = 4570
  SAMPLE_PROJECTION_OFFSET = 2264.0
  SECOND_STANDARD_PARALLEL = "N/A"
  WESTERNMOST_LONGITUDE = 153.387
END_OBJECT = IMAGE_MAP_PROJECTION
/* The JPEG2000 image data file associated with this label. */
OBJECT = COMPRESSED_FILE
  FILE_NAME = "HG468_0000_ND3.JP2"
  RECORD_TYPE = UNDEFINED
  FILE_RECORDS = UNK
  ENCODING_TYPE = "JP2"
  INTERCHANGE_FORMAT = BINARY
  UNCOMPRESSED_FILE_NAME = "HG468_0000_ND3.IMG"
  REQUIRED_STORAGE_BYTES = "17932680"
  ^DESCRIPTION = "JP2INFO.TXT"
END_OBJECT = COMPRESSED_FILE
END
