PDS_VERSION_ID = PDS3
/* FILE DATA ELEMENTS */
RECORD_TYPE = STREAM
/* POINTERS TO DATA OBJECTS */
^COMPRESSED_FILE = "HG472_0000_RE3.JP2"
/* IDENTIFICATION DATA ELEMENTS */
DATA_SET_ID = "MEX-M-HRSC-5-REFDR-MAPPROJECTED-V3.0"
DATA_SET_NAME = "MARS EXPRESS HRSC MAP PROJECTED REFDR V3.0"
DETECTOR_ID = MEX_HRSC_RED
EVENT_TYPE = "MARS-TERMINATOR-CALIBRATION-Tc"
INSTRUMENT_HOST_ID = MEX
INSTRUMENT_HOST_NAME = "MARS EXPRESS"
INSTRUMENT_ID = HRSC
INSTRUMENT_NAME = "HIGH RESOLUTION STEREO CAMERA"
MISSION_NAME = "MARS EXPRESS"
MISSION_PHASE_NAME = ME_Phase_36
PROCESSING_LEVEL_ID = 3
PRODUCT_CREATION_TIME = 2018-06-28T11:48:36.000Z
PRODUCT_ID = "HG472_0000_RE3.JP2"
RELEASE_ID = 0138
REVISION_ID = 0000
/* QUALITY DATA ELEMENTS */
DATA_QUALITY_ID = 1
DATA_QUALITY_DESC = "Data calculated based on original SPICE kernels"
/* TIME DATA ELEMENTS */
SPACECRAFT_CLOCK_START_COUNT = "1/0431373190.09040"
SPACECRAFT_CLOCK_STOP_COUNT = "1/0431373609.07362"
START_TIME = 2017-01-01T17:53:17.748Z
STOP_TIME = 2017-01-01T17:56:27.761Z
/* ORBITAL DATA ELEMENTS */
ASCENDING_NODE_LONGITUDE = 264.54
MAXIMUM_RESOLUTION = 842
FOOTPRINT_POINT_LATITUDE = (36.636,32.2149,28.4732,26.4204,23.1666 ,20.3142,18.9629,17.3073,15.6071, 12.7078,8.57717,6.34826,2.8309,-0.53299 ,-2.85552,-5.28877,-7.9897,-10.1625, -14.8081,-19.3544,-23.1297,-26.9203, -30.221,-34.3857,-37.2162,-41.362, -44.243,-48.6907,-51.3187,-55.257, -58.096,-62.236,-65.1583,-69.4648, -72.299,-74.7565,-77.3016,-79.668, -80.4562,-80.369,-79.4093,-75.4692, -73.3007,-69.4657,-69.0568,-68.2555, -65.8872,-62.5888,-59.5605,-56.6156, -53.7329,-49.6112,-46.8626,-44.1423, -42.214,-39.6313,-36.6011,-35.1627, -35.9093,-36.1306,-36.0762,-35.7089, -35.2163,-34.6368,-33.0899,-31.8852, -29.295,-27.1945,-24.679,-22.7793, -20.9694,-18.1933,-16.3322,-12.6555, -10.1166,-7.57109,-5.44791,-3.15252, 1.65889,4.56629,8.11014,12.6113,16.1771 ,18.7855,24.2403,27.914,30.4721,35.1163 ,38.3078,43.8075,47.7066,51.691,49.2344 ,49.4346,47.8144,44.4738,43.9454, 41.4835,39.3886,36.636)
FOOTPRINT_POINT_LONGITUDE = (276.075,279.137,280.861,283.833, 284.384,288.336,285.82,283.018,280.407, 276.405,271.449,269.054,265.567,262.528 ,260.541,258.567,256.494,254.89,251.63, 248.602,246.184,243.818,241.785,239.23, 237.486,234.875,233.018,229.981,228.088 ,224.974,222.524,218.381,214.876, 208.262,202.35,195.351,184.326,164.539, 146.111,129.958,112.452,110.075,120.25, 118.283,130.558,137.723,146.434,151.668 ,153.611,154.148,153.644,151.564, 149.313,146.152,143.303,137.367,136.548 ,141.006,147.148,151.398,156.877,161.65 ,165.386,168.572,174.759,178.446, 184.699,188.751,192.859,195.585,197.944 ,201.223,203.206,206.782,209.01,211.088 ,212.71,214.398,217.636,219.451,221.566 ,224.093,226.147,227.535,230.122, 231.946,233.221,235.535,237.15,240.036, 242.172,248.187,249.871,255.275,258.655 ,262.757,267.804,269.693,273.784, 276.075)
ORBIT_NUMBER = 16472
ORBITAL_ECCENTRICITY = 0.576
ORBITAL_INCLINATION = 86.92
ORBITAL_SEMIMAJOR_AXIS = 8846.48
PERIAPSIS_ALTITUDE = 355.8
PERIAPSIS_ARGUMENT_ANGLE = 19.91
PERIAPSIS_TIME = 2017-01-01T21:22:54.000Z
SPACECRAFT_ORIENTATION = (-1e+32,-1e+32,-1e+32)
^MEX_ORIENTATION_DESC = "MEX_ORIENTATION_DESC.TXT"
SPACECRAFT_POINTING_MODE = INERT
^MEX_POINTING_DESC = "MEX_POINTING_DESC.TXT"
RIGHT_ASCENSION = 313.423
DECLINATION = -17.051
OFFSET_ANGLE = -1e+32
SPACECRAFT_SOLAR_DISTANCE = 2.10909e+08
TARGET_NAME = MARS
/* CAMERA DATA ELEMENTS */
DETECTOR_TEMPERATURE = 19.1861
FOCAL_PLANE_TEMPERATURE = 8.5833
INST_CMPRS_NAME = "DISCRETE COSINE TRANSFORMATION (DCT)"
INST_CMPRS_RATIO = 11.9385
INST_CMPRS_QUALITY = 0
INST_CMPRS_QUANTZ_TBL_ID = 0
INSTRUMENT_TEMPERATURE = 11.4379
LENS_TEMPERATURE = 9.6028
MACROPIXEL_SIZE = 2
MISSING_FRAMES = 0
PIXEL_SUBSAMPLING_FLAG = N
SIGNAL_CHAIN_ID = 1
/* RADIOMETRIC DATA ELEMENTS */
BANDWIDTH = 48.0
CENTER_FILTER_WAVELENGTH = 748.0
RADIANCE_OFFSET = 0.0
RADIANCE_SCALING_FACTOR = 0.00967853
REFLECTANCE_SCALING_FACTOR = 0.00098231
MEX:REFLECTANCE_OFFSET = 0.0
/* IMAGE OBJECT DEFINITIONS */
OBJECT = IMAGE
  INTERCHANGE_FORMAT = BINARY
  LINES = 10018
  LINE_SAMPLES = 9985
  SAMPLE_TYPE = UNSIGNED_INTEGER
  SAMPLE_BITS = 8
  BANDS = 1
  BAND_STORAGE_TYPE = BAND_SEQUENTIAL
  MAXIMUM = 255
  MEAN = 153.033
  MINIMUM = 1
  STANDARD_DEVIATION = 86.5003
END_OBJECT = IMAGE
/* MAP OBJECT DEFINITIONS */
OBJECT = IMAGE_MAP_PROJECTION
  ^DATA_SET_MAP_PROJECTION_CATALOG= "DSMAP.CAT"
  A_AXIS_RADIUS = 3396.0
  B_AXIS_RADIUS = 3396.0
  C_AXIS_RADIUS = 3396.0
  CENTER_LATITUDE = 0.0
  CENTER_LONGITUDE = 224.0
  COORDINATE_SYSTEM_NAME = PLANETOGRAPHIC
  COORDINATE_SYSTEM_TYPE = "BODY-FIXED ROTATING"
  EASTERNMOST_LONGITUDE = 288.336
  FIRST_STANDARD_PARALLEL = "N/A"
  LINE_FIRST_PIXEL = 1
  LINE_LAST_PIXEL = 10018
  LINE_PROJECTION_OFFSET = 3894.75
  MAP_PROJECTION_ROTATION = 0.0
  MAP_PROJECTION_TYPE = SINUSOIDAL
  MAP_RESOLUTION = 74.08922548333329
  MAP_SCALE = 0.8
  MAXIMUM_LATITUDE = 51.691
  MINIMUM_LATITUDE = -80.4562
  POSITIVE_LONGITUDE_DIRECTION = EAST
  REFERENCE_LATITUDE = "N/A"
  REFERENCE_LONGITUDE = "N/A"
  SAMPLE_FIRST_PIXEL = 1
  SAMPLE_LAST_PIXEL = 9985
  SAMPLE_PROJECTION_OFFSET = 5411.25
  SECOND_STANDARD_PARALLEL = "N/A"
  WESTERNMOST_LONGITUDE = 110.075
END_OBJECT = IMAGE_MAP_PROJECTION
/* The JPEG2000 image data file associated with this label. */
OBJECT = COMPRESSED_FILE
  FILE_NAME = "HG472_0000_RE3.JP2"
  RECORD_TYPE = UNDEFINED
  FILE_RECORDS = UNK
  ENCODING_TYPE = "JP2"
  INTERCHANGE_FORMAT = BINARY
  UNCOMPRESSED_FILE_NAME = "HG472_0000_RE3.IMG"
  REQUIRED_STORAGE_BYTES = "100059685"
  ^DESCRIPTION = "JP2INFO.TXT"
END_OBJECT = COMPRESSED_FILE
END
