PDS_VERSION_ID = PDS3
/* FILE DATA ELEMENTS */
RECORD_TYPE = STREAM
/* POINTERS TO DATA OBJECTS */
^COMPRESSED_FILE = "HG486_0000_RE3.JP2"
/* IDENTIFICATION DATA ELEMENTS */
DATA_SET_ID = "MEX-M-HRSC-5-REFDR-MAPPROJECTED-V3.0"
DATA_SET_NAME = "MARS EXPRESS HRSC MAP PROJECTED REFDR V3.0"
DETECTOR_ID = MEX_HRSC_RED
EVENT_TYPE = "MARS-TERMINATOR-CALIBRATION-Tc"
INSTRUMENT_HOST_ID = MEX
INSTRUMENT_HOST_NAME = "MARS EXPRESS"
INSTRUMENT_ID = HRSC
INSTRUMENT_NAME = "HIGH RESOLUTION STEREO CAMERA"
MISSION_NAME = "MARS EXPRESS"
MISSION_PHASE_NAME = ME_Phase_36
PROCESSING_LEVEL_ID = 3
PRODUCT_CREATION_TIME = 2018-06-28T11:48:36.000Z
PRODUCT_ID = "HG486_0000_RE3.JP2"
RELEASE_ID = 0138
REVISION_ID = 0000
/* QUALITY DATA ELEMENTS */
DATA_QUALITY_ID = 1
DATA_QUALITY_DESC = "Data calculated based on original SPICE kernels"
/* TIME DATA ELEMENTS */
SPACECRAFT_CLOCK_START_COUNT = "1/0431726964.08245"
SPACECRAFT_CLOCK_STOP_COUNT = "1/0431727403.64163"
START_TIME = 2017-01-05T20:09:51.749Z
STOP_TIME = 2017-01-05T20:13:02.761Z
/* ORBITAL DATA ELEMENTS */
ASCENDING_NODE_LONGITUDE = 264.27
MAXIMUM_RESOLUTION = 833.5
FOOTPRINT_POINT_LATITUDE = (42.4608,38.8628,34.1097,30.6665,27.929 ,25.6854,23.8439,22.3774,21.3218, 20.8209,20.9118,21.4759,22.18,23.6402, 20.4061,16.3183,12.7413,10.2186,8.12414 ,4.60862,1.60851,-1.05942,-3.52242, -5.8003,-7.94245,-10.9967,-14.7945, -18.3999,-21.8686,-25.2493,-28.58, -31.8928,-35.2186,-38.5848,-42.0338, -45.5932,-49.3112,-53.2615,-57.4644, -59.7394,-62.1254,-64.6647,-67.3844, -70.361,-73.6321,-77.1999,-79.0424, -80.7245,-81.5378,-78.7506,-76.2614, -73.5635,-69.6425,-64.5121,-60.9542, -60.5241,-58.5115,-53.5864,-49.0556, -43.0795,-38.4267,-36.8778,-38.0085, -38.2669,-38.2344,-38.048,-37.4019, -36.5432,-35.5584,-34.4921,-33.3675, -32.2044,-31.0099,-29.7926,-27.3043, -24.7573,-22.1583,-19.5068,-16.7963, -14.0139,-11.1499,-8.18263,-5.08481, -1.82427,1.64656,5.34681,9.44756, 12.8198,15.154,17.7961,20.8773,24.2199, 28.0903,30.3389,32.9175,35.9998,39.9355 ,48.1711,46.1308,42.4608)
FOOTPRINT_POINT_LONGITUDE = (250.085,250.328,251.944,254.077,256.49 ,259.143,262.05,265.279,268.963,273.405 ,276.146,279.644,282.078,285.298, 286.363,283.718,279.166,276.312,274.118 ,270.728,268.068,265.858,263.91,262.202 ,260.666,258.539,256.049,253.776, 251.667,249.667,247.727,245.817,243.904 ,241.949,239.923,237.76,235.388,232.695 ,229.459,227.537,225.301,222.616, 219.246,214.718,208.017,196.463,186.513 ,170.336,141.713,105.2,111.028,117.574, 117.777,119.138,125.221,130.771,135.383 ,137.726,133.113,137.24,137.359,143.02, 151.182,156.268,160.257,163.663,169.297 ,173.897,177.873,181.335,184.458, 187.237,189.789,192.122,196.279,199.908 ,203.154,206.098,208.802,211.314, 213.682,215.937,218.108,220.226,222.322 ,224.435,226.602,228.303,229.485, 230.738,232.106,233.603,235.314,236.3, 237.425,238.773,240.528,244.347,248.252 ,250.085)
ORBIT_NUMBER = 16486
ORBITAL_ECCENTRICITY = 0.576
ORBITAL_INCLINATION = 86.92
ORBITAL_SEMIMAJOR_AXIS = 8850.0
PERIAPSIS_ALTITUDE = 354.31
PERIAPSIS_ARGUMENT_ANGLE = 17.5
PERIAPSIS_TIME = 2017-01-05T23:19:27.000Z
SPACECRAFT_ORIENTATION = (-1e+32,-1e+32,-1e+32)
^MEX_ORIENTATION_DESC = "MEX_ORIENTATION_DESC.TXT"
SPACECRAFT_POINTING_MODE = INERT
^MEX_POINTING_DESC = "MEX_POINTING_DESC.TXT"
RIGHT_ASCENSION = 313.523
DECLINATION = -13.787
OFFSET_ANGLE = -1e+32
SPACECRAFT_SOLAR_DISTANCE = 2.11438e+08
TARGET_NAME = MARS
/* CAMERA DATA ELEMENTS */
DETECTOR_TEMPERATURE = 18.9822
FOCAL_PLANE_TEMPERATURE = 8.7872
INST_CMPRS_NAME = "DISCRETE COSINE TRANSFORMATION (DCT)"
INST_CMPRS_RATIO = 11.3802
INST_CMPRS_QUALITY = 0
INST_CMPRS_QUANTZ_TBL_ID = 0
INSTRUMENT_TEMPERATURE = 11.234
LENS_TEMPERATURE = 8.9911
MACROPIXEL_SIZE = 2
MISSING_FRAMES = 0
PIXEL_SUBSAMPLING_FLAG = N
SIGNAL_CHAIN_ID = 1
/* RADIOMETRIC DATA ELEMENTS */
BANDWIDTH = 48.0
CENTER_FILTER_WAVELENGTH = 748.0
RADIANCE_OFFSET = 0.0
RADIANCE_SCALING_FACTOR = 0.00967853
REFLECTANCE_SCALING_FACTOR = 0.00098726
MEX:REFLECTANCE_OFFSET = 0.0
/* IMAGE OBJECT DEFINITIONS */
OBJECT = IMAGE
  INTERCHANGE_FORMAT = BINARY
  LINES = 9894
  LINE_SAMPLES = 9948
  SAMPLE_TYPE = UNSIGNED_INTEGER
  SAMPLE_BITS = 8
  BANDS = 1
  BAND_STORAGE_TYPE = BAND_SEQUENTIAL
  MAXIMUM = 255
  MEAN = 131.835
  MINIMUM = 1
  STANDARD_DEVIATION = 87.9599
END_OBJECT = IMAGE
/* MAP OBJECT DEFINITIONS */
OBJECT = IMAGE_MAP_PROJECTION
  ^DATA_SET_MAP_PROJECTION_CATALOG= "DSMAP.CAT"
  A_AXIS_RADIUS = 3396.0
  B_AXIS_RADIUS = 3396.0
  C_AXIS_RADIUS = 3396.0
  CENTER_LATITUDE = 0.0
  CENTER_LONGITUDE = 227.0
  COORDINATE_SYSTEM_NAME = PLANETOGRAPHIC
  COORDINATE_SYSTEM_TYPE = "BODY-FIXED ROTATING"
  EASTERNMOST_LONGITUDE = 286.363
  FIRST_STANDARD_PARALLEL = "N/A"
  LINE_FIRST_PIXEL = 1
  LINE_LAST_PIXEL = 9894
  LINE_PROJECTION_OFFSET = 3696.75
  MAP_PROJECTION_ROTATION = 0.0
  MAP_PROJECTION_TYPE = SINUSOIDAL
  MAP_RESOLUTION = 74.08922548333329
  MAP_SCALE = 0.8
  MAXIMUM_LATITUDE = 48.1711
  MINIMUM_LATITUDE = -81.5378
  POSITIVE_LONGITUDE_DIRECTION = EAST
  REFERENCE_LATITUDE = "N/A"
  REFERENCE_LONGITUDE = "N/A"
  SAMPLE_FIRST_PIXEL = 1
  SAMPLE_LAST_PIXEL = 9948
  SAMPLE_PROJECTION_OFFSET = 5482.75
  SECOND_STANDARD_PARALLEL = "N/A"
  WESTERNMOST_LONGITUDE = 105.2
END_OBJECT = IMAGE_MAP_PROJECTION
/* The JPEG2000 image data file associated with this label. */
OBJECT = COMPRESSED_FILE
  FILE_NAME = "HG486_0000_RE3.JP2"
  RECORD_TYPE = UNDEFINED
  FILE_RECORDS = UNK
  ENCODING_TYPE = "JP2"
  INTERCHANGE_FORMAT = BINARY
  UNCOMPRESSED_FILE_NAME = "HG486_0000_RE3.IMG"
  REQUIRED_STORAGE_BYTES = "98455356"
  ^DESCRIPTION = "JP2INFO.TXT"
END_OBJECT = COMPRESSED_FILE
END
