PDS_VERSION_ID = PDS3
/* FILE DATA ELEMENTS */
RECORD_TYPE = STREAM
/* POINTERS TO DATA OBJECTS */
^COMPRESSED_FILE = "HG505_0000_GR3.JP2"
/* IDENTIFICATION DATA ELEMENTS */
DATA_SET_ID = "MEX-M-HRSC-5-REFDR-MAPPROJECTED-V3.0"
DATA_SET_NAME = "MARS EXPRESS HRSC MAP PROJECTED REFDR V3.0"
DETECTOR_ID = MEX_HRSC_GREEN
EVENT_TYPE = "MARS-TERMINATOR-CALIBRATION-Tc"
INSTRUMENT_HOST_ID = MEX
INSTRUMENT_HOST_NAME = "MARS EXPRESS"
INSTRUMENT_ID = HRSC
INSTRUMENT_NAME = "HIGH RESOLUTION STEREO CAMERA"
MISSION_NAME = "MARS EXPRESS"
MISSION_PHASE_NAME = ME_Phase_36
PROCESSING_LEVEL_ID = 3
PRODUCT_CREATION_TIME = 2018-06-28T11:48:36.000Z
PRODUCT_ID = "HG505_0000_GR3.JP2"
RELEASE_ID = 0138
REVISION_ID = 0000
/* QUALITY DATA ELEMENTS */
DATA_QUALITY_ID = 1
DATA_QUALITY_DESC = "Data calculated based on original SPICE kernels"
/* TIME DATA ELEMENTS */
SPACECRAFT_CLOCK_START_COUNT = "1/0432229408.08254"
SPACECRAFT_CLOCK_STOP_COUNT = "1/0432229847.02663"
START_TIME = 2017-01-11T15:46:01.839Z
STOP_TIME = 2017-01-11T15:49:10.710Z
/* ORBITAL DATA ELEMENTS */
ASCENDING_NODE_LONGITUDE = 263.92
MAXIMUM_RESOLUTION = 840.9
FOOTPRINT_POINT_LATITUDE = (43.113,40.7052,38.2838,34.1561,31.4789 ,28.9625,24.8377,22.8508,18.3915, 16.6415,15.1486,12.8914,11.3119,8.55534 ,5.71414,2.89553,-0.194015,-2.92069, -5.02622,-6.95405,-9.67481,-13.6363, -16.4686,-20.8349,-24.4793,-26.6517, -28.8422,-31.6696,-34.1439,-37.2271, -41.7824,-44.9748,-49.0397,-53.3885, -55.8106,-59.2913,-64.3166,-67.6958, -71.7276,-74.2747,-77.2634,-79.0137, -80.8424,-81.3737,-79.5101,-76.9254, -72.4708,-67.2448,-64.7194,-60.7616, -56.785,-53.7973,-51.0641,-46.702, -42.988,-40.4225,-37.4407,-35.5603, -33.9184,-34.1211,-33.9618,-33.5476, -33.0289,-31.7968,-30.2195,-29.0058, -26.4573,-24.5523,-21.1608,-18.9297, -16.3662,-14.1251,-11.4444,-8.30502, -3.2475,-1.09284,3.2225,6.91344,9.62813 ,12.2823,15.7244,20.0156,23.4918,25.738 ,28.6995,31.2235,34.2739,38.4592,40.978 ,44.0043,48.0128,50.931,53.1419,54.9035 ,54.2058,52.3892,50.1306,47.3337, 44.5665,43.113)
FOOTPRINT_POINT_LONGITUDE = (398.162,399.693,401.071,404.173, 405.905,407.535,407.677,410.678,410.21, 406.432,403.597,399.788,397.416,393.628 ,390.157,387.031,383.893,381.334, 379.483,377.83,375.621,372.603,370.546, 367.52,365.098,363.682,362.278,360.487, 358.931,357.006,354.1,352.017,349.264, 346.119,344.201,341.199,336.101,331.77, 324.961,318.99,308.62,299.007,280.374, 246.513,262.689,261.639,255.688,254.834 ,259.652,255.994,257.103,257.581, 258.578,259.523,261.181,261.858,263.17, 261.167,265.862,270.289,276.7,281.122, 284.738,290.441,295.806,299.114,304.82, 308.384,313.739,316.775,319.911,322.399 ,325.108,328.037,332.285,333.963, 337.083,339.565,341.331,342.99,345.067, 347.591,349.599,350.876,352.567,354.012 ,355.782,358.265,359.816,361.754, 364.497,366.661,368.421,373.267,379.309 ,383.482,388.541,390.339,394.965, 398.162)
ORBIT_NUMBER = 16505
ORBITAL_ECCENTRICITY = 0.577
ORBITAL_INCLINATION = 86.93
ORBITAL_SEMIMAJOR_AXIS = 8857.02
PERIAPSIS_ALTITUDE = 351.61
PERIAPSIS_ARGUMENT_ANGLE = 14.18
PERIAPSIS_TIME = 2017-01-11T12:13:52.000Z
SPACECRAFT_ORIENTATION = (-1e+32,-1e+32,-1e+32)
^MEX_ORIENTATION_DESC = "MEX_ORIENTATION_DESC.TXT"
SPACECRAFT_POINTING_MODE = INERT
^MEX_POINTING_DESC = "MEX_POINTING_DESC.TXT"
RIGHT_ASCENSION = 312.07
DECLINATION = -22.917
OFFSET_ANGLE = -1e+32
SPACECRAFT_SOLAR_DISTANCE = 2.12197e+08
TARGET_NAME = MARS
/* CAMERA DATA ELEMENTS */
DETECTOR_TEMPERATURE = 18.5744
FOCAL_PLANE_TEMPERATURE = 7.9716
INST_CMPRS_NAME = "DISCRETE COSINE TRANSFORMATION (DCT)"
INST_CMPRS_RATIO = 12.0682
INST_CMPRS_QUALITY = 0
INST_CMPRS_QUANTZ_TBL_ID = 0
INSTRUMENT_TEMPERATURE = 11.4379
LENS_TEMPERATURE = 8.5833
MACROPIXEL_SIZE = 2
MISSING_FRAMES = 0
PIXEL_SUBSAMPLING_FLAG = N
SIGNAL_CHAIN_ID = 2
/* RADIOMETRIC DATA ELEMENTS */
BANDWIDTH = 88.0
CENTER_FILTER_WAVELENGTH = 538.0
RADIANCE_OFFSET = 0.0
RADIANCE_SCALING_FACTOR = 0.00644486
REFLECTANCE_SCALING_FACTOR = 0.0002499
MEX:REFLECTANCE_OFFSET = 0.0
/* IMAGE OBJECT DEFINITIONS */
OBJECT = IMAGE
  INTERCHANGE_FORMAT = BINARY
  LINES = 10303
  LINE_SAMPLES = 9946
  SAMPLE_TYPE = UNSIGNED_INTEGER
  SAMPLE_BITS = 8
  BANDS = 1
  BAND_STORAGE_TYPE = BAND_SEQUENTIAL
  MAXIMUM = 255
  MEAN = 181.757
  MINIMUM = 1
  STANDARD_DEVIATION = 94.7627
END_OBJECT = IMAGE
/* MAP OBJECT DEFINITIONS */
OBJECT = IMAGE_MAP_PROJECTION
  ^DATA_SET_MAP_PROJECTION_CATALOG= "DSMAP.CAT"
  A_AXIS_RADIUS = 3396.0
  B_AXIS_RADIUS = 3396.0
  C_AXIS_RADIUS = 3396.0
  CENTER_LATITUDE = 0.0
  CENTER_LONGITUDE = 346.0
  COORDINATE_SYSTEM_NAME = PLANETOGRAPHIC
  COORDINATE_SYSTEM_TYPE = "BODY-FIXED ROTATING"
  EASTERNMOST_LONGITUDE = 50.678
  FIRST_STANDARD_PARALLEL = "N/A"
  LINE_FIRST_PIXEL = 1
  LINE_LAST_PIXEL = 10303
  LINE_PROJECTION_OFFSET = 4271.25
  MAP_PROJECTION_ROTATION = 0.0
  MAP_PROJECTION_TYPE = SINUSOIDAL
  MAP_RESOLUTION = 74.08922548333329
  MAP_SCALE = 0.8
  MAXIMUM_LATITUDE = 54.9035
  MINIMUM_LATITUDE = -81.3737
  POSITIVE_LONGITUDE_DIRECTION = EAST
  REFERENCE_LATITUDE = "N/A"
  REFERENCE_LONGITUDE = "N/A"
  SAMPLE_FIRST_PIXEL = 1
  SAMPLE_LAST_PIXEL = 9946
  SAMPLE_PROJECTION_OFFSET = 5256.75
  SECOND_STANDARD_PARALLEL = "N/A"
  WESTERNMOST_LONGITUDE = -113.487
END_OBJECT = IMAGE_MAP_PROJECTION
/* The JPEG2000 image data file associated with this label. */
OBJECT = COMPRESSED_FILE
  FILE_NAME = "HG505_0000_GR3.JP2"
  RECORD_TYPE = UNDEFINED
  FILE_RECORDS = UNK
  ENCODING_TYPE = "JP2"
  INTERCHANGE_FORMAT = BINARY
  UNCOMPRESSED_FILE_NAME = "HG505_0000_GR3.IMG"
  REQUIRED_STORAGE_BYTES = "102503476"
  ^DESCRIPTION = "JP2INFO.TXT"
END_OBJECT = COMPRESSED_FILE
END
