PDS_VERSION_ID = PDS3
/* FILE DATA ELEMENTS */
RECORD_TYPE = STREAM
/* POINTERS TO DATA OBJECTS */
^COMPRESSED_FILE = "HG550_0000_ND3.JP2"
/* IDENTIFICATION DATA ELEMENTS */
DATA_SET_ID = "MEX-M-HRSC-5-REFDR-MAPPROJECTED-V3.0"
DATA_SET_NAME = "MARS EXPRESS HRSC MAP PROJECTED REFDR V3.0"
DETECTOR_ID = MEX_HRSC_NADIR
EVENT_TYPE = "MARS-TERMINATOR-PHOTOMETRY-Tc-At-Sh"
INSTRUMENT_HOST_ID = MEX
INSTRUMENT_HOST_NAME = "MARS EXPRESS"
INSTRUMENT_ID = HRSC
INSTRUMENT_NAME = "HIGH RESOLUTION STEREO CAMERA"
MISSION_NAME = "MARS EXPRESS"
MISSION_PHASE_NAME = ME_Phase_36
PROCESSING_LEVEL_ID = 3
PRODUCT_CREATION_TIME = 2018-06-28T11:48:36.000Z
PRODUCT_ID = "HG550_0000_ND3.JP2"
RELEASE_ID = 0138
REVISION_ID = 0000
/* QUALITY DATA ELEMENTS */
DATA_QUALITY_ID = 1
DATA_QUALITY_DESC = "Data calculated based on original SPICE kernels"
/* TIME DATA ELEMENTS */
SPACECRAFT_CLOCK_START_COUNT = "1/0433349646.09046"
SPACECRAFT_CLOCK_STOP_COUNT = "1/0433349841.57544"
START_TIME = 2017-01-24T14:55:00.817Z
STOP_TIME = 2017-01-24T14:56:51.818Z
/* ORBITAL DATA ELEMENTS */
ASCENDING_NODE_LONGITUDE = 263.06
MAXIMUM_RESOLUTION = 15.7
FOOTPRINT_POINT_LATITUDE = (-15.9506,-15.9518,-15.9527,-15.9533, -15.9536,-15.9536,-15.953,-15.808, -15.6628,-15.5176,-15.2996,-15.1542, -15.0121,-14.7944,-14.652,-14.5095, -14.3669,-14.2242,-14.082,-13.9426, -13.8031,-13.6636,-13.5239,-13.3141, -13.1741,-13.034,-12.8948,-12.7582, -12.6215,-12.4848,-12.2793,-12.1421, -12.005,-11.8678,-11.7307,-11.5964, -11.3955,-11.1274,-10.859,-10.5233, -10.3889,-10.2545,-10.12,-9.98536, -9.85086,-9.71606,-9.58118,-9.44623, -9.31122,-9.17617,-9.04128,-9.04076, -9.03998,-9.03874,-9.03709,-9.03628, -9.03514,-9.23752,-9.37262,-9.50765, -9.64263,-9.77755,-9.91238,-10.0471, -10.1819,-10.3165,-10.4511,-10.5856, -10.72,-10.9881,-11.3902,-11.6582, -11.7944,-11.9317,-12.0689,-12.2061, -12.3434,-12.549,-12.754,-12.8907, -13.0999,-13.2399,-13.3799,-13.5199, -13.6597,-13.7997,-13.9393,-14.0788, -14.2211,-14.3639,-14.5066,-14.6492, -14.7917,-15.0096,-15.1518,-15.2974, -15.5156,-15.661,-15.8062,-15.9506)
FOOTPRINT_POINT_LONGITUDE = (292.689,292.431,292.171,291.908, 291.642,291.373,291.019,291.022,291.025 ,291.027,291.031,291.034,291.036,291.04 ,291.043,291.045,291.047,291.049, 291.051,291.053,291.056,291.058,291.06, 291.053,291.052,291.045,291.037,291.039 ,291.044,291.05,291.047,291.04,291.04, 291.042,291.048,291.056,291.052,291.054 ,291.054,291.066,291.071,291.082, 291.087,291.091,291.107,291.109,291.11, 291.11,291.112,291.114,291.204,291.348, 291.549,291.818,292.125,292.263,292.442 ,292.548,292.55,292.553,292.555,292.558 ,292.561,292.563,292.566,292.568, 292.571,292.574,292.576,292.577,292.583 ,292.589,292.591,292.595,292.597,292.6, 292.605,292.612,292.614,292.617,292.621 ,292.624,292.628,292.632,292.636, 292.641,292.645,292.648,292.651,292.654 ,292.657,292.66,292.664,292.669,292.672 ,292.675,292.68,292.684,292.687, 292.689)
ORBIT_NUMBER = 16550
ORBITAL_ECCENTRICITY = 0.578
ORBITAL_INCLINATION = 86.92
ORBITAL_SEMIMAJOR_AXIS = 8860.89
PERIAPSIS_ALTITUDE = 346.77
PERIAPSIS_ARGUMENT_ANGLE = 6.41
PERIAPSIS_TIME = 2017-01-24T15:00:52.000Z
SPACECRAFT_ORIENTATION = (0.0,1.0,0.0)
^MEX_ORIENTATION_DESC = "MEX_ORIENTATION_DESC.TXT"
SPACECRAFT_POINTING_MODE = ACROSSTRACK
^MEX_POINTING_DESC = "MEX_POINTING_DESC.TXT"
RIGHT_ASCENSION = -1e+32
DECLINATION = -1e+32
OFFSET_ANGLE = 1.0
SPACECRAFT_SOLAR_DISTANCE = 2.14164e+08
TARGET_NAME = MARS
/* CAMERA DATA ELEMENTS */
DETECTOR_TEMPERATURE = 18.5744
FOCAL_PLANE_TEMPERATURE = 8.5833
INST_CMPRS_NAME = "DISCRETE COSINE TRANSFORMATION (DCT)"
INST_CMPRS_RATIO = 5.89792
INST_CMPRS_QUALITY = 0
INST_CMPRS_QUANTZ_TBL_ID = 0
INSTRUMENT_TEMPERATURE = 11.8457
LENS_TEMPERATURE = 9.6028
MACROPIXEL_SIZE = 1
MISSING_FRAMES = 2
PIXEL_SUBSAMPLING_FLAG = N
SIGNAL_CHAIN_ID = 0
/* RADIOMETRIC DATA ELEMENTS */
BANDWIDTH = 177.0
CENTER_FILTER_WAVELENGTH = 677.5
RADIANCE_OFFSET = 0.603886
RADIANCE_SCALING_FACTOR = 0.0051007
REFLECTANCE_SCALING_FACTOR = 0.000124282
MEX:REFLECTANCE_OFFSET = 0.0147141
/* IMAGE OBJECT DEFINITIONS */
OBJECT = IMAGE
  INTERCHANGE_FORMAT = BINARY
  LINES = 32808
  LINE_SAMPLES = 8106
  SAMPLE_TYPE = UNSIGNED_INTEGER
  SAMPLE_BITS = 8
  BANDS = 1
  BAND_STORAGE_TYPE = BAND_SEQUENTIAL
  MAXIMUM = 255
  MEAN = 67.6354
  MINIMUM = 1
  STANDARD_DEVIATION = 29.6219
END_OBJECT = IMAGE
/* MAP OBJECT DEFINITIONS */
OBJECT = IMAGE_MAP_PROJECTION
  ^DATA_SET_MAP_PROJECTION_CATALOG= "DSMAP.CAT"
  A_AXIS_RADIUS = 3396.0
  B_AXIS_RADIUS = 3396.0
  C_AXIS_RADIUS = 3396.0
  CENTER_LATITUDE = 0.0
  CENTER_LONGITUDE = 292.0
  COORDINATE_SYSTEM_NAME = PLANETOGRAPHIC
  COORDINATE_SYSTEM_TYPE = "BODY-FIXED ROTATING"
  EASTERNMOST_LONGITUDE = 292.689
  FIRST_STANDARD_PARALLEL = "N/A"
  LINE_FIRST_PIXEL = 1
  LINE_LAST_PIXEL = 32808
  LINE_PROJECTION_OFFSET = -42839.0
  MAP_PROJECTION_ROTATION = 0.0
  MAP_PROJECTION_TYPE = SINUSOIDAL
  MAP_RESOLUTION = 4741.71043093333
  MAP_SCALE = 0.0125
  MAXIMUM_LATITUDE = -9.03514
  MINIMUM_LATITUDE = -15.9536
  POSITIVE_LONGITUDE_DIRECTION = EAST
  REFERENCE_LATITUDE = "N/A"
  REFERENCE_LONGITUDE = "N/A"
  SAMPLE_FIRST_PIXEL = 1
  SAMPLE_LAST_PIXEL = 8106
  SAMPLE_PROJECTION_OFFSET = 4962.0
  SECOND_STANDARD_PARALLEL = "N/A"
  WESTERNMOST_LONGITUDE = 291.019
END_OBJECT = IMAGE_MAP_PROJECTION
/* The JPEG2000 image data file associated with this label. */
OBJECT = COMPRESSED_FILE
  FILE_NAME = "HG550_0000_ND3.JP2"
  RECORD_TYPE = UNDEFINED
  FILE_RECORDS = UNK
  ENCODING_TYPE = "JP2"
  INTERCHANGE_FORMAT = BINARY
  UNCOMPRESSED_FILE_NAME = "HG550_0000_ND3.IMG"
  REQUIRED_STORAGE_BYTES = "265974072"
  ^DESCRIPTION = "JP2INFO.TXT"
END_OBJECT = COMPRESSED_FILE
END
