PDS_VERSION_ID = PDS3
/* FILE DATA ELEMENTS */
RECORD_TYPE = STREAM
/* POINTERS TO DATA OBJECTS */
^COMPRESSED_FILE = "HG550_0000_S23.JP2"
/* IDENTIFICATION DATA ELEMENTS */
DATA_SET_ID = "MEX-M-HRSC-5-REFDR-MAPPROJECTED-V3.0"
DATA_SET_NAME = "MARS EXPRESS HRSC MAP PROJECTED REFDR V3.0"
DETECTOR_ID = MEX_HRSC_S2
EVENT_TYPE = "MARS-TERMINATOR-PHOTOMETRY-Tc-At-Sh"
INSTRUMENT_HOST_ID = MEX
INSTRUMENT_HOST_NAME = "MARS EXPRESS"
INSTRUMENT_ID = HRSC
INSTRUMENT_NAME = "HIGH RESOLUTION STEREO CAMERA"
MISSION_NAME = "MARS EXPRESS"
MISSION_PHASE_NAME = ME_Phase_36
PROCESSING_LEVEL_ID = 3
PRODUCT_CREATION_TIME = 2018-06-28T11:48:36.000Z
PRODUCT_ID = "HG550_0000_S23.JP2"
RELEASE_ID = 0138
REVISION_ID = 0000
/* QUALITY DATA ELEMENTS */
DATA_QUALITY_ID = 1
DATA_QUALITY_DESC = "Data calculated based on original SPICE kernels"
/* TIME DATA ELEMENTS */
SPACECRAFT_CLOCK_START_COUNT = "1/0433349646.09046"
SPACECRAFT_CLOCK_STOP_COUNT = "1/0433349841.57544"
START_TIME = 2017-01-24T14:54:13.852Z
STOP_TIME = 2017-01-24T14:56:12.801Z
/* ORBITAL DATA ELEMENTS */
ASCENDING_NODE_LONGITUDE = 263.06
MAXIMUM_RESOLUTION = 35
FOOTPRINT_POINT_LATITUDE = (-15.9912,-15.9856,-15.9797,-15.9736, -15.9672,-15.9605,-15.9536,-15.9465, -15.939,-15.9313,-15.9234,-15.9308, -15.7857,-15.6403,-15.4949,-15.3492, -15.2046,-14.9898,-14.8466,-14.7031, -14.5594,-14.4155,-14.2739,-14.1331, -13.9917,-13.8507,-13.7092,-13.5677, -13.4173,-13.1978,-12.9717,-12.8256, -12.6227,-12.4862,-12.3421,-12.2012, -11.9871,-11.8504,-11.5937,-11.3902, -11.241,-10.9705,-10.835,-10.7019, -10.446,-10.1986,-9.94664,-9.76358, -9.63103,-9.49828,-9.36507,-9.10512, -9.03564,-9.04273,-9.05672,-9.06959, -9.07877,-9.09062,-9.09983,-9.30206, -9.50048,-9.63323,-9.76664,-9.89886, -10.0966,-10.3596,-10.492,-10.6885, -10.8717,-11.0595,-11.3734,-11.5066, -11.644,-11.8507,-11.9884,-12.1254, -12.2635,-12.4287,-12.5678,-12.8314, -12.9689,-13.1057,-13.2439,-13.3914, -13.5385,-13.6931,-13.923,-14.064, -14.2752,-14.4869,-14.7024,-14.8458, -14.9894,-15.2042,-15.42,-15.5661, -15.7123,-15.858,-16.0032,-15.9912)
FOOTPRINT_POINT_LONGITUDE = (292.487,292.35,292.212,292.074,291.935 ,291.795,291.655,291.514,291.373,291.23 ,291.087,290.948,290.951,290.955, 290.958,290.962,290.965,290.97,290.973, 290.976,290.979,290.982,290.984,290.987 ,290.989,290.992,290.995,290.998, 290.993,290.989,290.981,290.979,290.986 ,290.991,290.988,290.987,290.984, 290.986,291.003,291.006,290.998,291.001 ,291.002,291.005,291.018,291.035, 291.047,291.06,291.062,291.063,291.065, 291.069,291.235,291.369,291.62,291.854, 292.041,292.284,292.454,292.576,292.581 ,292.584,292.587,292.59,292.594,292.6, 292.603,292.607,292.609,292.613,292.618 ,292.622,292.625,292.63,292.634,292.637 ,292.64,292.647,292.65,292.656,292.659, 292.663,292.666,292.67,292.675,292.68, 292.687,292.69,292.696,292.701,292.707, 292.711,292.715,292.721,292.727,292.731 ,292.735,292.739,292.743,292.487)
ORBIT_NUMBER = 16550
ORBITAL_ECCENTRICITY = 0.578
ORBITAL_INCLINATION = 86.92
ORBITAL_SEMIMAJOR_AXIS = 8860.89
PERIAPSIS_ALTITUDE = 346.77
PERIAPSIS_ARGUMENT_ANGLE = 6.41
PERIAPSIS_TIME = 2017-01-24T15:00:52.000Z
SPACECRAFT_ORIENTATION = (0.0,1.0,0.0)
^MEX_ORIENTATION_DESC = "MEX_ORIENTATION_DESC.TXT"
SPACECRAFT_POINTING_MODE = ACROSSTRACK
^MEX_POINTING_DESC = "MEX_POINTING_DESC.TXT"
RIGHT_ASCENSION = -1e+32
DECLINATION = -1e+32
OFFSET_ANGLE = 1.0
SPACECRAFT_SOLAR_DISTANCE = 2.14164e+08
TARGET_NAME = MARS
/* CAMERA DATA ELEMENTS */
DETECTOR_TEMPERATURE = 18.3705
FOCAL_PLANE_TEMPERATURE = 8.5833
INST_CMPRS_NAME = "DISCRETE COSINE TRANSFORMATION (DCT)"
INST_CMPRS_RATIO = 10.9973
INST_CMPRS_QUALITY = 0
INST_CMPRS_QUANTZ_TBL_ID = 0
INSTRUMENT_TEMPERATURE = 11.8457
LENS_TEMPERATURE = 9.6028
MACROPIXEL_SIZE = 2
MISSING_FRAMES = 0
PIXEL_SUBSAMPLING_FLAG = N
SIGNAL_CHAIN_ID = 1
/* RADIOMETRIC DATA ELEMENTS */
BANDWIDTH = 178.0
CENTER_FILTER_WAVELENGTH = 679.0
RADIANCE_OFFSET = 0.748774
RADIANCE_SCALING_FACTOR = 0.00551134
REFLECTANCE_SCALING_FACTOR = 0.000133868
MEX:REFLECTANCE_OFFSET = 0.0181875
/* IMAGE OBJECT DEFINITIONS */
OBJECT = IMAGE
  INTERCHANGE_FORMAT = BINARY
  LINES = 16404
  LINE_SAMPLES = 4053
  SAMPLE_TYPE = UNSIGNED_INTEGER
  SAMPLE_BITS = 8
  BANDS = 1
  BAND_STORAGE_TYPE = BAND_SEQUENTIAL
  MAXIMUM = 255
  MEAN = 73.1219
  MINIMUM = 1
  STANDARD_DEVIATION = 30.6182
END_OBJECT = IMAGE
/* MAP OBJECT DEFINITIONS */
OBJECT = IMAGE_MAP_PROJECTION
  ^DATA_SET_MAP_PROJECTION_CATALOG= "DSMAP.CAT"
  A_AXIS_RADIUS = 3396.0
  B_AXIS_RADIUS = 3396.0
  C_AXIS_RADIUS = 3396.0
  CENTER_LATITUDE = 0.0
  CENTER_LONGITUDE = 292.0
  COORDINATE_SYSTEM_NAME = PLANETOGRAPHIC
  COORDINATE_SYSTEM_TYPE = "BODY-FIXED ROTATING"
  EASTERNMOST_LONGITUDE = 292.743
  FIRST_STANDARD_PARALLEL = "N/A"
  LINE_FIRST_PIXEL = 1
  LINE_LAST_PIXEL = 16404
  LINE_PROJECTION_OFFSET = -21419.75
  MAP_PROJECTION_ROTATION = 0.0
  MAP_PROJECTION_TYPE = SINUSOIDAL
  MAP_RESOLUTION = 2370.85521546667
  MAP_SCALE = 0.025
  MAXIMUM_LATITUDE = -9.035640000000001
  MINIMUM_LATITUDE = -16.0032
  POSITIVE_LONGITUDE_DIRECTION = EAST
  REFERENCE_LATITUDE = "N/A"
  REFERENCE_LONGITUDE = "N/A"
  SAMPLE_FIRST_PIXEL = 1
  SAMPLE_LAST_PIXEL = 4053
  SAMPLE_PROJECTION_OFFSET = 2480.75
  SECOND_STANDARD_PARALLEL = "N/A"
  WESTERNMOST_LONGITUDE = 290.948
END_OBJECT = IMAGE_MAP_PROJECTION
/* The JPEG2000 image data file associated with this label. */
OBJECT = COMPRESSED_FILE
  FILE_NAME = "HG550_0000_S23.JP2"
  RECORD_TYPE = UNDEFINED
  FILE_RECORDS = UNK
  ENCODING_TYPE = "JP2"
  INTERCHANGE_FORMAT = BINARY
  UNCOMPRESSED_FILE_NAME = "HG550_0000_S23.IMG"
  REQUIRED_STORAGE_BYTES = "66509730"
  ^DESCRIPTION = "JP2INFO.TXT"
END_OBJECT = COMPRESSED_FILE
END
