PDS_VERSION_ID = PDS3
/* FILE DATA ELEMENTS */
RECORD_TYPE = STREAM
/* POINTERS TO DATA OBJECTS */
^COMPRESSED_FILE = "HG559_0000_P13.JP2"
/* IDENTIFICATION DATA ELEMENTS */
DATA_SET_ID = "MEX-M-HRSC-5-REFDR-MAPPROJECTED-V3.0"
DATA_SET_NAME = "MARS EXPRESS HRSC MAP PROJECTED REFDR V3.0"
DETECTOR_ID = MEX_HRSC_P1
EVENT_TYPE = "MARS-REGIONAL-STEREO-Vo-Fl"
INSTRUMENT_HOST_ID = MEX
INSTRUMENT_HOST_NAME = "MARS EXPRESS"
INSTRUMENT_ID = HRSC
INSTRUMENT_NAME = "HIGH RESOLUTION STEREO CAMERA"
MISSION_NAME = "MARS EXPRESS"
MISSION_PHASE_NAME = ME_Phase_36
PROCESSING_LEVEL_ID = 3
PRODUCT_CREATION_TIME = 2018-06-28T11:48:36.000Z
PRODUCT_ID = "HG559_0000_P13.JP2"
RELEASE_ID = 0138
REVISION_ID = 0000
/* QUALITY DATA ELEMENTS */
DATA_QUALITY_ID = 1
DATA_QUALITY_DESC = "Data calculated based on original SPICE kernels"
/* TIME DATA ELEMENTS */
SPACECRAFT_CLOCK_START_COUNT = "1/0433575884.08242"
SPACECRAFT_CLOCK_STOP_COUNT = "1/0433576235.48820"
START_TIME = 2017-01-27T05:47:24.373Z
STOP_TIME = 2017-01-27T05:50:24.070Z
/* ORBITAL DATA ELEMENTS */
ASCENDING_NODE_LONGITUDE = 262.9
MAXIMUM_RESOLUTION = 44.8
FOOTPRINT_POINT_LATITUDE = (-38.1419,-38.14,-38.1366,-38.1319, -38.1259,-38.1186,-38.0385,-37.8099, -37.5806,-37.3507,-37.0056,-36.6596, -36.4288,-36.2,-35.8514,-35.618, -35.3907,-35.0519,-34.823,-34.593, -34.3677,-34.1446,-33.9209,-33.7002, -33.4796,-33.2593,-33.0415,-32.8237, -32.6079,-32.393,-32.1768,-31.964, -31.7518,-31.4351,-31.2267,-31.0173, -30.8089,-30.603,-30.3967,-30.1907, -29.8865,-29.6837,-29.3819,-29.1817, -28.9818,-28.6837,-28.4859,-28.0968, -27.8057,-27.3893,-27.3893,-27.3914, -27.3934,-27.4013,-27.4034,-27.7942, -28.1837,-28.3808,-28.5783,-28.7755, -28.974,-29.1745,-29.3747,-29.6756, -29.8777,-30.0815,-30.3886,-30.6973, -30.9031,-31.1157,-31.327,-31.5331, -31.8502,-32.0623,-32.2762,-32.4917, -32.8153,-33.034,-33.2507,-33.4686, -33.6889,-33.9128,-34.1376,-34.3567, -34.5805,-34.8071,-35.0334,-35.2618, -35.4908,-35.721,-35.953,-36.3006, -36.6477,-36.8755,-37.1079,-37.3393, -37.5687,-37.7945,-38.0261,-38.1419)
FOOTPRINT_POINT_LONGITUDE = (94.3159,93.8235,93.3336,92.8468, 92.3627,91.8801,91.5043,91.5175,91.5305 ,91.5435,91.5624,91.581,91.593,91.6044, 91.6221,91.6339,91.6446,91.6598,91.671, 91.6822,91.6924,91.7022,91.712,91.7215, 91.7307,91.7399,91.7488,91.7575,91.766, 91.7744,91.7828,91.7909,91.7987,91.8102 ,91.8175,91.8248,91.8321,91.839,91.8459 ,91.8527,91.8624,91.8687,91.878,91.884, 91.8899,91.8987,91.9044,91.9147,91.9226 ,92.0565,92.5117,92.823,93.1568,93.623, 93.9631,94.1193,94.139,94.1486,94.1583, 94.1678,94.1778,94.1876,94.1974,94.2121 ,94.221,94.2318,94.2479,94.2631,94.2736 ,94.2877,94.3006,94.3089,94.3249, 94.3364,94.3484,94.3604,94.3789,94.3915 ,94.4025,94.4133,94.4252,94.4409,94.455 ,94.4636,94.4762,94.4894,94.5027, 94.5159,94.5294,94.5431,94.557,94.5783, 94.6,94.6116,94.6279,94.6438,94.6582, 94.6694,94.6867,94.3159)
ORBIT_NUMBER = 16559
ORBITAL_ECCENTRICITY = 0.578
ORBITAL_INCLINATION = 86.92
ORBITAL_SEMIMAJOR_AXIS = 8863.98
PERIAPSIS_ALTITUDE = 345.46
PERIAPSIS_ARGUMENT_ANGLE = 4.82
PERIAPSIS_TIME = 2017-01-27T05:58:25.000Z
SPACECRAFT_ORIENTATION = (0.0,1.0,0.0)
^MEX_ORIENTATION_DESC = "MEX_ORIENTATION_DESC.TXT"
SPACECRAFT_POINTING_MODE = ACROSSTRACK
^MEX_POINTING_DESC = "MEX_POINTING_DESC.TXT"
RIGHT_ASCENSION = -1e+32
DECLINATION = -1e+32
OFFSET_ANGLE = -0.7
SPACECRAFT_SOLAR_DISTANCE = 2.14584e+08
TARGET_NAME = MARS
/* CAMERA DATA ELEMENTS */
DETECTOR_TEMPERATURE = 17.7588
FOCAL_PLANE_TEMPERATURE = 8.5833
INST_CMPRS_NAME = "DISCRETE COSINE TRANSFORMATION (DCT)"
INST_CMPRS_RATIO = 11.5419
INST_CMPRS_QUALITY = 0
INST_CMPRS_QUANTZ_TBL_ID = 0
INSTRUMENT_TEMPERATURE = 11.8457
LENS_TEMPERATURE = 9.195
MACROPIXEL_SIZE = 2
MISSING_FRAMES = 1
PIXEL_SUBSAMPLING_FLAG = N
SIGNAL_CHAIN_ID = 3
/* RADIOMETRIC DATA ELEMENTS */
BANDWIDTH = 174.0
CENTER_FILTER_WAVELENGTH = 675.0
RADIANCE_OFFSET = 1.54322
RADIANCE_SCALING_FACTOR = 0.00690698
REFLECTANCE_SCALING_FACTOR = 0.000171065
MEX:REFLECTANCE_OFFSET = 0.0382208
/* IMAGE OBJECT DEFINITIONS */
OBJECT = IMAGE
  INTERCHANGE_FORMAT = BINARY
  LINES = 12789
  LINE_SAMPLES = 3233
  SAMPLE_TYPE = UNSIGNED_INTEGER
  SAMPLE_BITS = 8
  BANDS = 1
  BAND_STORAGE_TYPE = BAND_SEQUENTIAL
  MAXIMUM = 255
  MEAN = 111.282
  MINIMUM = 1
  STANDARD_DEVIATION = 47.1074
END_OBJECT = IMAGE
/* MAP OBJECT DEFINITIONS */
OBJECT = IMAGE_MAP_PROJECTION
  ^DATA_SET_MAP_PROJECTION_CATALOG= "DSMAP.CAT"
  A_AXIS_RADIUS = 3396.0
  B_AXIS_RADIUS = 3396.0
  C_AXIS_RADIUS = 3396.0
  CENTER_LATITUDE = 0.0
  CENTER_LONGITUDE = 93.0
  COORDINATE_SYSTEM_NAME = PLANETOGRAPHIC
  COORDINATE_SYSTEM_TYPE = "BODY-FIXED ROTATING"
  EASTERNMOST_LONGITUDE = 94.6867
  FIRST_STANDARD_PARALLEL = "N/A"
  LINE_FIRST_PIXEL = 1
  LINE_LAST_PIXEL = 12789
  LINE_PROJECTION_OFFSET = -32466.25
  MAP_PROJECTION_ROTATION = 0.0
  MAP_PROJECTION_TYPE = SINUSOIDAL
  MAP_RESOLUTION = 1185.42760773333
  MAP_SCALE = 0.05
  MAXIMUM_LATITUDE = -27.3893
  MINIMUM_LATITUDE = -38.1419
  POSITIVE_LONGITUDE_DIRECTION = EAST
  REFERENCE_LATITUDE = "N/A"
  REFERENCE_LONGITUDE = "N/A"
  SAMPLE_FIRST_PIXEL = 1
  SAMPLE_LAST_PIXEL = 3233
  SAMPLE_PROJECTION_OFFSET = 1522.25
  SECOND_STANDARD_PARALLEL = "N/A"
  WESTERNMOST_LONGITUDE = 91.5043
END_OBJECT = IMAGE_MAP_PROJECTION
/* The JPEG2000 image data file associated with this label. */
OBJECT = COMPRESSED_FILE
  FILE_NAME = "HG559_0000_P13.JP2"
  RECORD_TYPE = UNDEFINED
  FILE_RECORDS = UNK
  ENCODING_TYPE = "JP2"
  INTERCHANGE_FORMAT = BINARY
  UNCOMPRESSED_FILE_NAME = "HG559_0000_P13.IMG"
  REQUIRED_STORAGE_BYTES = "41369468"
  ^DESCRIPTION = "JP2INFO.TXT"
END_OBJECT = COMPRESSED_FILE
END
