PDS_VERSION_ID = PDS3
/* FILE DATA ELEMENTS */
RECORD_TYPE = STREAM
/* POINTERS TO DATA OBJECTS */
^COMPRESSED_FILE = "HG560_0000_P13.JP2"
/* IDENTIFICATION DATA ELEMENTS */
DATA_SET_ID = "MEX-M-HRSC-5-REFDR-MAPPROJECTED-V3.0"
DATA_SET_NAME = "MARS EXPRESS HRSC MAP PROJECTED REFDR V3.0"
DETECTOR_ID = MEX_HRSC_P1
EVENT_TYPE = "MARS-REGIONAL-SYSTEMTEST-Im-Fl-Gl"
INSTRUMENT_HOST_ID = MEX
INSTRUMENT_HOST_NAME = "MARS EXPRESS"
INSTRUMENT_ID = HRSC
INSTRUMENT_NAME = "HIGH RESOLUTION STEREO CAMERA"
MISSION_NAME = "MARS EXPRESS"
MISSION_PHASE_NAME = ME_Phase_36
PROCESSING_LEVEL_ID = 3
PRODUCT_CREATION_TIME = 2018-06-28T11:48:36.000Z
PRODUCT_ID = "HG560_0000_P13.JP2"
RELEASE_ID = 0138
REVISION_ID = 0000
/* QUALITY DATA ELEMENTS */
DATA_QUALITY_ID = 1
DATA_QUALITY_DESC = "Data calculated based on original SPICE kernels"
/* TIME DATA ELEMENTS */
SPACECRAFT_CLOCK_START_COUNT = "1/0433601348.08248"
SPACECRAFT_CLOCK_STOP_COUNT = "1/0433601607.55323"
START_TIME = 2017-01-27T12:50:48.461Z
STOP_TIME = 2017-01-27T12:53:20.820Z
/* ORBITAL DATA ELEMENTS */
ASCENDING_NODE_LONGITUDE = 262.88
MAXIMUM_RESOLUTION = 34.6
FOOTPRINT_POINT_LATITUDE = (-24.9679,-24.9701,-24.9716,-24.9725, -24.9738,-24.9743,-24.9936,-24.7945, -24.6027,-24.4127,-24.0413,-23.8518, -23.6581,-23.3725,-23.1837,-22.9941, -22.8045,-22.6143,-22.424,-22.1378, -21.9468,-21.6625,-21.4679,-21.1807, -20.9891,-20.797,-20.5087,-20.2201, -20.0261,-19.8307,-19.6405,-19.3557, -19.0665,-18.8735,-18.6801,-18.4871, -18.294,-18.0035,-17.7127,-17.5188, -17.2279,-17.0337,-16.8393,-16.6451, -16.4506,-16.2564,-16.0615,-15.7694, -15.5745,-15.3263,-15.3249,-15.3235, -15.3206,-15.3189,-15.3171,-15.3151, -15.5102,-15.7059,-15.9008,-16.0953, -16.2903,-16.4847,-16.6795,-16.8737, -17.1648,-17.4555,-17.6496,-17.9401, -18.2302,-18.426,-18.7198,-18.913, -19.2921,-19.4851,-19.774,-19.9663, -20.2548,-20.4463,-20.6378,-20.8325, -21.0256,-21.2173,-21.5044,-21.6957, -22.0724,-22.2632,-22.4546,-22.6459, -22.836,-23.028,-23.2184,-23.4067, -23.5968,-23.7868,-23.9763,-24.1654, -24.3543,-24.5434,-24.735,-24.9679)
FOOTPRINT_POINT_LONGITUDE = (350.825,350.462,350.157,349.928, 349.489,349.203,348.9,348.908,348.913, 348.919,348.925,348.93,348.936,348.944, 348.947,348.952,348.956,348.96,348.964, 348.97,348.974,348.979,348.985,348.99, 348.994,348.998,349.004,349.009,349.013 ,349.018,349.02,349.023,349.028,349.031 ,349.034,349.037,349.04,349.044,349.048 ,349.051,349.055,349.057,349.06,349.062 ,349.065,349.067,349.069,349.072, 349.075,349.077,349.299,349.506,349.86, 350.112,350.333,350.604,350.609,350.615 ,350.62,350.625,350.63,350.635,350.64, 350.645,350.653,350.661,350.666,350.674 ,350.682,350.688,350.698,350.704, 350.711,350.717,350.725,350.731,350.74, 350.745,350.75,350.758,350.764,350.77, 350.779,350.785,350.794,350.8,350.806, 350.812,350.818,350.825,350.831,350.837 ,350.843,350.849,350.856,350.862, 350.868,350.874,350.881,350.825)
ORBIT_NUMBER = 16560
ORBITAL_ECCENTRICITY = 0.577
ORBITAL_INCLINATION = 86.92
ORBITAL_SEMIMAJOR_AXIS = 8856.57
PERIAPSIS_ALTITUDE = 346.26
PERIAPSIS_ARGUMENT_ANGLE = 4.65
PERIAPSIS_TIME = 2017-01-27T12:58:08.000Z
SPACECRAFT_ORIENTATION = (0.0,1.0,0.0)
^MEX_ORIENTATION_DESC = "MEX_ORIENTATION_DESC.TXT"
SPACECRAFT_POINTING_MODE = NADIR
^MEX_POINTING_DESC = "MEX_POINTING_DESC.TXT"
RIGHT_ASCENSION = -1e+32
DECLINATION = -1e+32
OFFSET_ANGLE = -1e+32
SPACECRAFT_SOLAR_DISTANCE = 2.14631e+08
TARGET_NAME = MARS
/* CAMERA DATA ELEMENTS */
DETECTOR_TEMPERATURE = 17.7588
FOCAL_PLANE_TEMPERATURE = 8.7872
INST_CMPRS_NAME = "DISCRETE COSINE TRANSFORMATION (DCT)"
INST_CMPRS_RATIO = 8.02514
INST_CMPRS_QUALITY = 0
INST_CMPRS_QUANTZ_TBL_ID = 0
INSTRUMENT_TEMPERATURE = 11.234
LENS_TEMPERATURE = 8.7872
MACROPIXEL_SIZE = 2
MISSING_FRAMES = 0
PIXEL_SUBSAMPLING_FLAG = N
SIGNAL_CHAIN_ID = 3
/* RADIOMETRIC DATA ELEMENTS */
BANDWIDTH = 174.0
CENTER_FILTER_WAVELENGTH = 675.0
RADIANCE_OFFSET = 1.21414
RADIANCE_SCALING_FACTOR = 0.00461812
REFLECTANCE_SCALING_FACTOR = 0.000114428
MEX:REFLECTANCE_OFFSET = 0.0300838
/* IMAGE OBJECT DEFINITIONS */
OBJECT = IMAGE
  INTERCHANGE_FORMAT = BINARY
  LINES = 22961
  LINE_SAMPLES = 4590
  SAMPLE_TYPE = UNSIGNED_INTEGER
  SAMPLE_BITS = 8
  BANDS = 1
  BAND_STORAGE_TYPE = BAND_SEQUENTIAL
  MAXIMUM = 255
  MEAN = 97.2643
  MINIMUM = 1
  STANDARD_DEVIATION = 41.0468
END_OBJECT = IMAGE
/* MAP OBJECT DEFINITIONS */
OBJECT = IMAGE_MAP_PROJECTION
  ^DATA_SET_MAP_PROJECTION_CATALOG= "DSMAP.CAT"
  A_AXIS_RADIUS = 3396.0
  B_AXIS_RADIUS = 3396.0
  C_AXIS_RADIUS = 3396.0
  CENTER_LATITUDE = 0.0
  CENTER_LONGITUDE = 350.0
  COORDINATE_SYSTEM_NAME = PLANETOGRAPHIC
  COORDINATE_SYSTEM_TYPE = "BODY-FIXED ROTATING"
  EASTERNMOST_LONGITUDE = 350.881
  FIRST_STANDARD_PARALLEL = "N/A"
  LINE_FIRST_PIXEL = 1
  LINE_LAST_PIXEL = 22961
  LINE_PROJECTION_OFFSET = -36292.75
  MAP_PROJECTION_ROTATION = 0.0
  MAP_PROJECTION_TYPE = SINUSOIDAL
  MAP_RESOLUTION = 2370.85521546667
  MAP_SCALE = 0.025
  MAXIMUM_LATITUDE = -15.3151
  MINIMUM_LATITUDE = -24.9936
  POSITIVE_LONGITUDE_DIRECTION = EAST
  REFERENCE_LATITUDE = "N/A"
  REFERENCE_LONGITUDE = "N/A"
  SAMPLE_FIRST_PIXEL = 1
  SAMPLE_LAST_PIXEL = 4590
  SAMPLE_PROJECTION_OFFSET = 2528.25
  SECOND_STANDARD_PARALLEL = "N/A"
  WESTERNMOST_LONGITUDE = 348.9
END_OBJECT = IMAGE_MAP_PROJECTION
/* The JPEG2000 image data file associated with this label. */
OBJECT = COMPRESSED_FILE
  FILE_NAME = "HG560_0000_P13.JP2"
  RECORD_TYPE = UNDEFINED
  FILE_RECORDS = UNK
  ENCODING_TYPE = "JP2"
  INTERCHANGE_FORMAT = BINARY
  UNCOMPRESSED_FILE_NAME = "HG560_0000_P13.IMG"
  REQUIRED_STORAGE_BYTES = "105418530"
  ^DESCRIPTION = "JP2INFO.TXT"
END_OBJECT = COMPRESSED_FILE
END
