PDS_VERSION_ID = PDS3
/* FILE DATA ELEMENTS */
RECORD_TYPE = STREAM
/* POINTERS TO DATA OBJECTS */
^COMPRESSED_FILE = "HG563_0000_ND3.JP2"
/* IDENTIFICATION DATA ELEMENTS */
DATA_SET_ID = "MEX-M-HRSC-5-REFDR-MAPPROJECTED-V3.0"
DATA_SET_NAME = "MARS EXPRESS HRSC MAP PROJECTED REFDR V3.0"
DETECTOR_ID = MEX_HRSC_NADIR
EVENT_TYPE = "MARS-REGIONAL-MAPPING-Im-Fl-Gl"
INSTRUMENT_HOST_ID = MEX
INSTRUMENT_HOST_NAME = "MARS EXPRESS"
INSTRUMENT_ID = HRSC
INSTRUMENT_NAME = "HIGH RESOLUTION STEREO CAMERA"
MISSION_NAME = "MARS EXPRESS"
MISSION_PHASE_NAME = ME_Phase_36
PROCESSING_LEVEL_ID = 3
PRODUCT_CREATION_TIME = 2018-06-28T11:48:36.000Z
PRODUCT_ID = "HG563_0000_ND3.JP2"
RELEASE_ID = 0138
REVISION_ID = 0000
/* QUALITY DATA ELEMENTS */
DATA_QUALITY_ID = 1
DATA_QUALITY_DESC = "Data calculated based on original SPICE kernels"
/* TIME DATA ELEMENTS */
SPACECRAFT_CLOCK_START_COUNT = "1/0433676384.08267"
SPACECRAFT_CLOCK_STOP_COUNT = "1/0433677009.22806"
START_TIME = 2017-01-28T09:42:26.986Z
STOP_TIME = 2017-01-28T09:49:24.930Z
/* ORBITAL DATA ELEMENTS */
ASCENDING_NODE_LONGITUDE = 262.82
MAXIMUM_RESOLUTION = 21.7
FOOTPRINT_POINT_LATITUDE = (-48.1536,-48.1501,-48.141,-48.1263, -48.1088,-48.0818,-47.505,-46.9489, -46.399,-45.8552,-45.3179,-44.786, -44.2605,-43.7399,-43.2259,-42.7166, -42.213,-41.7147,-41.2211,-40.7331, -40.2498,-39.7717,-39.2984,-38.8298, -38.3656,-37.9061,-37.4445,-36.981, -36.5152,-36.061,-35.6485,-35.2343, -34.8186,-34.4013,-33.9824,-33.3571, -32.9451,-32.5363,-32.1307,-31.7297, -31.3325,-30.9376,-30.5459,-30.1588, -29.7737,-29.0145,-28.2668,-27.7143, -26.9819,-26.4442,-25.9081,-25.9081, -25.9066,-25.9024,-26.4348,-26.9731, -27.7063,-28.2595,-29.0082,-29.7686, -30.1541,-30.5419,-30.9343,-31.33, -31.7279,-32.1297,-32.536,-32.9456, -33.3585,-33.9853,-34.4053,-34.8236, -35.2406,-35.6559,-36.0697,-36.5247, -36.9919,-37.4571,-37.9202,-38.3814, -38.8472,-39.3176,-39.7928,-40.2731, -40.7586,-41.2489,-41.7448,-42.2458, -42.7521,-43.2643,-43.7813,-44.3052, -44.8342,-45.3697,-45.9109,-46.4587, -47.0132,-47.5739,-48.1409,-48.1536)
FOOTPRINT_POINT_LONGITUDE = (44.3299,43.6295,42.8294,42.0306, 41.3315,40.4811,40.2113,40.2929,40.3706 ,40.4446,40.5152,40.5824,40.647,40.7085 ,40.7663,40.8216,40.8748,40.9258, 40.9752,41.022,41.0665,41.1092,41.1505, 41.1904,41.2292,41.2627,41.2959,41.3315 ,41.3633,41.3991,41.4264,41.4532, 41.4798,41.5053,41.5306,41.5671,41.5903 ,41.6141,41.6325,41.6526,41.673,41.6936 ,41.7113,41.729,41.7464,41.7795,41.8108 ,41.8319,41.8582,41.8785,42.312,42.9331 ,43.3691,44.0025,44.0237,44.0442, 44.0741,44.0964,44.1269,44.159,44.1782, 44.1939,44.21,44.2276,44.2462,44.264, 44.2823,44.3026,44.3246,44.3525,44.3744 ,44.3977,44.4178,44.4408,44.4628, 44.4875,44.5117,44.5389,44.5651,44.5913 ,44.6205,44.6492,44.6785,44.7055, 44.7356,44.7672,44.8005,44.8325,44.8664 ,44.9,44.9365,44.9729,45.0102,45.0505, 45.0932,45.1347,45.1759,45.2213,45.269, 44.3299)
ORBIT_NUMBER = 16563
ORBITAL_ECCENTRICITY = 0.578
ORBITAL_INCLINATION = 86.92
ORBITAL_SEMIMAJOR_AXIS = 8863.72
PERIAPSIS_ALTITUDE = 345.33
PERIAPSIS_ARGUMENT_ANGLE = 4.18
PERIAPSIS_TIME = 2017-01-28T09:57:25.000Z
SPACECRAFT_ORIENTATION = (0.0,1.0,0.0)
^MEX_ORIENTATION_DESC = "MEX_ORIENTATION_DESC.TXT"
SPACECRAFT_POINTING_MODE = NADIR
^MEX_POINTING_DESC = "MEX_POINTING_DESC.TXT"
RIGHT_ASCENSION = -1e+32
DECLINATION = -1e+32
OFFSET_ANGLE = -1e+32
SPACECRAFT_SOLAR_DISTANCE = 2.14773e+08
TARGET_NAME = MARS
/* CAMERA DATA ELEMENTS */
DETECTOR_TEMPERATURE = 18.7783
FOCAL_PLANE_TEMPERATURE = 8.9911
INST_CMPRS_NAME = "DISCRETE COSINE TRANSFORMATION (DCT)"
INST_CMPRS_RATIO = 6.20074
INST_CMPRS_QUALITY = 0
INST_CMPRS_QUANTZ_TBL_ID = 0
INSTRUMENT_TEMPERATURE = 12.0496
LENS_TEMPERATURE = 9.3989
MACROPIXEL_SIZE = 1
MISSING_FRAMES = 2
PIXEL_SUBSAMPLING_FLAG = N
SIGNAL_CHAIN_ID = 0
/* RADIOMETRIC DATA ELEMENTS */
BANDWIDTH = 177.0
CENTER_FILTER_WAVELENGTH = 677.5
RADIANCE_OFFSET = 1.23877
RADIANCE_SCALING_FACTOR = 0.0121822
REFLECTANCE_SCALING_FACTOR = 0.000298509
MEX:REFLECTANCE_OFFSET = 0.0303545
/* IMAGE OBJECT DEFINITIONS */
OBJECT = IMAGE
  INTERCHANGE_FORMAT = BINARY
  LINES = 52755
  LINE_SAMPLES = 8220
  SAMPLE_TYPE = UNSIGNED_INTEGER
  SAMPLE_BITS = 8
  BANDS = 1
  BAND_STORAGE_TYPE = BAND_SEQUENTIAL
  MAXIMUM = 255
  MEAN = 97.0337
  MINIMUM = 1
  STANDARD_DEVIATION = 36.7716
END_OBJECT = IMAGE
/* MAP OBJECT DEFINITIONS */
OBJECT = IMAGE_MAP_PROJECTION
  ^DATA_SET_MAP_PROJECTION_CATALOG= "DSMAP.CAT"
  A_AXIS_RADIUS = 3396.0
  B_AXIS_RADIUS = 3396.0
  C_AXIS_RADIUS = 3396.0
  CENTER_LATITUDE = 0.0
  CENTER_LONGITUDE = 43.0
  COORDINATE_SYSTEM_NAME = PLANETOGRAPHIC
  COORDINATE_SYSTEM_TYPE = "BODY-FIXED ROTATING"
  EASTERNMOST_LONGITUDE = 45.269
  FIRST_STANDARD_PARALLEL = "N/A"
  LINE_FIRST_PIXEL = 1
  LINE_LAST_PIXEL = 52755
  LINE_PROJECTION_OFFSET = -61412.0
  MAP_PROJECTION_ROTATION = 0.0
  MAP_PROJECTION_TYPE = SINUSOIDAL
  MAP_RESOLUTION = 2370.85521546667
  MAP_SCALE = 0.025
  MAXIMUM_LATITUDE = -25.9024
  MINIMUM_LATITUDE = -48.1536
  POSITIVE_LONGITUDE_DIRECTION = EAST
  REFERENCE_LATITUDE = "N/A"
  REFERENCE_LONGITUDE = "N/A"
  SAMPLE_FIRST_PIXEL = 1
  SAMPLE_LAST_PIXEL = 8220
  SAMPLE_PROJECTION_OFFSET = 4595.0
  SECOND_STANDARD_PARALLEL = "N/A"
  WESTERNMOST_LONGITUDE = 40.2113
END_OBJECT = IMAGE_MAP_PROJECTION
/* The JPEG2000 image data file associated with this label. */
OBJECT = COMPRESSED_FILE
  FILE_NAME = "HG563_0000_ND3.JP2"
  RECORD_TYPE = UNDEFINED
  FILE_RECORDS = UNK
  ENCODING_TYPE = "JP2"
  INTERCHANGE_FORMAT = BINARY
  UNCOMPRESSED_FILE_NAME = "HG563_0000_ND3.IMG"
  REQUIRED_STORAGE_BYTES = "433678980"
  ^DESCRIPTION = "JP2INFO.TXT"
END_OBJECT = COMPRESSED_FILE
END
