PDS_VERSION_ID = PDS3
/* FILE DATA ELEMENTS */
RECORD_TYPE = STREAM
/* POINTERS TO DATA OBJECTS */
^COMPRESSED_FILE = "HG565_0000_BL3.JP2"
/* IDENTIFICATION DATA ELEMENTS */
DATA_SET_ID = "MEX-M-HRSC-5-REFDR-MAPPROJECTED-V3.0"
DATA_SET_NAME = "MARS EXPRESS HRSC MAP PROJECTED REFDR V3.0"
DETECTOR_ID = MEX_HRSC_BLUE
EVENT_TYPE = "MARS-REGIONAL-MAPPING-Im-Fl-Gl"
INSTRUMENT_HOST_ID = MEX
INSTRUMENT_HOST_NAME = "MARS EXPRESS"
INSTRUMENT_ID = HRSC
INSTRUMENT_NAME = "HIGH RESOLUTION STEREO CAMERA"
MISSION_NAME = "MARS EXPRESS"
MISSION_PHASE_NAME = ME_Phase_36
PROCESSING_LEVEL_ID = 3
PRODUCT_CREATION_TIME = 2018-06-28T11:48:36.000Z
PRODUCT_ID = "HG565_0000_BL3.JP2"
RELEASE_ID = 0138
REVISION_ID = 0000
/* QUALITY DATA ELEMENTS */
DATA_QUALITY_ID = 1
DATA_QUALITY_DESC = "Data calculated based on original SPICE kernels"
/* TIME DATA ELEMENTS */
SPACECRAFT_CLOCK_START_COUNT = "1/0433726908.08253"
SPACECRAFT_CLOCK_STOP_COUNT = "1/0433727387.48300"
START_TIME = 2017-01-28T23:43:36.981Z
STOP_TIME = 2017-01-28T23:48:55.305Z
/* ORBITAL DATA ELEMENTS */
ASCENDING_NODE_LONGITUDE = 262.78
MAXIMUM_RESOLUTION = 86.6
FOOTPRINT_POINT_LATITUDE = (-42.5644,-42.5643,-42.5618,-42.5547, -42.5449,-42.531,-42.5049,-42.1013, -41.7017,-41.305,-40.9114,-40.5217, -40.1349,-39.7518,-39.3719,-38.9959, -38.6202,-38.2497,-37.8822,-37.5156, -37.1482,-36.7791,-36.4087,-36.0368, -35.5162,-35.1863,-34.8554,-34.3574, -34.0255,-33.6911,-33.1904,-32.8592, -32.531,-32.0427,-31.5827,-31.2631, -30.9462,-30.4748,-30.1624,-29.8532, -29.5449,-29.2392,-28.7846,-28.4824, -28.185,-27.8871,-27.5936,-26.8638, -26.2876,-25.8591,-25.4605,-25.4612, -25.4593,-25.4567,-25.8785,-26.5952, -26.886,-27.1763,-27.4697,-27.7638, -28.2099,-28.6596,-28.9619,-29.2668, -29.7273,-30.0351,-30.346,-30.6597, -30.9776,-31.2952,-31.6154,-32.0761, -32.566,-32.8947,-33.2274,-33.7295, -34.0653,-34.3997,-34.7327,-35.065, -35.3961,-35.7263,-36.2735,-36.6459, -37.0169,-37.3871,-37.7537,-38.1225, -38.4926,-38.8645,-39.2414,-39.6217, -40.0052,-40.3921,-40.7825,-41.1771, -41.5751,-41.9762,-42.3815,-42.5644)
FOOTPRINT_POINT_LONGITUDE = (199.724,199.166,198.683,198.014,197.42 ,196.788,196.239,196.28,196.321,196.36, 196.398,196.435,196.47,196.506,196.54, 196.575,196.603,196.634,196.665,196.693 ,196.721,196.748,196.775,196.801, 196.834,196.856,196.877,196.908,196.931 ,196.951,196.979,196.997,197.015,197.04 ,197.063,197.079,197.094,197.116, 197.131,197.145,197.158,197.171,197.19, 197.202,197.214,197.226,197.237,197.264 ,197.283,197.297,197.676,198.236, 198.816,199.165,199.401,199.427,199.438 ,199.45,199.462,199.474,199.492,199.511 ,199.523,199.536,199.555,199.573, 199.587,199.602,199.612,199.627,199.642 ,199.664,199.687,199.703,199.718, 199.742,199.758,199.775,199.793,199.81, 199.827,199.845,199.874,199.895,199.915 ,199.935,199.959,199.98,200.004,200.032 ,200.056,200.08,200.105,200.13,200.155, 200.18,200.206,200.231,200.256,199.724)
ORBIT_NUMBER = 16565
ORBITAL_ECCENTRICITY = 0.578
ORBITAL_INCLINATION = 86.93
ORBITAL_SEMIMAJOR_AXIS = 8855.96
PERIAPSIS_ALTITUDE = 345.47
PERIAPSIS_ARGUMENT_ANGLE = 3.8
PERIAPSIS_TIME = 2017-01-28T23:56:50.000Z
SPACECRAFT_ORIENTATION = (0.0,1.0,0.0)
^MEX_ORIENTATION_DESC = "MEX_ORIENTATION_DESC.TXT"
SPACECRAFT_POINTING_MODE = NADIR
^MEX_POINTING_DESC = "MEX_POINTING_DESC.TXT"
RIGHT_ASCENSION = -1e+32
DECLINATION = -1e+32
OFFSET_ANGLE = -1e+32
SPACECRAFT_SOLAR_DISTANCE = 2.14868e+08
TARGET_NAME = MARS
/* CAMERA DATA ELEMENTS */
DETECTOR_TEMPERATURE = 18.5744
FOCAL_PLANE_TEMPERATURE = 8.5833
INST_CMPRS_NAME = "DISCRETE COSINE TRANSFORMATION (DCT)"
INST_CMPRS_RATIO = 4.04935
INST_CMPRS_QUALITY = 0
INST_CMPRS_QUANTZ_TBL_ID = 0
INSTRUMENT_TEMPERATURE = 11.6418
LENS_TEMPERATURE = 9.195
MACROPIXEL_SIZE = 4
MISSING_FRAMES = 12
PIXEL_SUBSAMPLING_FLAG = N
SIGNAL_CHAIN_ID = 2
/* RADIOMETRIC DATA ELEMENTS */
BANDWIDTH = 76.0
CENTER_FILTER_WAVELENGTH = 444.0
RADIANCE_OFFSET = 0.259154
RADIANCE_SCALING_FACTOR = 0.00142471
REFLECTANCE_SCALING_FACTOR = 6.758e-05
MEX:REFLECTANCE_OFFSET = 0.0122928
/* IMAGE OBJECT DEFINITIONS */
OBJECT = IMAGE
  INTERCHANGE_FORMAT = BINARY
  LINES = 10145
  LINE_SAMPLES = 1764
  SAMPLE_TYPE = UNSIGNED_INTEGER
  SAMPLE_BITS = 8
  BANDS = 1
  BAND_STORAGE_TYPE = BAND_SEQUENTIAL
  MAXIMUM = 255
  MEAN = 109.483
  MINIMUM = 1
  STANDARD_DEVIATION = 30.3531
END_OBJECT = IMAGE
/* MAP OBJECT DEFINITIONS */
OBJECT = IMAGE_MAP_PROJECTION
  ^DATA_SET_MAP_PROJECTION_CATALOG= "DSMAP.CAT"
  A_AXIS_RADIUS = 3396.0
  B_AXIS_RADIUS = 3396.0
  C_AXIS_RADIUS = 3396.0
  CENTER_LATITUDE = 0.0
  CENTER_LONGITUDE = 198.0
  COORDINATE_SYSTEM_NAME = PLANETOGRAPHIC
  COORDINATE_SYSTEM_TYPE = "BODY-FIXED ROTATING"
  EASTERNMOST_LONGITUDE = 200.256
  FIRST_STANDARD_PARALLEL = "N/A"
  LINE_FIRST_PIXEL = 1
  LINE_LAST_PIXEL = 10145
  LINE_PROJECTION_OFFSET = -15084.125
  MAP_PROJECTION_ROTATION = 0.0
  MAP_PROJECTION_TYPE = SINUSOIDAL
  MAP_RESOLUTION = 592.713803866667
  MAP_SCALE = 0.1
  MAXIMUM_LATITUDE = -25.4567
  MINIMUM_LATITUDE = -42.5644
  POSITIVE_LONGITUDE_DIRECTION = EAST
  REFERENCE_LATITUDE = "N/A"
  REFERENCE_LONGITUDE = "N/A"
  SAMPLE_FIRST_PIXEL = 1
  SAMPLE_LAST_PIXEL = 1764
  SAMPLE_PROJECTION_OFFSET = 777.875
  SECOND_STANDARD_PARALLEL = "N/A"
  WESTERNMOST_LONGITUDE = 196.239
END_OBJECT = IMAGE_MAP_PROJECTION
/* The JPEG2000 image data file associated with this label. */
OBJECT = COMPRESSED_FILE
  FILE_NAME = "HG565_0000_BL3.JP2"
  RECORD_TYPE = UNDEFINED
  FILE_RECORDS = UNK
  ENCODING_TYPE = "JP2"
  INTERCHANGE_FORMAT = BINARY
  UNCOMPRESSED_FILE_NAME = "HG565_0000_BL3.IMG"
  REQUIRED_STORAGE_BYTES = "17916948"
  ^DESCRIPTION = "JP2INFO.TXT"
END_OBJECT = COMPRESSED_FILE
END
