PDS_VERSION_ID = PDS3
/* FILE DATA ELEMENTS */
RECORD_TYPE = STREAM
/* POINTERS TO DATA OBJECTS */
^COMPRESSED_FILE = "HG565_0000_IR3.JP2"
/* IDENTIFICATION DATA ELEMENTS */
DATA_SET_ID = "MEX-M-HRSC-5-REFDR-MAPPROJECTED-V3.0"
DATA_SET_NAME = "MARS EXPRESS HRSC MAP PROJECTED REFDR V3.0"
DETECTOR_ID = MEX_HRSC_IR
EVENT_TYPE = "MARS-REGIONAL-MAPPING-Im-Fl-Gl"
INSTRUMENT_HOST_ID = MEX
INSTRUMENT_HOST_NAME = "MARS EXPRESS"
INSTRUMENT_ID = HRSC
INSTRUMENT_NAME = "HIGH RESOLUTION STEREO CAMERA"
MISSION_NAME = "MARS EXPRESS"
MISSION_PHASE_NAME = ME_Phase_36
PROCESSING_LEVEL_ID = 3
PRODUCT_CREATION_TIME = 2018-06-28T11:48:36.000Z
PRODUCT_ID = "HG565_0000_IR3.JP2"
RELEASE_ID = 0138
REVISION_ID = 0000
/* QUALITY DATA ELEMENTS */
DATA_QUALITY_ID = 1
DATA_QUALITY_DESC = "Data calculated based on original SPICE kernels"
/* TIME DATA ELEMENTS */
SPACECRAFT_CLOCK_START_COUNT = "1/0433726908.08253"
SPACECRAFT_CLOCK_STOP_COUNT = "1/0433727387.48300"
START_TIME = 2017-01-28T23:45:04.755Z
STOP_TIME = 2017-01-28T23:49:45.426Z
/* ORBITAL DATA ELEMENTS */
ASCENDING_NODE_LONGITUDE = 262.78
MAXIMUM_RESOLUTION = 84.1
FOOTPRINT_POINT_LATITUDE = (-42.4991,-42.4983,-42.4945,-42.4889, -42.4825,-42.4741,-42.1044,-41.6972, -41.2906,-40.8805,-40.4727,-39.8646, -39.4988,-39.1309,-38.5863,-38.2155, -37.8491,-37.4829,-36.935,-36.3932, -36.0355,-35.6801,-35.3588,-35.0098, -34.6644,-34.316,-33.9713,-33.635, -33.3009,-32.9699,-32.6389,-32.1502, -31.8256,-31.5044,-31.1835,-30.8672, -30.394,-30.0821,-29.7706,-29.3124, -29.007,-28.7047,-28.4037,-28.1044, -27.8075,-27.3656,-27.0739,-26.7819, -26.2133,-25.4484,-25.4487,-25.4474, -25.4462,-25.4456,-26.012,-26.4372, -26.7257,-27.0141,-27.3071,-27.7491, -28.0462,-28.3427,-28.6446,-29.0973, -29.4038,-29.7089,-30.0274,-30.499, -30.9638,-31.2823,-31.6057,-31.9285, -32.256,-32.7475,-33.0777,-33.4112, -33.7456,-34.0835,-34.4245,-34.7717, -35.1184,-35.4688,-35.7976,-36.1536, -36.5103,-36.8719,-37.2346,-37.6067, -38.1577,-38.5306,-39.0918,-39.4584, -39.8244,-40.4244,-40.8364,-41.2456, -41.6534,-42.0589,-42.4616,-42.4991)
FOOTPRINT_POINT_LONGITUDE = (199.605,199.074,198.342,197.712,197.18 ,196.614,196.487,196.523,196.557, 196.591,196.623,196.672,196.701,196.73, 196.768,196.796,196.82,196.844,196.88, 196.914,196.935,196.956,196.973,196.992 ,197.011,197.031,197.051,197.067, 197.083,197.099,197.114,197.136,197.15, 197.164,197.177,197.191,197.21,197.222, 197.234,197.251,197.262,197.273,197.283 ,197.293,197.303,197.317,197.326, 197.335,197.35,197.462,197.843,198.26, 198.75,199.113,199.339,199.351,199.361, 199.37,199.381,199.397,199.408,199.418, 199.429,199.445,199.457,199.467,199.483 ,199.502,199.516,199.529,199.542, 199.556,199.569,199.589,199.602,199.615 ,199.629,199.642,199.657,199.672, 199.688,199.703,199.718,199.734,199.75, 199.767,199.783,199.803,199.829,199.849 ,199.882,199.901,199.921,199.952, 199.974,199.995,200.015,200.036,200.055 ,199.605)
ORBIT_NUMBER = 16565
ORBITAL_ECCENTRICITY = 0.578
ORBITAL_INCLINATION = 86.93
ORBITAL_SEMIMAJOR_AXIS = 8855.96
PERIAPSIS_ALTITUDE = 345.47
PERIAPSIS_ARGUMENT_ANGLE = 3.8
PERIAPSIS_TIME = 2017-01-28T23:56:50.000Z
SPACECRAFT_ORIENTATION = (0.0,1.0,0.0)
^MEX_ORIENTATION_DESC = "MEX_ORIENTATION_DESC.TXT"
SPACECRAFT_POINTING_MODE = NADIR
^MEX_POINTING_DESC = "MEX_POINTING_DESC.TXT"
RIGHT_ASCENSION = -1e+32
DECLINATION = -1e+32
OFFSET_ANGLE = -1e+32
SPACECRAFT_SOLAR_DISTANCE = 2.14868e+08
TARGET_NAME = MARS
/* CAMERA DATA ELEMENTS */
DETECTOR_TEMPERATURE = 18.1666
FOCAL_PLANE_TEMPERATURE = 8.5833
INST_CMPRS_NAME = "DISCRETE COSINE TRANSFORMATION (DCT)"
INST_CMPRS_RATIO = 6.11688
INST_CMPRS_QUALITY = 0
INST_CMPRS_QUANTZ_TBL_ID = 0
INSTRUMENT_TEMPERATURE = 11.6418
LENS_TEMPERATURE = 9.195
MACROPIXEL_SIZE = 4
MISSING_FRAMES = 12
PIXEL_SUBSAMPLING_FLAG = N
SIGNAL_CHAIN_ID = 2
/* RADIOMETRIC DATA ELEMENTS */
BANDWIDTH = 81.0
CENTER_FILTER_WAVELENGTH = 955.5
RADIANCE_OFFSET = 0.267949
RADIANCE_SCALING_FACTOR = 0.00338386
REFLECTANCE_SCALING_FACTOR = 0.000337035
MEX:REFLECTANCE_OFFSET = 0.0266879
/* IMAGE OBJECT DEFINITIONS */
OBJECT = IMAGE
  INTERCHANGE_FORMAT = BINARY
  LINES = 10145
  LINE_SAMPLES = 1764
  SAMPLE_TYPE = UNSIGNED_INTEGER
  SAMPLE_BITS = 8
  BANDS = 1
  BAND_STORAGE_TYPE = BAND_SEQUENTIAL
  MAXIMUM = 255
  MEAN = 68.0757
  MINIMUM = 1
  STANDARD_DEVIATION = 28.4478
END_OBJECT = IMAGE
/* MAP OBJECT DEFINITIONS */
OBJECT = IMAGE_MAP_PROJECTION
  ^DATA_SET_MAP_PROJECTION_CATALOG= "DSMAP.CAT"
  A_AXIS_RADIUS = 3396.0
  B_AXIS_RADIUS = 3396.0
  C_AXIS_RADIUS = 3396.0
  CENTER_LATITUDE = 0.0
  CENTER_LONGITUDE = 198.0
  COORDINATE_SYSTEM_NAME = PLANETOGRAPHIC
  COORDINATE_SYSTEM_TYPE = "BODY-FIXED ROTATING"
  EASTERNMOST_LONGITUDE = 200.055
  FIRST_STANDARD_PARALLEL = "N/A"
  LINE_FIRST_PIXEL = 1
  LINE_LAST_PIXEL = 10145
  LINE_PROJECTION_OFFSET = -15084.125
  MAP_PROJECTION_ROTATION = 0.0
  MAP_PROJECTION_TYPE = SINUSOIDAL
  MAP_RESOLUTION = 592.713803866667
  MAP_SCALE = 0.1
  MAXIMUM_LATITUDE = -25.4456
  MINIMUM_LATITUDE = -42.4991
  POSITIVE_LONGITUDE_DIRECTION = EAST
  REFERENCE_LATITUDE = "N/A"
  REFERENCE_LONGITUDE = "N/A"
  SAMPLE_FIRST_PIXEL = 1
  SAMPLE_LAST_PIXEL = 1764
  SAMPLE_PROJECTION_OFFSET = 777.875
  SECOND_STANDARD_PARALLEL = "N/A"
  WESTERNMOST_LONGITUDE = 196.487
END_OBJECT = IMAGE_MAP_PROJECTION
/* The JPEG2000 image data file associated with this label. */
OBJECT = COMPRESSED_FILE
  FILE_NAME = "HG565_0000_IR3.JP2"
  RECORD_TYPE = UNDEFINED
  FILE_RECORDS = UNK
  ENCODING_TYPE = "JP2"
  INTERCHANGE_FORMAT = BINARY
  UNCOMPRESSED_FILE_NAME = "HG565_0000_IR3.IMG"
  REQUIRED_STORAGE_BYTES = "17916948"
  ^DESCRIPTION = "JP2INFO.TXT"
END_OBJECT = COMPRESSED_FILE
END
