PDS_VERSION_ID = PDS3
/* FILE DATA ELEMENTS */
RECORD_TYPE = STREAM
/* POINTERS TO DATA OBJECTS */
^COMPRESSED_FILE = "HG565_0000_P23.JP2"
/* IDENTIFICATION DATA ELEMENTS */
DATA_SET_ID = "MEX-M-HRSC-5-REFDR-MAPPROJECTED-V3.0"
DATA_SET_NAME = "MARS EXPRESS HRSC MAP PROJECTED REFDR V3.0"
DETECTOR_ID = MEX_HRSC_P2
EVENT_TYPE = "MARS-REGIONAL-MAPPING-Im-Fl-Gl"
INSTRUMENT_HOST_ID = MEX
INSTRUMENT_HOST_NAME = "MARS EXPRESS"
INSTRUMENT_ID = HRSC
INSTRUMENT_NAME = "HIGH RESOLUTION STEREO CAMERA"
MISSION_NAME = "MARS EXPRESS"
MISSION_PHASE_NAME = ME_Phase_36
PROCESSING_LEVEL_ID = 3
PRODUCT_CREATION_TIME = 2018-06-28T11:48:36.000Z
PRODUCT_ID = "HG565_0000_P23.JP2"
RELEASE_ID = 0138
REVISION_ID = 0000
/* QUALITY DATA ELEMENTS */
DATA_QUALITY_ID = 1
DATA_QUALITY_DESC = "Data calculated based on original SPICE kernels"
/* TIME DATA ELEMENTS */
SPACECRAFT_CLOCK_START_COUNT = "1/0433726908.08253"
SPACECRAFT_CLOCK_STOP_COUNT = "1/0433727387.48300"
START_TIME = 2017-01-28T23:42:42.307Z
STOP_TIME = 2017-01-28T23:48:27.541Z
/* ORBITAL DATA ELEMENTS */
ASCENDING_NODE_LONGITUDE = 262.78
MAXIMUM_RESOLUTION = 46.3
FOOTPRINT_POINT_LATITUDE = (-42.6087,-42.612,-42.6081,-42.5989, -42.5895,-42.5715,-42.3062,-41.9047, -41.5062,-41.1103,-40.7175,-40.329, -39.943,-39.5624,-39.1849,-38.6169, -38.2442,-37.8796,-37.5117,-36.9652, -36.6073,-36.2479,-35.8941,-35.5378, -35.1844,-34.8299,-34.4736,-34.116, -33.7677,-33.2882,-32.9685,-32.6471, -32.3237,-32.0001,-31.6749,-31.3516, -31.0297,-30.7119,-30.2376,-29.816, -29.5035,-29.1948,-28.7356,-28.2798, -27.9791,-27.6811,-27.3824,-27.0876, -26.7925,-26.3551,-26.0632,-25.4916, -25.4587,-25.4604,-25.457,-25.454, -25.7359,-26.3167,-26.7556,-27.0508, -27.3449,-27.6432,-27.9414,-28.2441, -28.7002,-29.1613,-29.6273,-30.1974, -30.5128,-30.8355,-31.1603,-31.4815, -31.8058,-32.1301,-32.6161,-33.0982, -33.4208,-33.7406,-34.0936,-34.4541, -34.8106,-35.3452,-35.6997,-36.0546, -36.4127,-36.7725,-37.1358,-37.6819, -38.0527,-38.6041,-38.9774,-39.356, -39.7378,-40.1223,-40.5107,-40.9031, -41.3009,-41.702,-42.1068,-42.6087)
FOOTPRINT_POINT_LONGITUDE = (200.21,199.536,198.61,197.936,197.474, 196.801,196.075,196.122,196.167,196.21, 196.252,196.292,196.331,196.371,196.409 ,196.46,196.494,196.53,196.561,196.606, 196.637,196.664,196.692,196.716,196.742 ,196.767,196.792,196.817,196.844, 196.874,196.893,196.913,196.931,196.95, 196.968,196.986,197.003,197.02,197.045, 197.066,197.081,197.096,197.117,197.137 ,197.151,197.164,197.176,197.188,197.2, 197.216,197.226,197.248,197.713,198.368 ,198.853,199.191,199.445,199.467, 199.486,199.498,199.512,199.525,199.539 ,199.553,199.574,199.595,199.616, 199.649,199.665,199.679,199.693,199.711 ,199.728,199.745,199.771,199.798, 199.814,199.831,199.851,199.872,199.893 ,199.925,199.946,199.968,199.99,200.014 ,200.037,200.075,200.1,200.143,200.172, 200.201,200.229,200.259,200.289,200.319 ,200.349,200.379,200.41,200.21)
ORBIT_NUMBER = 16565
ORBITAL_ECCENTRICITY = 0.578
ORBITAL_INCLINATION = 86.93
ORBITAL_SEMIMAJOR_AXIS = 8855.96
PERIAPSIS_ALTITUDE = 345.47
PERIAPSIS_ARGUMENT_ANGLE = 3.8
PERIAPSIS_TIME = 2017-01-28T23:56:50.000Z
SPACECRAFT_ORIENTATION = (0.0,1.0,0.0)
^MEX_ORIENTATION_DESC = "MEX_ORIENTATION_DESC.TXT"
SPACECRAFT_POINTING_MODE = NADIR
^MEX_POINTING_DESC = "MEX_POINTING_DESC.TXT"
RIGHT_ASCENSION = -1e+32
DECLINATION = -1e+32
OFFSET_ANGLE = -1e+32
SPACECRAFT_SOLAR_DISTANCE = 2.14868e+08
TARGET_NAME = MARS
/* CAMERA DATA ELEMENTS */
DETECTOR_TEMPERATURE = 19.1861
FOCAL_PLANE_TEMPERATURE = 8.5833
INST_CMPRS_NAME = "DISCRETE COSINE TRANSFORMATION (DCT)"
INST_CMPRS_RATIO = 5.51608
INST_CMPRS_QUALITY = 0
INST_CMPRS_QUANTZ_TBL_ID = 0
INSTRUMENT_TEMPERATURE = 11.6418
LENS_TEMPERATURE = 9.195
MACROPIXEL_SIZE = 2
MISSING_FRAMES = 20
PIXEL_SUBSAMPLING_FLAG = N
SIGNAL_CHAIN_ID = 3
/* RADIOMETRIC DATA ELEMENTS */
BANDWIDTH = 177.0
CENTER_FILTER_WAVELENGTH = 676.5
RADIANCE_OFFSET = 1.42458
RADIANCE_SCALING_FACTOR = 0.0122563
REFLECTANCE_SCALING_FACTOR = 0.00030002
MEX:REFLECTANCE_OFFSET = 0.0348721
/* IMAGE OBJECT DEFINITIONS */
OBJECT = IMAGE
  INTERCHANGE_FORMAT = BINARY
  LINES = 20290
  LINE_SAMPLES = 3528
  SAMPLE_TYPE = UNSIGNED_INTEGER
  SAMPLE_BITS = 8
  BANDS = 1
  BAND_STORAGE_TYPE = BAND_SEQUENTIAL
  MAXIMUM = 255
  MEAN = 67.4386
  MINIMUM = 1
  STANDARD_DEVIATION = 30.5819
END_OBJECT = IMAGE
/* MAP OBJECT DEFINITIONS */
OBJECT = IMAGE_MAP_PROJECTION
  ^DATA_SET_MAP_PROJECTION_CATALOG= "DSMAP.CAT"
  A_AXIS_RADIUS = 3396.0
  B_AXIS_RADIUS = 3396.0
  C_AXIS_RADIUS = 3396.0
  CENTER_LATITUDE = 0.0
  CENTER_LONGITUDE = 198.0
  COORDINATE_SYSTEM_NAME = PLANETOGRAPHIC
  COORDINATE_SYSTEM_TYPE = "BODY-FIXED ROTATING"
  EASTERNMOST_LONGITUDE = 200.41
  FIRST_STANDARD_PARALLEL = "N/A"
  LINE_FIRST_PIXEL = 1
  LINE_LAST_PIXEL = 20290
  LINE_PROJECTION_OFFSET = -30167.75
  MAP_PROJECTION_ROTATION = 0.0
  MAP_PROJECTION_TYPE = SINUSOIDAL
  MAP_RESOLUTION = 1185.42760773333
  MAP_SCALE = 0.05
  MAXIMUM_LATITUDE = -25.454
  MINIMUM_LATITUDE = -42.612
  POSITIVE_LONGITUDE_DIRECTION = EAST
  REFERENCE_LATITUDE = "N/A"
  REFERENCE_LONGITUDE = "N/A"
  SAMPLE_FIRST_PIXEL = 1
  SAMPLE_LAST_PIXEL = 3528
  SAMPLE_PROJECTION_OFFSET = 1556.25
  SECOND_STANDARD_PARALLEL = "N/A"
  WESTERNMOST_LONGITUDE = 196.075
END_OBJECT = IMAGE_MAP_PROJECTION
/* The JPEG2000 image data file associated with this label. */
OBJECT = COMPRESSED_FILE
  FILE_NAME = "HG565_0000_P23.JP2"
  RECORD_TYPE = UNDEFINED
  FILE_RECORDS = UNK
  ENCODING_TYPE = "JP2"
  INTERCHANGE_FORMAT = BINARY
  UNCOMPRESSED_FILE_NAME = "HG565_0000_P23.IMG"
  REQUIRED_STORAGE_BYTES = "71607816"
  ^DESCRIPTION = "JP2INFO.TXT"
END_OBJECT = COMPRESSED_FILE
END
