PDS_VERSION_ID = PDS3
/* FILE DATA ELEMENTS */
RECORD_TYPE = STREAM
/* POINTERS TO DATA OBJECTS */
^COMPRESSED_FILE = "HG566_0000_ND3.JP2"
/* IDENTIFICATION DATA ELEMENTS */
DATA_SET_ID = "MEX-M-HRSC-5-REFDR-MAPPROJECTED-V3.0"
DATA_SET_NAME = "MARS EXPRESS HRSC MAP PROJECTED REFDR V3.0"
DETECTOR_ID = MEX_HRSC_NADIR
EVENT_TYPE = "MARS-REGIONAL-STEREO-Vo-Fl"
INSTRUMENT_HOST_ID = MEX
INSTRUMENT_HOST_NAME = "MARS EXPRESS"
INSTRUMENT_ID = HRSC
INSTRUMENT_NAME = "HIGH RESOLUTION STEREO CAMERA"
MISSION_NAME = "MARS EXPRESS"
MISSION_PHASE_NAME = ME_Phase_36
PROCESSING_LEVEL_ID = 3
PRODUCT_CREATION_TIME = 2018-06-28T11:48:36.000Z
PRODUCT_ID = "HG566_0000_ND3.JP2"
RELEASE_ID = 0138
REVISION_ID = 0000
/* QUALITY DATA ELEMENTS */
DATA_QUALITY_ID = 1
DATA_QUALITY_DESC = "Data calculated based on original SPICE kernels"
/* TIME DATA ELEMENTS */
SPACECRAFT_CLOCK_START_COUNT = "1/0433752200.08242"
SPACECRAFT_CLOCK_STOP_COUNT = "1/0433752542.49832"
START_TIME = 2017-01-29T06:45:04.557Z
STOP_TIME = 2017-01-29T06:48:16.550Z
/* ORBITAL DATA ELEMENTS */
ASCENDING_NODE_LONGITUDE = 262.76
MAXIMUM_RESOLUTION = 22.4
FOOTPRINT_POINT_LATITUDE = (-38.2713,-38.2659,-38.2623,-38.2582, -38.2535,-38.2482,-38.2423,-38.2358, -38.2287,-38.2209,-38.21,-37.9675, -37.7244,-37.4808,-37.2366,-36.9917, -36.7463,-36.515,-36.2985,-36.0815, -35.864,-35.6462,-35.4278,-35.209, -34.9896,-34.7698,-34.5499,-34.3295, -34.1096,-33.8916,-33.6733,-33.3494, -33.1337,-32.8144,-32.6011,-32.3906, -32.1797,-31.8662,-31.6577,-31.45, -31.2443,-31.0384,-30.7323,-30.5289, -30.3257,-29.9244,-29.7239,-29.3277, -28.7387,-28.4457,-28.06,-27.6767, -27.5536,-27.5568,-27.5614,-27.566, -27.568,-27.5688,-28.0485,-28.4353, -28.7286,-29.1207,-29.5179,-29.9171, -30.1186,-30.3198,-30.5231,-30.7272, -30.9309,-31.2406,-31.447,-31.6551, -31.8643,-32.0732,-32.3904,-32.6018, -32.9227,-33.1367,-33.4612,-33.6776, -34.006,-34.2249,-34.4467,-34.6681, -34.8891,-35.1097,-35.3299,-35.5496, -35.7688,-35.9877,-36.2062,-36.4242, -36.6418,-37.0077,-37.2541,-37.4999, -37.745,-37.9896,-38.2337,-38.2713)
FOOTPRINT_POINT_LONGITUDE = (95.8777,95.3659,95.1084,94.8503, 94.5914,94.3318,94.0712,93.8095,93.5466 ,93.2823,92.9849,93.0083,93.0315, 93.0548,93.0783,93.1011,93.1238,93.1441 ,93.1632,93.1823,93.1989,93.2192, 93.2366,93.2544,93.2678,93.283,93.304, 93.3241,93.3407,93.3573,93.3737,93.3848 ,93.3993,93.4312,93.4487,93.4639, 93.4785,93.5004,93.5127,93.5283,93.5413 ,93.5541,93.5733,93.585,93.5967,93.6203 ,93.6313,93.6531,93.685,93.7002,93.7207 ,93.7411,93.9289,94.156,94.5529,95.1045 ,95.4974,95.8434,95.9965,96.0074, 96.0158,96.0271,96.0387,96.0505,96.0565 ,96.0625,96.0686,96.0748,96.081,96.0905 ,96.0969,96.1033,96.1098,96.1164, 96.1264,96.1332,96.1435,96.1504,96.1608 ,96.1679,96.1787,96.1859,96.1934, 96.2008,96.2083,96.2158,96.2233,96.2308 ,96.2387,96.2464,96.2536,96.2614, 96.2691,96.2822,96.2911,96.2999,96.3092 ,96.3184,96.3277,95.8777)
ORBIT_NUMBER = 16566
ORBITAL_ECCENTRICITY = 0.578
ORBITAL_INCLINATION = 86.92
ORBITAL_SEMIMAJOR_AXIS = 8864.14
PERIAPSIS_ALTITUDE = 344.76
PERIAPSIS_ARGUMENT_ANGLE = 3.62
PERIAPSIS_TIME = 2017-01-29T06:56:35.000Z
SPACECRAFT_ORIENTATION = (0.0,1.0,0.0)
^MEX_ORIENTATION_DESC = "MEX_ORIENTATION_DESC.TXT"
SPACECRAFT_POINTING_MODE = ACROSSTRACK
^MEX_POINTING_DESC = "MEX_POINTING_DESC.TXT"
RIGHT_ASCENSION = -1e+32
DECLINATION = -1e+32
OFFSET_ANGLE = 1.0
SPACECRAFT_SOLAR_DISTANCE = 2.14915e+08
TARGET_NAME = MARS
/* CAMERA DATA ELEMENTS */
DETECTOR_TEMPERATURE = 18.5744
FOCAL_PLANE_TEMPERATURE = 8.5833
INST_CMPRS_NAME = "DISCRETE COSINE TRANSFORMATION (DCT)"
INST_CMPRS_RATIO = 6.63887
INST_CMPRS_QUALITY = 0
INST_CMPRS_QUANTZ_TBL_ID = 0
INSTRUMENT_TEMPERATURE = 11.8457
LENS_TEMPERATURE = 9.3989
MACROPIXEL_SIZE = 1
MISSING_FRAMES = 0
PIXEL_SUBSAMPLING_FLAG = N
SIGNAL_CHAIN_ID = 0
/* RADIOMETRIC DATA ELEMENTS */
BANDWIDTH = 177.0
CENTER_FILTER_WAVELENGTH = 677.5
RADIANCE_OFFSET = 1.53951
RADIANCE_SCALING_FACTOR = 0.00985031
REFLECTANCE_SCALING_FACTOR = 0.000241693
MEX:REFLECTANCE_OFFSET = 0.0377743
/* IMAGE OBJECT DEFINITIONS */
OBJECT = IMAGE
  INTERCHANGE_FORMAT = BINARY
  LINES = 25424
  LINE_SAMPLES = 6288
  SAMPLE_TYPE = UNSIGNED_INTEGER
  SAMPLE_BITS = 8
  BANDS = 1
  BAND_STORAGE_TYPE = BAND_SEQUENTIAL
  MAXIMUM = 255
  MEAN = 104.306
  MINIMUM = 1
  STANDARD_DEVIATION = 36.8376
END_OBJECT = IMAGE
/* MAP OBJECT DEFINITIONS */
OBJECT = IMAGE_MAP_PROJECTION
  ^DATA_SET_MAP_PROJECTION_CATALOG= "DSMAP.CAT"
  A_AXIS_RADIUS = 3396.0
  B_AXIS_RADIUS = 3396.0
  C_AXIS_RADIUS = 3396.0
  CENTER_LATITUDE = 0.0
  CENTER_LONGITUDE = 95.0
  COORDINATE_SYSTEM_NAME = PLANETOGRAPHIC
  COORDINATE_SYSTEM_TYPE = "BODY-FIXED ROTATING"
  EASTERNMOST_LONGITUDE = 96.32769999999999
  FIRST_STANDARD_PARALLEL = "N/A"
  LINE_FIRST_PIXEL = 1
  LINE_LAST_PIXEL = 25424
  LINE_PROJECTION_OFFSET = -65320.0
  MAP_PROJECTION_ROTATION = 0.0
  MAP_PROJECTION_TYPE = SINUSOIDAL
  MAP_RESOLUTION = 2370.85521546667
  MAP_SCALE = 0.025
  MAXIMUM_LATITUDE = -27.5536
  MINIMUM_LATITUDE = -38.2713
  POSITIVE_LONGITUDE_DIRECTION = EAST
  REFERENCE_LATITUDE = "N/A"
  REFERENCE_LONGITUDE = "N/A"
  SAMPLE_FIRST_PIXEL = 1
  SAMPLE_LAST_PIXEL = 6288
  SAMPLE_PROJECTION_OFFSET = 3810.0
  SECOND_STANDARD_PARALLEL = "N/A"
  WESTERNMOST_LONGITUDE = 92.9849
END_OBJECT = IMAGE_MAP_PROJECTION
/* The JPEG2000 image data file associated with this label. */
OBJECT = COMPRESSED_FILE
  FILE_NAME = "HG566_0000_ND3.JP2"
  RECORD_TYPE = UNDEFINED
  FILE_RECORDS = UNK
  ENCODING_TYPE = "JP2"
  INTERCHANGE_FORMAT = BINARY
  UNCOMPRESSED_FILE_NAME = "HG566_0000_ND3.IMG"
  REQUIRED_STORAGE_BYTES = "159897552"
  ^DESCRIPTION = "JP2INFO.TXT"
END_OBJECT = COMPRESSED_FILE
END
