PDS_VERSION_ID = PDS3
/* FILE DATA ELEMENTS */
RECORD_TYPE = STREAM
/* POINTERS TO DATA OBJECTS */
^COMPRESSED_FILE = "HG566_0000_S13.JP2"
/* IDENTIFICATION DATA ELEMENTS */
DATA_SET_ID = "MEX-M-HRSC-5-REFDR-MAPPROJECTED-V3.0"
DATA_SET_NAME = "MARS EXPRESS HRSC MAP PROJECTED REFDR V3.0"
DETECTOR_ID = MEX_HRSC_S1
EVENT_TYPE = "MARS-REGIONAL-STEREO-Vo-Fl"
INSTRUMENT_HOST_ID = MEX
INSTRUMENT_HOST_NAME = "MARS EXPRESS"
INSTRUMENT_ID = HRSC
INSTRUMENT_NAME = "HIGH RESOLUTION STEREO CAMERA"
MISSION_NAME = "MARS EXPRESS"
MISSION_PHASE_NAME = ME_Phase_36
PROCESSING_LEVEL_ID = 3
PRODUCT_CREATION_TIME = 2018-06-28T11:48:36.000Z
PRODUCT_ID = "HG566_0000_S13.JP2"
RELEASE_ID = 0138
REVISION_ID = 0000
/* QUALITY DATA ELEMENTS */
DATA_QUALITY_ID = 1
DATA_QUALITY_DESC = "Data calculated based on original SPICE kernels"
/* TIME DATA ELEMENTS */
SPACECRAFT_CLOCK_START_COUNT = "1/0433752200.08242"
SPACECRAFT_CLOCK_STOP_COUNT = "1/0433752542.49832"
START_TIME = 2017-01-29T06:46:17.347Z
STOP_TIME = 2017-01-29T06:49:08.426Z
/* ORBITAL DATA ELEMENTS */
ASCENDING_NODE_LONGITUDE = 262.76
MAXIMUM_RESOLUTION = 22.1
FOOTPRINT_POINT_LATITUDE = (-38.1752,-38.1838,-38.1915,-38.1984, -38.2043,-38.2093,-38.2827,-38.0432, -37.8057,-37.5683,-37.3331,-36.9801, -36.7479,-36.5155,-36.2854,-36.0567, -35.8293,-35.602,-35.3768,-35.0429, -34.716,-34.4922,-34.1566,-33.9362, -33.719,-33.5062,-33.3033,-33.0929, -32.8776,-32.6475,-32.4364,-32.2256, -31.9091,-31.5977,-31.3907,-31.184, -30.9804,-30.6747,-30.4717,-30.1714, -29.971,-29.7703,-29.5734,-29.3768, -29.1805,-28.983,-28.5955,-28.4011, -28.2065,-27.8249,-27.5896,-27.5853, -27.5799,-27.5682,-27.5589,-27.5466, -27.7263,-28.1078,-28.4954,-28.6896, -28.8837,-29.1789,-29.3763,-29.576, -29.773,-29.9735,-30.174,-30.3757, -30.5804,-30.7845,-30.9895,-31.2983, -31.6088,-31.8156,-32.0264,-32.342, -32.5522,-32.7668,-32.9818,-33.1938, -33.4097,-33.7331,-34.061,-34.2809, -34.5012,-34.7241,-34.9473,-35.2832, -35.508,-35.7406,-35.9698,-36.1914, -36.5398,-36.7722,-37.1241,-37.3595, -37.7136,-37.9554,-38.2001,-38.1752)
FOOTPRINT_POINT_LONGITUDE = (95.7679,95.3018,94.8318,94.3585,93.881 ,93.3988,93.1156,93.1367,93.157,93.1772 ,93.1973,93.2272,93.2463,93.2651, 93.2833,93.301,93.3173,93.3357,93.3519, 93.3747,93.3929,93.4104,93.4379,93.4535 ,93.4686,93.48,93.4838,93.4954,93.5104, 93.5363,93.5499,93.5631,93.5829,93.6019 ,93.6138,93.6257,93.6372,93.6541, 93.6647,93.6806,93.691,93.7013,93.7111, 93.7206,93.7297,93.7398,93.7584,93.7679 ,93.7773,93.7951,94.1273,94.4187, 94.6677,94.9993,95.2462,95.5925,95.9097 ,95.9184,95.9275,95.932,95.9365,95.9435 ,95.9482,95.9528,95.9576,95.9624, 95.9672,95.972,95.9769,95.9819,95.9869, 95.9944,96.0021,96.0072,96.0125,96.0204 ,96.0257,96.031,96.0365,96.0419,96.0474 ,96.0557,96.0642,96.0699,96.0756, 96.0814,96.0873,96.0961,96.1021,96.1083 ,96.1144,96.1203,96.1297,96.136,96.1455 ,96.152,96.1617,96.1684,96.1753, 95.7679)
ORBIT_NUMBER = 16566
ORBITAL_ECCENTRICITY = 0.578
ORBITAL_INCLINATION = 86.92
ORBITAL_SEMIMAJOR_AXIS = 8864.14
PERIAPSIS_ALTITUDE = 344.76
PERIAPSIS_ARGUMENT_ANGLE = 3.62
PERIAPSIS_TIME = 2017-01-29T06:56:35.000Z
SPACECRAFT_ORIENTATION = (0.0,1.0,0.0)
^MEX_ORIENTATION_DESC = "MEX_ORIENTATION_DESC.TXT"
SPACECRAFT_POINTING_MODE = ACROSSTRACK
^MEX_POINTING_DESC = "MEX_POINTING_DESC.TXT"
RIGHT_ASCENSION = -1e+32
DECLINATION = -1e+32
OFFSET_ANGLE = 1.0
SPACECRAFT_SOLAR_DISTANCE = 2.14915e+08
TARGET_NAME = MARS
/* CAMERA DATA ELEMENTS */
DETECTOR_TEMPERATURE = 17.9627
FOCAL_PLANE_TEMPERATURE = 8.5833
INST_CMPRS_NAME = "DISCRETE COSINE TRANSFORMATION (DCT)"
INST_CMPRS_RATIO = 7.91338
INST_CMPRS_QUALITY = 0
INST_CMPRS_QUANTZ_TBL_ID = 0
INSTRUMENT_TEMPERATURE = 11.8457
LENS_TEMPERATURE = 9.3989
MACROPIXEL_SIZE = 1
MISSING_FRAMES = 0
PIXEL_SUBSAMPLING_FLAG = N
SIGNAL_CHAIN_ID = 2
/* RADIOMETRIC DATA ELEMENTS */
BANDWIDTH = 180.0
CENTER_FILTER_WAVELENGTH = 677.0
RADIANCE_OFFSET = 1.87513
RADIANCE_SCALING_FACTOR = 0.00973032
REFLECTANCE_SCALING_FACTOR = 0.000234475
MEX:REFLECTANCE_OFFSET = 0.0451857
/* IMAGE OBJECT DEFINITIONS */
OBJECT = IMAGE
  INTERCHANGE_FORMAT = BINARY
  LINES = 25424
  LINE_SAMPLES = 6288
  SAMPLE_TYPE = UNSIGNED_INTEGER
  SAMPLE_BITS = 8
  BANDS = 1
  BAND_STORAGE_TYPE = BAND_SEQUENTIAL
  MAXIMUM = 255
  MEAN = 111.401
  MINIMUM = 1
  STANDARD_DEVIATION = 38.091
END_OBJECT = IMAGE
/* MAP OBJECT DEFINITIONS */
OBJECT = IMAGE_MAP_PROJECTION
  ^DATA_SET_MAP_PROJECTION_CATALOG= "DSMAP.CAT"
  A_AXIS_RADIUS = 3396.0
  B_AXIS_RADIUS = 3396.0
  C_AXIS_RADIUS = 3396.0
  CENTER_LATITUDE = 0.0
  CENTER_LONGITUDE = 95.0
  COORDINATE_SYSTEM_NAME = PLANETOGRAPHIC
  COORDINATE_SYSTEM_TYPE = "BODY-FIXED ROTATING"
  EASTERNMOST_LONGITUDE = 96.17529999999999
  FIRST_STANDARD_PARALLEL = "N/A"
  LINE_FIRST_PIXEL = 1
  LINE_LAST_PIXEL = 25424
  LINE_PROJECTION_OFFSET = -65320.0
  MAP_PROJECTION_ROTATION = 0.0
  MAP_PROJECTION_TYPE = SINUSOIDAL
  MAP_RESOLUTION = 2370.85521546667
  MAP_SCALE = 0.025
  MAXIMUM_LATITUDE = -27.5466
  MINIMUM_LATITUDE = -38.2827
  POSITIVE_LONGITUDE_DIRECTION = EAST
  REFERENCE_LATITUDE = "N/A"
  REFERENCE_LONGITUDE = "N/A"
  SAMPLE_FIRST_PIXEL = 1
  SAMPLE_LAST_PIXEL = 6288
  SAMPLE_PROJECTION_OFFSET = 3810.0
  SECOND_STANDARD_PARALLEL = "N/A"
  WESTERNMOST_LONGITUDE = 93.1156
END_OBJECT = IMAGE_MAP_PROJECTION
/* The JPEG2000 image data file associated with this label. */
OBJECT = COMPRESSED_FILE
  FILE_NAME = "HG566_0000_S13.JP2"
  RECORD_TYPE = UNDEFINED
  FILE_RECORDS = UNK
  ENCODING_TYPE = "JP2"
  INTERCHANGE_FORMAT = BINARY
  UNCOMPRESSED_FILE_NAME = "HG566_0000_S13.IMG"
  REQUIRED_STORAGE_BYTES = "159897552"
  ^DESCRIPTION = "JP2INFO.TXT"
END_OBJECT = COMPRESSED_FILE
END
