PDS_VERSION_ID = PDS3
/* FILE DATA ELEMENTS */
RECORD_TYPE = STREAM
/* POINTERS TO DATA OBJECTS */
^COMPRESSED_FILE = "HG589_0000_S13.JP2"
/* IDENTIFICATION DATA ELEMENTS */
DATA_SET_ID = "MEX-M-HRSC-5-REFDR-MAPPROJECTED-V3.0"
DATA_SET_NAME = "MARS EXPRESS HRSC MAP PROJECTED REFDR V3.0"
DETECTOR_ID = MEX_HRSC_S1
EVENT_TYPE = "MARS-REGIONAL-STEREO-Vo-Te"
INSTRUMENT_HOST_ID = MEX
INSTRUMENT_HOST_NAME = "MARS EXPRESS"
INSTRUMENT_ID = HRSC
INSTRUMENT_NAME = "HIGH RESOLUTION STEREO CAMERA"
MISSION_NAME = "MARS EXPRESS"
MISSION_PHASE_NAME = ME_Phase_36
PROCESSING_LEVEL_ID = 3
PRODUCT_CREATION_TIME = 2018-06-28T11:48:36.000Z
PRODUCT_ID = "HG589_0000_S13.JP2"
RELEASE_ID = 0138
REVISION_ID = 0000
/* QUALITY DATA ELEMENTS */
DATA_QUALITY_ID = 1
DATA_QUALITY_DESC = "Data calculated based on original SPICE kernels"
/* TIME DATA ELEMENTS */
SPACECRAFT_CLOCK_START_COUNT = "1/0434332054.09055"
SPACECRAFT_CLOCK_STOP_COUNT = "1/0434332218.42919"
START_TIME = 2017-02-04T23:48:46.112Z
STOP_TIME = 2017-02-04T23:50:24.362Z
/* ORBITAL DATA ELEMENTS */
ASCENDING_NODE_LONGITUDE = 262.33
MAXIMUM_RESOLUTION = 14.3
FOOTPRINT_POINT_LATITUDE = (-7.66441,-7.66562,-7.66735,-7.66894, -7.67079,-7.63739,-7.50837,-7.37425, -7.23362,-7.10406,-6.97653,-6.84937, -6.65866,-6.53002,-6.40003,-6.20564, -6.07774,-5.94908,-5.75643,-5.56436, -5.37156,-5.24312,-5.05048,-4.85754, -4.7291,-4.60066,-4.40855,-4.28028, -4.15188,-4.02381,-3.89601,-3.76766, -3.63965,-3.44762,-3.31943,-3.12741, -2.99978,-2.87261,-2.68147,-2.55264, -2.42525,-2.29815,-2.04632,-1.91883, -1.79029,-1.66276,-1.47146,-1.34471, -1.21465,-1.2133,-1.21218,-1.21167, -1.21055,-1.20982,-1.20941,-1.20926, -1.33569,-1.46235,-1.65232,-1.77924, -1.96932,-2.09669,-2.28744,-2.47854, -2.60622,-2.73369,-2.92507,-3.05283, -3.18024,-3.30799,-3.43589,-3.56389, -3.69183,-3.81993,-4.01214,-4.14029, -4.26772,-4.39576,-4.52376,-4.65213, -4.78067,-4.90921,-5.03784,-5.16622, -5.3604,-5.56264,-5.70152,-5.83205, -6.02643,-6.15246,-6.33925,-6.46777, -6.65964,-6.79786,-6.9305,-7.06297, -7.19201,-7.32126,-7.57592,-7.66441)
FOOTPRINT_POINT_LONGITUDE = (263.254,263.071,262.84,262.645,262.438 ,262.284,262.283,262.285,262.288, 262.287,262.287,262.286,262.284,262.284 ,262.283,262.283,262.282,262.282, 262.281,262.279,262.278,262.278,262.277 ,262.276,262.275,262.274,262.273, 262.272,262.271,262.27,262.269,262.269, 262.268,262.266,262.265,262.264,262.263 ,262.262,262.26,262.259,262.258,262.257 ,262.254,262.253,262.252,262.251, 262.249,262.248,262.293,262.468,262.596 ,262.747,262.945,263.109,263.284,263.43 ,263.431,263.431,263.433,263.433, 263.435,263.436,263.437,263.439,263.44, 263.441,263.442,263.443,263.444,263.446 ,263.447,263.448,263.449,263.451, 263.452,263.454,263.455,263.456,263.457 ,263.459,263.46,263.462,263.463,263.464 ,263.467,263.472,263.477,263.479, 263.482,263.483,263.483,263.484,263.486 ,263.491,263.494,263.497,263.498,263.5, 263.502,263.254)
ORBIT_NUMBER = 16589
ORBITAL_ECCENTRICITY = 0.579
ORBITAL_INCLINATION = 86.93
ORBITAL_SEMIMAJOR_AXIS = 8872.39
PERIAPSIS_ALTITUDE = 342.8
PERIAPSIS_ARGUMENT_ANGLE = 359.67
PERIAPSIS_TIME = 2017-02-04T23:50:08.000Z
SPACECRAFT_ORIENTATION = (0.0,1.0,0.0)
^MEX_ORIENTATION_DESC = "MEX_ORIENTATION_DESC.TXT"
SPACECRAFT_POINTING_MODE = NADIR
^MEX_POINTING_DESC = "MEX_POINTING_DESC.TXT"
RIGHT_ASCENSION = -1e+32
DECLINATION = -1e+32
OFFSET_ANGLE = -1e+32
SPACECRAFT_SOLAR_DISTANCE = 2.16036e+08
TARGET_NAME = MARS
/* CAMERA DATA ELEMENTS */
DETECTOR_TEMPERATURE = 16.5354
FOCAL_PLANE_TEMPERATURE = 8.7872
INST_CMPRS_NAME = "DISCRETE COSINE TRANSFORMATION (DCT)"
INST_CMPRS_RATIO = 4.98312
INST_CMPRS_QUALITY = 0
INST_CMPRS_QUANTZ_TBL_ID = 0
INSTRUMENT_TEMPERATURE = 11.6418
LENS_TEMPERATURE = 9.6028
MACROPIXEL_SIZE = 1
MISSING_FRAMES = 0
PIXEL_SUBSAMPLING_FLAG = N
SIGNAL_CHAIN_ID = 2
/* RADIOMETRIC DATA ELEMENTS */
BANDWIDTH = 180.0
CENTER_FILTER_WAVELENGTH = 677.0
RADIANCE_OFFSET = 1.32343
RADIANCE_SCALING_FACTOR = 0.00760383
REFLECTANCE_SCALING_FACTOR = 0.000185151
MEX:REFLECTANCE_OFFSET = 0.0322251
/* IMAGE OBJECT DEFINITIONS */
OBJECT = IMAGE
  INTERCHANGE_FORMAT = BINARY
  LINES = 30511
  LINE_SAMPLES = 6402
  SAMPLE_TYPE = UNSIGNED_INTEGER
  SAMPLE_BITS = 8
  BANDS = 1
  BAND_STORAGE_TYPE = BAND_SEQUENTIAL
  MAXIMUM = 255
  MEAN = 76.1185
  MINIMUM = 1
  STANDARD_DEVIATION = 26.0971
END_OBJECT = IMAGE
/* MAP OBJECT DEFINITIONS */
OBJECT = IMAGE_MAP_PROJECTION
  ^DATA_SET_MAP_PROJECTION_CATALOG= "DSMAP.CAT"
  A_AXIS_RADIUS = 3396.0
  B_AXIS_RADIUS = 3396.0
  C_AXIS_RADIUS = 3396.0
  CENTER_LATITUDE = 0.0
  CENTER_LONGITUDE = 263.0
  COORDINATE_SYSTEM_NAME = PLANETOGRAPHIC
  COORDINATE_SYSTEM_TYPE = "BODY-FIXED ROTATING"
  EASTERNMOST_LONGITUDE = 263.502
  FIRST_STANDARD_PARALLEL = "N/A"
  LINE_FIRST_PIXEL = 1
  LINE_LAST_PIXEL = 30511
  LINE_PROJECTION_OFFSET = -5838.0
  MAP_PROJECTION_ROTATION = 0.0
  MAP_PROJECTION_TYPE = SINUSOIDAL
  MAP_RESOLUTION = 4741.71043093333
  MAP_SCALE = 0.0125
  MAXIMUM_LATITUDE = -1.20926
  MINIMUM_LATITUDE = -7.67079
  POSITIVE_LONGITUDE_DIRECTION = EAST
  REFERENCE_LATITUDE = "N/A"
  REFERENCE_LONGITUDE = "N/A"
  SAMPLE_FIRST_PIXEL = 1
  SAMPLE_LAST_PIXEL = 6402
  SAMPLE_PROJECTION_OFFSET = 3796.0
  SECOND_STANDARD_PARALLEL = "N/A"
  WESTERNMOST_LONGITUDE = 262.248
END_OBJECT = IMAGE_MAP_PROJECTION
/* The JPEG2000 image data file associated with this label. */
OBJECT = COMPRESSED_FILE
  FILE_NAME = "HG589_0000_S13.JP2"
  RECORD_TYPE = UNDEFINED
  FILE_RECORDS = UNK
  ENCODING_TYPE = "JP2"
  INTERCHANGE_FORMAT = BINARY
  UNCOMPRESSED_FILE_NAME = "HG589_0000_S13.IMG"
  REQUIRED_STORAGE_BYTES = "195363432"
  ^DESCRIPTION = "JP2INFO.TXT"
END_OBJECT = COMPRESSED_FILE
END
