PDS_VERSION_ID = PDS3
/* FILE DATA ELEMENTS */
RECORD_TYPE = STREAM
/* POINTERS TO DATA OBJECTS */
^COMPRESSED_FILE = "HG613_0000_ND3.JP2"
/* IDENTIFICATION DATA ELEMENTS */
DATA_SET_ID = "MEX-M-HRSC-5-REFDR-MAPPROJECTED-V3.0"
DATA_SET_NAME = "MARS EXPRESS HRSC MAP PROJECTED REFDR V3.0"
DETECTOR_ID = MEX_HRSC_NADIR
EVENT_TYPE = "MARS-REGIONAL-MAPPING-Te-Mw-Ls"
INSTRUMENT_HOST_ID = MEX
INSTRUMENT_HOST_NAME = "MARS EXPRESS"
INSTRUMENT_ID = HRSC
INSTRUMENT_NAME = "HIGH RESOLUTION STEREO CAMERA"
MISSION_NAME = "MARS EXPRESS"
MISSION_PHASE_NAME = ME_Phase_36
PROCESSING_LEVEL_ID = 3
PRODUCT_CREATION_TIME = 2018-06-28T11:48:36.000Z
PRODUCT_ID = "HG613_0000_ND3.JP2"
RELEASE_ID = 0138
REVISION_ID = 0000
/* QUALITY DATA ELEMENTS */
DATA_QUALITY_ID = 1
DATA_QUALITY_DESC = "Data calculated based on original SPICE kernels"
/* TIME DATA ELEMENTS */
SPACECRAFT_CLOCK_START_COUNT = "1/0434936376.08245"
SPACECRAFT_CLOCK_STOP_COUNT = "1/0434936558.49539"
START_TIME = 2017-02-11T23:40:16.886Z
STOP_TIME = 2017-02-11T23:42:13.892Z
/* ORBITAL DATA ELEMENTS */
ASCENDING_NODE_LONGITUDE = 261.88
MAXIMUM_RESOLUTION = 13.7
FOOTPRINT_POINT_LATITUDE = (-12.4461,-12.4483,-12.4504,-12.4521, -12.4526,-12.151,-11.8491,-11.5471, -11.3961,-11.245,-11.0938,-10.9427, -10.7915,-10.6403,-10.4891,-10.2619, -10.1105,-9.95923,-9.80783,-9.65639, -9.50493,-9.35348,-9.20201,-9.05045, -8.82314,-8.59569,-8.44404,-8.29238, -8.14072,-7.98902,-7.83732,-7.68561, -7.53387,-7.38211,-7.23031,-7.07849, -6.92668,-6.77491,-6.62307,-6.47129, -6.24371,-6.09182,-5.86398,-5.71207, -5.56016,-5.40824,-5.25632,-5.10438, -4.95244,-4.85756,-4.8552,-4.85209, -4.85008,-4.92492,-5.0769,-5.22887, -5.38085,-5.60858,-5.83639,-5.9883, -6.14025,-6.29224,-6.4442,-6.59582, -6.74766,-6.89949,-7.05143,-7.20328, -7.43094,-7.58275,-7.73449,-7.88628, -8.03796,-8.18966,-8.34137,-8.49307, -8.64476,-8.79635,-8.94796,-9.09977, -9.32707,-9.47855,-9.63028,-9.78178, -9.93313,-10.0846,-10.236,-10.3873, -10.5387,-10.69,-10.8412,-10.9924, -11.1436,-11.2947,-11.5214,-11.6725, -11.8235,-11.9745,-12.2763,-12.4461)
FOOTPRINT_POINT_LONGITUDE = (328.39,328.103,327.778,327.465,327.242 ,327.242,327.243,327.242,327.242, 327.242,327.241,327.242,327.242,327.242 ,327.242,327.238,327.237,327.238, 327.237,327.237,327.237,327.237,327.237 ,327.236,327.236,327.235,327.234, 327.233,327.233,327.232,327.232,327.232 ,327.231,327.231,327.23,327.228,327.228 ,327.228,327.227,327.228,327.231,327.23 ,327.228,327.227,327.226,327.225, 327.224,327.223,327.222,327.387,327.684 ,328.051,328.276,328.425,328.427, 328.428,328.429,328.434,328.438,328.44, 328.441,328.442,328.442,328.448,328.45, 328.452,328.453,328.454,328.458,328.459 ,328.461,328.463,328.466,328.468, 328.469,328.471,328.472,328.475,328.477 ,328.476,328.479,328.482,328.48,328.482 ,328.485,328.487,328.489,328.491, 328.492,328.495,328.497,328.499,328.502 ,328.504,328.507,328.509,328.511, 328.513,328.518,328.39)
ORBIT_NUMBER = 16613
ORBITAL_ECCENTRICITY = 0.578
ORBITAL_INCLINATION = 86.94
ORBITAL_SEMIMAJOR_AXIS = 8853.65
PERIAPSIS_ALTITUDE = 341.37
PERIAPSIS_ARGUMENT_ANGLE = 355.48
PERIAPSIS_TIME = 2017-02-11T23:42:20.000Z
SPACECRAFT_ORIENTATION = (0.0,1.0,0.0)
^MEX_ORIENTATION_DESC = "MEX_ORIENTATION_DESC.TXT"
SPACECRAFT_POINTING_MODE = NADIR
^MEX_POINTING_DESC = "MEX_POINTING_DESC.TXT"
RIGHT_ASCENSION = -1e+32
DECLINATION = -1e+32
OFFSET_ANGLE = -1e+32
SPACECRAFT_SOLAR_DISTANCE = 2.17252e+08
TARGET_NAME = MARS
/* CAMERA DATA ELEMENTS */
DETECTOR_TEMPERATURE = 18.3705
FOCAL_PLANE_TEMPERATURE = 9.3989
INST_CMPRS_NAME = "DISCRETE COSINE TRANSFORMATION (DCT)"
INST_CMPRS_RATIO = 6.59028
INST_CMPRS_QUALITY = 0
INST_CMPRS_QUANTZ_TBL_ID = 0
INSTRUMENT_TEMPERATURE = 12.2535
LENS_TEMPERATURE = 9.3989
MACROPIXEL_SIZE = 1
MISSING_FRAMES = 0
PIXEL_SUBSAMPLING_FLAG = N
SIGNAL_CHAIN_ID = 0
/* RADIOMETRIC DATA ELEMENTS */
BANDWIDTH = 177.0
CENTER_FILTER_WAVELENGTH = 677.5
RADIANCE_OFFSET = 1.6669
RADIANCE_SCALING_FACTOR = 0.00501457
REFLECTANCE_SCALING_FACTOR = 0.000125731
MEX:REFLECTANCE_OFFSET = 0.0417945
/* IMAGE OBJECT DEFINITIONS */
OBJECT = IMAGE
  INTERCHANGE_FORMAT = BINARY
  LINES = 36054
  LINE_SAMPLES = 6413
  SAMPLE_TYPE = UNSIGNED_INTEGER
  SAMPLE_BITS = 8
  BANDS = 1
  BAND_STORAGE_TYPE = BAND_SEQUENTIAL
  MAXIMUM = 255
  MEAN = 105.624
  MINIMUM = 1
  STANDARD_DEVIATION = 34.4882
END_OBJECT = IMAGE
/* MAP OBJECT DEFINITIONS */
OBJECT = IMAGE_MAP_PROJECTION
  ^DATA_SET_MAP_PROJECTION_CATALOG= "DSMAP.CAT"
  A_AXIS_RADIUS = 3396.0
  B_AXIS_RADIUS = 3396.0
  C_AXIS_RADIUS = 3396.0
  CENTER_LATITUDE = 0.0
  CENTER_LONGITUDE = 328.0
  COORDINATE_SYSTEM_NAME = PLANETOGRAPHIC
  COORDINATE_SYSTEM_TYPE = "BODY-FIXED ROTATING"
  EASTERNMOST_LONGITUDE = 328.518
  FIRST_STANDARD_PARALLEL = "N/A"
  LINE_FIRST_PIXEL = 1
  LINE_LAST_PIXEL = 36054
  LINE_PROJECTION_OFFSET = -22994.0
  MAP_PROJECTION_ROTATION = 0.0
  MAP_PROJECTION_TYPE = SINUSOIDAL
  MAP_RESOLUTION = 4741.71043093333
  MAP_SCALE = 0.0125
  MAXIMUM_LATITUDE = -4.85008
  MINIMUM_LATITUDE = -12.4526
  POSITIVE_LONGITUDE_DIRECTION = EAST
  REFERENCE_LATITUDE = "N/A"
  REFERENCE_LONGITUDE = "N/A"
  SAMPLE_FIRST_PIXEL = 1
  SAMPLE_LAST_PIXEL = 6413
  SAMPLE_PROJECTION_OFFSET = 3850.0
  SECOND_STANDARD_PARALLEL = "N/A"
  WESTERNMOST_LONGITUDE = 327.222
END_OBJECT = IMAGE_MAP_PROJECTION
/* The JPEG2000 image data file associated with this label. */
OBJECT = COMPRESSED_FILE
  FILE_NAME = "HG613_0000_ND3.JP2"
  RECORD_TYPE = UNDEFINED
  FILE_RECORDS = UNK
  ENCODING_TYPE = "JP2"
  INTERCHANGE_FORMAT = BINARY
  UNCOMPRESSED_FILE_NAME = "HG613_0000_ND3.IMG"
  REQUIRED_STORAGE_BYTES = "231246367"
  ^DESCRIPTION = "JP2INFO.TXT"
END_OBJECT = COMPRESSED_FILE
END
