PDS_VERSION_ID = PDS3
/* FILE DATA ELEMENTS */
RECORD_TYPE = STREAM
/* POINTERS TO DATA OBJECTS */
^COMPRESSED_FILE = "HG614_0000_P13.JP2"
/* IDENTIFICATION DATA ELEMENTS */
DATA_SET_ID = "MEX-M-HRSC-5-REFDR-MAPPROJECTED-V3.0"
DATA_SET_NAME = "MARS EXPRESS HRSC MAP PROJECTED REFDR V3.0"
DETECTOR_ID = MEX_HRSC_P1
EVENT_TYPE = "MARS-REGIONAL-STEREO-Vo"
INSTRUMENT_HOST_ID = MEX
INSTRUMENT_HOST_NAME = "MARS EXPRESS"
INSTRUMENT_ID = HRSC
INSTRUMENT_NAME = "HIGH RESOLUTION STEREO CAMERA"
MISSION_NAME = "MARS EXPRESS"
MISSION_PHASE_NAME = ME_Phase_36
PROCESSING_LEVEL_ID = 3
PRODUCT_CREATION_TIME = 2018-06-28T11:48:36.000Z
PRODUCT_ID = "HG614_0000_P13.JP2"
RELEASE_ID = 0138
REVISION_ID = 0000
/* QUALITY DATA ELEMENTS */
DATA_QUALITY_ID = 1
DATA_QUALITY_DESC = "Data calculated based on original SPICE kernels"
/* TIME DATA ELEMENTS */
SPACECRAFT_CLOCK_START_COUNT = "1/0434961560.08272"
SPACECRAFT_CLOCK_STOP_COUNT = "1/0434961782.49748"
START_TIME = 2017-02-12T06:40:21.391Z
STOP_TIME = 2017-02-12T06:42:58.051Z
/* ORBITAL DATA ELEMENTS */
ASCENDING_NODE_LONGITUDE = 261.86
MAXIMUM_RESOLUTION = 27.8
FOOTPRINT_POINT_LATITUDE = (-12.2381,-12.2398,-12.2418,-12.2431, -12.2444,-12.237,-12.0325,-11.7228, -11.5184,-11.3139,-11.0075,-10.7997, -10.5954,-10.3912,-10.1869,-9.98265, -9.77854,-9.57478,-9.37079,-9.06486, -8.75876,-8.45288,-8.249,-8.04532, -7.74008,-7.53635,-7.33212,-7.12848, -6.82345,-6.61997,-6.4164,-6.21302, -6.00977,-5.8068,-5.60378,-5.401, -5.19807,-4.99481,-4.7921,-4.48836, -4.18448,-3.98209,-3.77988,-3.4768, -3.2751,-2.97265,-2.7708,-2.46821, -2.2667,-2.03424,-2.03259,-2.03066, -2.02918,-2.02594,-2.02365,-2.22471, -2.52744,-2.72921,-3.03182,-3.23373, -3.43576,-3.63798,-3.84004,-4.04233, -4.24442,-4.44723,-4.65001,-4.85285, -5.0555,-5.25813,-5.46126,-5.76559, -5.96876,-6.2735,-6.47683,-6.68054, -6.9857,-7.29148,-7.49546,-7.6993, -8.00482,-8.20862,-8.41249,-8.61646, -8.92219,-9.12615,-9.3304,-9.5346, -9.73863,-9.94278,-10.1467,-10.3509, -10.5554,-10.8621,-11.1723,-11.3766, -11.6832,-11.8911,-12.0954,-12.2381)
FOOTPRINT_POINT_LONGITUDE = (226.101,225.847,225.533,225.339, 225.146,224.976,224.977,224.976,224.976 ,224.976,224.976,224.976,224.976, 224.975,224.975,224.974,224.974,224.973 ,224.973,224.971,224.97,224.969,224.968 ,224.967,224.966,224.965,224.964, 224.963,224.961,224.959,224.958,224.957 ,224.955,224.954,224.952,224.951, 224.949,224.948,224.946,224.943,224.94, 224.938,224.936,224.933,224.931,224.928 ,224.925,224.922,224.92,224.986,225.126 ,225.3,225.451,225.776,225.996,226.118, 226.12,226.121,226.123,226.124,226.125, 226.127,226.128,226.129,226.131,226.132 ,226.134,226.136,226.137,226.139, 226.141,226.143,226.145,226.148,226.149 ,226.152,226.154,226.158,226.16,226.162 ,226.165,226.167,226.17,226.172,226.175 ,226.178,226.18,226.182,226.185,226.187 ,226.19,226.192,226.195,226.199,226.203 ,226.205,226.209,226.212,226.215, 226.101)
ORBIT_NUMBER = 16614
ORBITAL_ECCENTRICITY = 0.578
ORBITAL_INCLINATION = 86.93
ORBITAL_SEMIMAJOR_AXIS = 8865.1
PERIAPSIS_ALTITUDE = 340.85
PERIAPSIS_ARGUMENT_ANGLE = 355.29
PERIAPSIS_TIME = 2017-02-12T06:41:57.000Z
SPACECRAFT_ORIENTATION = (0.0,1.0,0.0)
^MEX_ORIENTATION_DESC = "MEX_ORIENTATION_DESC.TXT"
SPACECRAFT_POINTING_MODE = NADIR
^MEX_POINTING_DESC = "MEX_POINTING_DESC.TXT"
RIGHT_ASCENSION = -1e+32
DECLINATION = -1e+32
OFFSET_ANGLE = -1e+32
SPACECRAFT_SOLAR_DISTANCE = 2.17304e+08
TARGET_NAME = MARS
/* CAMERA DATA ELEMENTS */
DETECTOR_TEMPERATURE = 17.9627
FOCAL_PLANE_TEMPERATURE = 9.6028
INST_CMPRS_NAME = "DISCRETE COSINE TRANSFORMATION (DCT)"
INST_CMPRS_RATIO = 6.36165
INST_CMPRS_QUALITY = 0
INST_CMPRS_QUANTZ_TBL_ID = 0
INSTRUMENT_TEMPERATURE = 11.8457
LENS_TEMPERATURE = 10.0106
MACROPIXEL_SIZE = 2
MISSING_FRAMES = 2
PIXEL_SUBSAMPLING_FLAG = N
SIGNAL_CHAIN_ID = 3
/* RADIOMETRIC DATA ELEMENTS */
BANDWIDTH = 174.0
CENTER_FILTER_WAVELENGTH = 675.0
RADIANCE_OFFSET = 2.29414
RADIANCE_SCALING_FACTOR = 0.0101212
REFLECTANCE_SCALING_FACTOR = 0.000257069
MEX:REFLECTANCE_OFFSET = 0.058269
/* IMAGE OBJECT DEFINITIONS */
OBJECT = IMAGE
  INTERCHANGE_FORMAT = BINARY
  LINES = 24216
  LINE_SAMPLES = 3267
  SAMPLE_TYPE = UNSIGNED_INTEGER
  SAMPLE_BITS = 8
  BANDS = 1
  BAND_STORAGE_TYPE = BAND_SEQUENTIAL
  MAXIMUM = 255
  MEAN = 99.7269
  MINIMUM = 1
  STANDARD_DEVIATION = 40.609
END_OBJECT = IMAGE
/* MAP OBJECT DEFINITIONS */
OBJECT = IMAGE_MAP_PROJECTION
  ^DATA_SET_MAP_PROJECTION_CATALOG= "DSMAP.CAT"
  A_AXIS_RADIUS = 3396.0
  B_AXIS_RADIUS = 3396.0
  C_AXIS_RADIUS = 3396.0
  CENTER_LATITUDE = 0.0
  CENTER_LONGITUDE = 226.0
  COORDINATE_SYSTEM_NAME = PLANETOGRAPHIC
  COORDINATE_SYSTEM_TYPE = "BODY-FIXED ROTATING"
  EASTERNMOST_LONGITUDE = 226.215
  FIRST_STANDARD_PARALLEL = "N/A"
  LINE_FIRST_PIXEL = 1
  LINE_LAST_PIXEL = 24216
  LINE_PROJECTION_OFFSET = -4835.25
  MAP_PROJECTION_ROTATION = 0.0
  MAP_PROJECTION_TYPE = SINUSOIDAL
  MAP_RESOLUTION = 2370.85521546667
  MAP_SCALE = 0.025
  MAXIMUM_LATITUDE = -2.02365
  MINIMUM_LATITUDE = -12.2444
  POSITIVE_LONGITUDE_DIRECTION = EAST
  REFERENCE_LATITUDE = "N/A"
  REFERENCE_LONGITUDE = "N/A"
  SAMPLE_FIRST_PIXEL = 1
  SAMPLE_LAST_PIXEL = 3267
  SAMPLE_PROJECTION_OFFSET = 2651.75
  SECOND_STANDARD_PARALLEL = "N/A"
  WESTERNMOST_LONGITUDE = 224.92
END_OBJECT = IMAGE_MAP_PROJECTION
/* The JPEG2000 image data file associated with this label. */
OBJECT = COMPRESSED_FILE
  FILE_NAME = "HG614_0000_P13.JP2"
  RECORD_TYPE = UNDEFINED
  FILE_RECORDS = UNK
  ENCODING_TYPE = "JP2"
  INTERCHANGE_FORMAT = BINARY
  UNCOMPRESSED_FILE_NAME = "HG614_0000_P13.IMG"
  REQUIRED_STORAGE_BYTES = "79136541"
  ^DESCRIPTION = "JP2INFO.TXT"
END_OBJECT = COMPRESSED_FILE
END
