PDS_VERSION_ID = PDS3
/* FILE DATA ELEMENTS */
RECORD_TYPE = STREAM
/* POINTERS TO DATA OBJECTS */
^COMPRESSED_FILE = "HG614_0000_P23.JP2"
/* IDENTIFICATION DATA ELEMENTS */
DATA_SET_ID = "MEX-M-HRSC-5-REFDR-MAPPROJECTED-V3.0"
DATA_SET_NAME = "MARS EXPRESS HRSC MAP PROJECTED REFDR V3.0"
DETECTOR_ID = MEX_HRSC_P2
EVENT_TYPE = "MARS-REGIONAL-STEREO-Vo"
INSTRUMENT_HOST_ID = MEX
INSTRUMENT_HOST_NAME = "MARS EXPRESS"
INSTRUMENT_ID = HRSC
INSTRUMENT_NAME = "HIGH RESOLUTION STEREO CAMERA"
MISSION_NAME = "MARS EXPRESS"
MISSION_PHASE_NAME = ME_Phase_36
PROCESSING_LEVEL_ID = 3
PRODUCT_CREATION_TIME = 2018-06-28T11:48:36.000Z
PRODUCT_ID = "HG614_0000_P23.JP2"
RELEASE_ID = 0138
REVISION_ID = 0000
/* QUALITY DATA ELEMENTS */
DATA_QUALITY_ID = 1
DATA_QUALITY_DESC = "Data calculated based on original SPICE kernels"
/* TIME DATA ELEMENTS */
SPACECRAFT_CLOCK_START_COUNT = "1/0434961560.08272"
SPACECRAFT_CLOCK_STOP_COUNT = "1/0434961782.49748"
START_TIME = 2017-02-12T06:39:39.434Z
STOP_TIME = 2017-02-12T06:42:17.628Z
/* ORBITAL DATA ELEMENTS */
ASCENDING_NODE_LONGITUDE = 261.86
MAXIMUM_RESOLUTION = 28
FOOTPRINT_POINT_LATITUDE = (-12.2458,-12.2481,-12.2494,-12.2502, -12.2508,-12.1589,-11.9577,-11.7565, -11.5553,-11.354,-11.1524,-10.9506, -10.7488,-10.5468,-10.2435,-10.0412, -9.83862,-9.63558,-9.33121,-9.1281, -8.92509,-8.7218,-8.51848,-8.31499, -8.11122,-7.90705,-7.70323,-7.39784, -7.09171,-6.88706,-6.68267,-6.47834, -6.27378,-5.96641,-5.76148,-5.55623, -5.35103,-5.14608,-4.94079,-4.6324, -4.42699,-4.22131,-4.01547,-3.8096, -3.60346,-3.39725,-3.19057,-2.98417, -2.67483,-2.46847,-2.15888,-2.04763, -2.04675,-2.0449,-2.04345,-2.14375, -2.45303,-2.6592,-2.86553,-3.07206, -3.27823,-3.48449,-3.69047,-3.99955, -4.20563,-4.41139,-4.6169,-4.92503, -5.13054,-5.43866,-5.74641,-5.95155, -6.15649,-6.36135,-6.56602,-6.87259, -7.077,-7.2811,-7.48488,-7.68877, -7.99457,-8.19842,-8.4021,-8.60564, -8.91074,-9.11424,-9.31712,-9.51995, -9.82422,-10.0269,-10.3309,-10.5331, -10.8358,-11.0376,-11.2392,-11.5416, -11.743,-11.9443,-12.2457,-12.2458)
FOOTPRINT_POINT_LONGITUDE = (226.001,225.715,225.517,225.33,225.131 ,224.958,224.958,224.958,224.959, 224.959,224.96,224.96,224.96,224.96, 224.96,224.96,224.96,224.96,224.96, 224.959,224.959,224.959,224.958,224.958 ,224.957,224.956,224.956,224.955, 224.954,224.953,224.952,224.951,224.951 ,224.949,224.948,224.946,224.945, 224.944,224.943,224.941,224.939,224.938 ,224.936,224.935,224.933,224.931, 224.929,224.927,224.924,224.923,224.92, 225.011,225.207,225.519,225.727,226.113 ,226.115,226.117,226.119,226.12,226.122 ,226.124,226.125,226.128,226.13,226.132 ,226.134,226.137,226.139,226.142, 226.145,226.147,226.15,226.152,226.154, 226.158,226.16,226.163,226.165,226.168, 226.172,226.174,226.177,226.18,226.184, 226.186,226.189,226.192,226.196,226.199 ,226.203,226.206,226.211,226.214, 226.217,226.222,226.225,226.228,226.233 ,226.001)
ORBIT_NUMBER = 16614
ORBITAL_ECCENTRICITY = 0.578
ORBITAL_INCLINATION = 86.93
ORBITAL_SEMIMAJOR_AXIS = 8865.1
PERIAPSIS_ALTITUDE = 340.85
PERIAPSIS_ARGUMENT_ANGLE = 355.29
PERIAPSIS_TIME = 2017-02-12T06:41:57.000Z
SPACECRAFT_ORIENTATION = (0.0,1.0,0.0)
^MEX_ORIENTATION_DESC = "MEX_ORIENTATION_DESC.TXT"
SPACECRAFT_POINTING_MODE = NADIR
^MEX_POINTING_DESC = "MEX_POINTING_DESC.TXT"
RIGHT_ASCENSION = -1e+32
DECLINATION = -1e+32
OFFSET_ANGLE = -1e+32
SPACECRAFT_SOLAR_DISTANCE = 2.17304e+08
TARGET_NAME = MARS
/* CAMERA DATA ELEMENTS */
DETECTOR_TEMPERATURE = 18.7783
FOCAL_PLANE_TEMPERATURE = 9.6028
INST_CMPRS_NAME = "DISCRETE COSINE TRANSFORMATION (DCT)"
INST_CMPRS_RATIO = 5.17805
INST_CMPRS_QUALITY = 0
INST_CMPRS_QUANTZ_TBL_ID = 0
INSTRUMENT_TEMPERATURE = 11.8457
LENS_TEMPERATURE = 10.0106
MACROPIXEL_SIZE = 2
MISSING_FRAMES = 0
PIXEL_SUBSAMPLING_FLAG = N
SIGNAL_CHAIN_ID = 3
/* RADIOMETRIC DATA ELEMENTS */
BANDWIDTH = 177.0
CENTER_FILTER_WAVELENGTH = 676.5
RADIANCE_OFFSET = 2.41948
RADIANCE_SCALING_FACTOR = 0.00992947
REFLECTANCE_SCALING_FACTOR = 0.000248608
MEX:REFLECTANCE_OFFSET = 0.0605775
/* IMAGE OBJECT DEFINITIONS */
OBJECT = IMAGE
  INTERCHANGE_FORMAT = BINARY
  LINES = 24216
  LINE_SAMPLES = 3267
  SAMPLE_TYPE = UNSIGNED_INTEGER
  SAMPLE_BITS = 8
  BANDS = 1
  BAND_STORAGE_TYPE = BAND_SEQUENTIAL
  MAXIMUM = 255
  MEAN = 100.412
  MINIMUM = 1
  STANDARD_DEVIATION = 39.0415
END_OBJECT = IMAGE
/* MAP OBJECT DEFINITIONS */
OBJECT = IMAGE_MAP_PROJECTION
  ^DATA_SET_MAP_PROJECTION_CATALOG= "DSMAP.CAT"
  A_AXIS_RADIUS = 3396.0
  B_AXIS_RADIUS = 3396.0
  C_AXIS_RADIUS = 3396.0
  CENTER_LATITUDE = 0.0
  CENTER_LONGITUDE = 226.0
  COORDINATE_SYSTEM_NAME = PLANETOGRAPHIC
  COORDINATE_SYSTEM_TYPE = "BODY-FIXED ROTATING"
  EASTERNMOST_LONGITUDE = 226.233
  FIRST_STANDARD_PARALLEL = "N/A"
  LINE_FIRST_PIXEL = 1
  LINE_LAST_PIXEL = 24216
  LINE_PROJECTION_OFFSET = -4835.25
  MAP_PROJECTION_ROTATION = 0.0
  MAP_PROJECTION_TYPE = SINUSOIDAL
  MAP_RESOLUTION = 2370.85521546667
  MAP_SCALE = 0.025
  MAXIMUM_LATITUDE = -2.04345
  MINIMUM_LATITUDE = -12.2508
  POSITIVE_LONGITUDE_DIRECTION = EAST
  REFERENCE_LATITUDE = "N/A"
  REFERENCE_LONGITUDE = "N/A"
  SAMPLE_FIRST_PIXEL = 1
  SAMPLE_LAST_PIXEL = 3267
  SAMPLE_PROJECTION_OFFSET = 2651.75
  SECOND_STANDARD_PARALLEL = "N/A"
  WESTERNMOST_LONGITUDE = 224.92
END_OBJECT = IMAGE_MAP_PROJECTION
/* The JPEG2000 image data file associated with this label. */
OBJECT = COMPRESSED_FILE
  FILE_NAME = "HG614_0000_P23.JP2"
  RECORD_TYPE = UNDEFINED
  FILE_RECORDS = UNK
  ENCODING_TYPE = "JP2"
  INTERCHANGE_FORMAT = BINARY
  UNCOMPRESSED_FILE_NAME = "HG614_0000_P23.IMG"
  REQUIRED_STORAGE_BYTES = "79136541"
  ^DESCRIPTION = "JP2INFO.TXT"
END_OBJECT = COMPRESSED_FILE
END
