PDS_VERSION_ID = PDS3
/* FILE DATA ELEMENTS */
RECORD_TYPE = STREAM
/* POINTERS TO DATA OBJECTS */
^COMPRESSED_FILE = "HG631_0000_P13.JP2"
/* IDENTIFICATION DATA ELEMENTS */
DATA_SET_ID = "MEX-M-HRSC-5-REFDR-MAPPROJECTED-V3.0"
DATA_SET_NAME = "MARS EXPRESS HRSC MAP PROJECTED REFDR V3.0"
DETECTOR_ID = MEX_HRSC_P1
EVENT_TYPE = "MARS-REGIONAL-STEREO-Vo-Te-Gl"
INSTRUMENT_HOST_ID = MEX
INSTRUMENT_HOST_NAME = "MARS EXPRESS"
INSTRUMENT_ID = HRSC
INSTRUMENT_NAME = "HIGH RESOLUTION STEREO CAMERA"
MISSION_NAME = "MARS EXPRESS"
MISSION_PHASE_NAME = ME_Phase_36
PROCESSING_LEVEL_ID = 3
PRODUCT_CREATION_TIME = 2018-06-28T11:48:36.000Z
PRODUCT_ID = "HG631_0000_P13.JP2"
RELEASE_ID = 0138
REVISION_ID = 0000
/* QUALITY DATA ELEMENTS */
DATA_QUALITY_ID = 1
DATA_QUALITY_DESC = "Data calculated based on original SPICE kernels"
/* TIME DATA ELEMENTS */
SPACECRAFT_CLOCK_START_COUNT = "1/0435389690.09050"
SPACECRAFT_CLOCK_STOP_COUNT = "1/0435389960.10512"
START_TIME = 2017-02-17T05:35:50.592Z
STOP_TIME = 2017-02-17T05:38:04.288Z
/* ORBITAL DATA ELEMENTS */
ASCENDING_NODE_LONGITUDE = 261.54
MAXIMUM_RESOLUTION = 27.8
FOOTPRINT_POINT_LATITUDE = (-13.7477,-13.7477,-13.7477,-13.7477, -13.7477,-13.7477,-13.5608,-13.3856, -13.2104,-12.955,-12.6995,-12.5278, -12.3558,-12.0934,-11.9186,-11.7454, -11.4818,-11.3053,-11.1302,-10.9556, -10.7823,-10.61,-10.4352,-10.2605, -10.089,-9.83123,-9.56999,-9.39598, -9.22396,-9.05024,-8.87572,-8.70319, -8.52863,-8.35318,-8.17107,-7.9889, -7.81459,-7.64916,-7.48074,-7.30905, -7.13371,-6.95755,-6.78829,-6.52657, -6.34778,-6.1763,-5.90741,-5.72762, -5.55471,-5.22166,-5.04138,-5.02692, -5.02267,-5.02468,-5.02503,-5.03246, -5.30795,-5.48163,-5.73685,-5.90908, -6.08354,-6.3467,-6.52235,-6.78738, -6.96375,-7.13719,-7.31112,-7.485, -7.8195,-7.99517,-8.2624,-8.42631, -8.69556,-8.87616,-9.05028,-9.22359, -9.39756,-9.57157,-9.74463,-9.91851, -10.0934,-10.2668,-10.4386,-10.6106, -10.7842,-10.9562,-11.1342,-11.3112, -11.4867,-11.6619,-11.9209,-12.094, -12.2683,-12.4427,-12.6214,-12.9532, -13.1238,-13.2986,-13.4734,-13.7477)
FOOTPRINT_POINT_LONGITUDE = (287.161,286.968,286.775,286.475, 286.283,286.068,285.984,285.984,285.985 ,285.982,285.979,285.978,285.977, 285.976,285.976,285.975,285.975,285.975 ,285.975,285.974,285.973,285.971, 285.971,285.97,285.969,285.966,285.965, 285.964,285.962,285.961,285.96,285.958, 285.957,285.957,285.959,285.96,285.959, 285.955,285.952,285.95,285.949,285.949, 285.946,285.944,285.945,285.942,285.943 ,285.944,285.941,285.933,285.934, 286.133,286.398,286.605,286.779,287.038 ,287.148,287.149,287.146,287.147, 287.149,287.153,287.156,287.161,287.164 ,287.165,287.167,287.168,287.163, 287.166,287.172,287.167,287.175,287.18, 287.182,287.183,287.185,287.186,287.187 ,287.188,287.19,287.192,287.192,287.192 ,287.193,287.194,287.198,287.201, 287.203,287.206,287.207,287.208,287.209 ,287.211,287.215,287.209,287.208,287.21 ,287.212,287.161)
ORBIT_NUMBER = 16631
ORBITAL_ECCENTRICITY = 0.578
ORBITAL_INCLINATION = 86.93
ORBITAL_SEMIMAJOR_AXIS = 8861.8
PERIAPSIS_ALTITUDE = 339.62
PERIAPSIS_ARGUMENT_ANGLE = 352.39
PERIAPSIS_TIME = 2017-02-17T05:37:06.000Z
SPACECRAFT_ORIENTATION = (0.0,1.0,0.0)
^MEX_ORIENTATION_DESC = "MEX_ORIENTATION_DESC.TXT"
SPACECRAFT_POINTING_MODE = ACROSSTRACK
^MEX_POINTING_DESC = "MEX_POINTING_DESC.TXT"
RIGHT_ASCENSION = -1e+32
DECLINATION = -1e+32
OFFSET_ANGLE = -0.15
SPACECRAFT_SOLAR_DISTANCE = 2.18191e+08
TARGET_NAME = MARS
/* CAMERA DATA ELEMENTS */
DETECTOR_TEMPERATURE = 17.7588
FOCAL_PLANE_TEMPERATURE = 8.9911
INST_CMPRS_NAME = "DISCRETE COSINE TRANSFORMATION (DCT)"
INST_CMPRS_RATIO = 9.19879
INST_CMPRS_QUALITY = 0
INST_CMPRS_QUANTZ_TBL_ID = 0
INSTRUMENT_TEMPERATURE = 11.8457
LENS_TEMPERATURE = 8.9911
MACROPIXEL_SIZE = 2
MISSING_FRAMES = 1
PIXEL_SUBSAMPLING_FLAG = N
SIGNAL_CHAIN_ID = 3
/* RADIOMETRIC DATA ELEMENTS */
BANDWIDTH = 174.0
CENTER_FILTER_WAVELENGTH = 675.0
RADIANCE_OFFSET = 1.89267
RADIANCE_SCALING_FACTOR = 0.017431
REFLECTANCE_SCALING_FACTOR = 0.000446356
MEX:REFLECTANCE_OFFSET = 0.0484656
/* IMAGE OBJECT DEFINITIONS */
OBJECT = IMAGE
  INTERCHANGE_FORMAT = BINARY
  LINES = 23863
  LINE_SAMPLES = 3243
  SAMPLE_TYPE = UNSIGNED_INTEGER
  SAMPLE_BITS = 8
  BANDS = 1
  BAND_STORAGE_TYPE = BAND_SEQUENTIAL
  MAXIMUM = 255
  MEAN = 55.8149
  MINIMUM = 1
  STANDARD_DEVIATION = 22.7203
END_OBJECT = IMAGE
/* MAP OBJECT DEFINITIONS */
OBJECT = IMAGE_MAP_PROJECTION
  ^DATA_SET_MAP_PROJECTION_CATALOG= "DSMAP.CAT"
  A_AXIS_RADIUS = 3396.0
  B_AXIS_RADIUS = 3396.0
  C_AXIS_RADIUS = 3396.0
  CENTER_LATITUDE = 0.0
  CENTER_LONGITUDE = 287.0
  COORDINATE_SYSTEM_NAME = PLANETOGRAPHIC
  COORDINATE_SYSTEM_TYPE = "BODY-FIXED ROTATING"
  EASTERNMOST_LONGITUDE = 287.215
  FIRST_STANDARD_PARALLEL = "N/A"
  LINE_FIRST_PIXEL = 1
  LINE_LAST_PIXEL = 23863
  LINE_PROJECTION_OFFSET = -8795.75
  MAP_PROJECTION_ROTATION = 0.0
  MAP_PROJECTION_TYPE = SINUSOIDAL
  MAP_RESOLUTION = 2370.85521546667
  MAP_SCALE = 0.025
  MAXIMUM_LATITUDE = -5.02267
  MINIMUM_LATITUDE = -13.7477
  POSITIVE_LONGITUDE_DIRECTION = EAST
  REFERENCE_LATITUDE = "N/A"
  REFERENCE_LONGITUDE = "N/A"
  SAMPLE_FIRST_PIXEL = 1
  SAMPLE_LAST_PIXEL = 3243
  SAMPLE_PROJECTION_OFFSET = 2612.25
  SECOND_STANDARD_PARALLEL = "N/A"
  WESTERNMOST_LONGITUDE = 285.933
END_OBJECT = IMAGE_MAP_PROJECTION
/* The JPEG2000 image data file associated with this label. */
OBJECT = COMPRESSED_FILE
  FILE_NAME = "HG631_0000_P13.JP2"
  RECORD_TYPE = UNDEFINED
  FILE_RECORDS = UNK
  ENCODING_TYPE = "JP2"
  INTERCHANGE_FORMAT = BINARY
  UNCOMPRESSED_FILE_NAME = "HG631_0000_P13.IMG"
  REQUIRED_STORAGE_BYTES = "77410410"
  ^DESCRIPTION = "JP2INFO.TXT"
END_OBJECT = COMPRESSED_FILE
END
