PDS_VERSION_ID = PDS3
/* FILE DATA ELEMENTS */
RECORD_TYPE = STREAM
/* POINTERS TO DATA OBJECTS */
^COMPRESSED_FILE = "HG638_0000_S13.JP2"
/* IDENTIFICATION DATA ELEMENTS */
DATA_SET_ID = "MEX-M-HRSC-5-REFDR-MAPPROJECTED-V3.0"
DATA_SET_NAME = "MARS EXPRESS HRSC MAP PROJECTED REFDR V3.0"
DETECTOR_ID = MEX_HRSC_S1
EVENT_TYPE = "MARS-REGIONAL-STEREO-Vo-Te-Gl"
INSTRUMENT_HOST_ID = MEX
INSTRUMENT_HOST_NAME = "MARS EXPRESS"
INSTRUMENT_ID = HRSC
INSTRUMENT_NAME = "HIGH RESOLUTION STEREO CAMERA"
MISSION_NAME = "MARS EXPRESS"
MISSION_PHASE_NAME = ME_Phase_36
PROCESSING_LEVEL_ID = 3
PRODUCT_CREATION_TIME = 2018-06-28T11:48:36.000Z
PRODUCT_ID = "HG638_0000_S13.JP2"
RELEASE_ID = 0138
REVISION_ID = 0000
/* QUALITY DATA ELEMENTS */
DATA_QUALITY_ID = 1
DATA_QUALITY_DESC = "Data calculated based on original SPICE kernels"
/* TIME DATA ELEMENTS */
SPACECRAFT_CLOCK_START_COUNT = "1/0435565974.09046"
SPACECRAFT_CLOCK_STOP_COUNT = "1/0435566140.41529"
START_TIME = 2017-02-19T06:34:04.963Z
STOP_TIME = 2017-02-19T06:35:46.464Z
/* ORBITAL DATA ELEMENTS */
ASCENDING_NODE_LONGITUDE = 261.41
MAXIMUM_RESOLUTION = 28.5
FOOTPRINT_POINT_LATITUDE = (-14.849,-14.8499,-14.8512,-14.8522, -14.8531,-14.7719,-14.5716,-14.438, -14.3047,-14.1051,-13.9735,-13.7342, -13.4772,-13.342,-13.2051,-13.066, -12.9317,-12.8023,-12.6675,-12.4759, -12.3405,-12.2143,-12.0831,-11.8865, -11.7537,-11.6208,-11.4885,-11.3551, -11.222,-11.0891,-10.9585,-10.83, -10.7023,-10.5741,-10.4459,-10.3173, -10.1871,-10.0572,-9.91904,-9.78415, -9.6439,-9.5012,-9.36681,-9.22776, -9.02391,-8.88734,-8.75504,-8.62175, -8.42217,-8.2233,-8.20562,-8.20181, -8.19761,-8.19652,-8.19571,-8.19487, -8.32697,-8.45911,-8.59187,-8.79078, -8.92441,-9.12527,-9.25861,-9.39083, -9.52265,-9.65494,-9.78741,-9.92545, -10.1191,-10.253,-10.4006,-10.6109, -10.7426,-10.8707,-10.9965,-11.1283, -11.324,-11.5133,-11.6642,-11.7978, -11.9308,-12.1286,-12.2552,-12.3851, -12.5803,-12.7154,-12.8529,-12.9821, -13.1755,-13.3049,-13.5467,-13.6803, -13.8139,-13.9475,-14.1478,-14.348, -14.5485,-14.6821,-14.816,-14.849)
FOOTPRINT_POINT_LONGITUDE = (290.672,290.492,290.216,290.024, 289.868,289.701,289.701,289.701,289.701 ,289.7,289.7,289.691,289.688,289.688, 289.689,289.69,289.691,289.689,289.689, 289.686,289.687,289.684,289.683,289.682 ,289.681,289.681,289.68,289.68,289.679, 289.679,289.678,289.678,289.677,289.676 ,289.676,289.675,289.675,289.675, 289.677,289.678,289.68,289.682,289.682, 289.683,289.683,289.684,289.683,289.682 ,289.681,289.68,289.887,290.186,290.335 ,290.519,290.657,290.868,290.869,290.87 ,290.871,290.873,290.874,290.876, 290.878,290.879,290.88,290.881,290.882, 290.886,290.888,290.891,290.898,290.905 ,290.908,290.908,290.909,290.91,290.91, 290.909,290.916,290.917,290.918,290.92, 290.919,290.919,290.919,290.921,290.924 ,290.924,290.924,290.924,290.918, 290.919,290.921,290.922,290.924,290.926 ,290.928,290.93,290.931,290.672)
ORBIT_NUMBER = 16638
ORBITAL_ECCENTRICITY = 0.578
ORBITAL_INCLINATION = 86.93
ORBITAL_SEMIMAJOR_AXIS = 8860.14
PERIAPSIS_ALTITUDE = 339.02
PERIAPSIS_ARGUMENT_ANGLE = 351.18
PERIAPSIS_TIME = 2017-02-19T06:35:08.000Z
SPACECRAFT_ORIENTATION = (0.0,1.0,0.0)
^MEX_ORIENTATION_DESC = "MEX_ORIENTATION_DESC.TXT"
SPACECRAFT_POINTING_MODE = NADIR
^MEX_POINTING_DESC = "MEX_POINTING_DESC.TXT"
RIGHT_ASCENSION = -1e+32
DECLINATION = -1e+32
OFFSET_ANGLE = -1e+32
SPACECRAFT_SOLAR_DISTANCE = 2.18562e+08
TARGET_NAME = MARS
/* CAMERA DATA ELEMENTS */
DETECTOR_TEMPERATURE = 17.1471
FOCAL_PLANE_TEMPERATURE = 9.3989
INST_CMPRS_NAME = "DISCRETE COSINE TRANSFORMATION (DCT)"
INST_CMPRS_RATIO = 10.7562
INST_CMPRS_QUALITY = 0
INST_CMPRS_QUANTZ_TBL_ID = 0
INSTRUMENT_TEMPERATURE = 12.0496
LENS_TEMPERATURE = 9.3989
MACROPIXEL_SIZE = 2
MISSING_FRAMES = 0
PIXEL_SUBSAMPLING_FLAG = N
SIGNAL_CHAIN_ID = 1
/* RADIOMETRIC DATA ELEMENTS */
BANDWIDTH = 180.0
CENTER_FILTER_WAVELENGTH = 677.0
RADIANCE_OFFSET = 2.15488
RADIANCE_SCALING_FACTOR = 0.0202812
REFLECTANCE_SCALING_FACTOR = 0.000505458
MEX:REFLECTANCE_OFFSET = 0.0537049
/* IMAGE OBJECT DEFINITIONS */
OBJECT = IMAGE
  INTERCHANGE_FORMAT = BINARY
  LINES = 15754
  LINE_SAMPLES = 3102
  SAMPLE_TYPE = UNSIGNED_INTEGER
  SAMPLE_BITS = 8
  BANDS = 1
  BAND_STORAGE_TYPE = BAND_SEQUENTIAL
  MAXIMUM = 255
  MEAN = 67.7351
  MINIMUM = 1
  STANDARD_DEVIATION = 27.2158
END_OBJECT = IMAGE
/* MAP OBJECT DEFINITIONS */
OBJECT = IMAGE_MAP_PROJECTION
  ^DATA_SET_MAP_PROJECTION_CATALOG= "DSMAP.CAT"
  A_AXIS_RADIUS = 3396.0
  B_AXIS_RADIUS = 3396.0
  C_AXIS_RADIUS = 3396.0
  CENTER_LATITUDE = 0.0
  CENTER_LONGITUDE = 290.0
  COORDINATE_SYSTEM_NAME = PLANETOGRAPHIC
  COORDINATE_SYSTEM_TYPE = "BODY-FIXED ROTATING"
  EASTERNMOST_LONGITUDE = 290.931
  FIRST_STANDARD_PARALLEL = "N/A"
  LINE_FIRST_PIXEL = 1
  LINE_LAST_PIXEL = 15754
  LINE_PROJECTION_OFFSET = -19504.25
  MAP_PROJECTION_ROTATION = 0.0
  MAP_PROJECTION_TYPE = SINUSOIDAL
  MAP_RESOLUTION = 2370.85521546667
  MAP_SCALE = 0.025
  MAXIMUM_LATITUDE = -8.19487
  MINIMUM_LATITUDE = -14.8531
  POSITIVE_LONGITUDE_DIRECTION = EAST
  REFERENCE_LATITUDE = "N/A"
  REFERENCE_LONGITUDE = "N/A"
  SAMPLE_FIRST_PIXEL = 1
  SAMPLE_LAST_PIXEL = 3102
  SAMPLE_PROJECTION_OFFSET = 851.75
  SECOND_STANDARD_PARALLEL = "N/A"
  WESTERNMOST_LONGITUDE = 289.675
END_OBJECT = IMAGE_MAP_PROJECTION
/* The JPEG2000 image data file associated with this label. */
OBJECT = COMPRESSED_FILE
  FILE_NAME = "HG638_0000_S13.JP2"
  RECORD_TYPE = UNDEFINED
  FILE_RECORDS = UNK
  ENCODING_TYPE = "JP2"
  INTERCHANGE_FORMAT = BINARY
  UNCOMPRESSED_FILE_NAME = "HG638_0000_S13.IMG"
  REQUIRED_STORAGE_BYTES = "48893724"
  ^DESCRIPTION = "JP2INFO.TXT"
END_OBJECT = COMPRESSED_FILE
END
