PDS_VERSION_ID = PDS3
/* FILE DATA ELEMENTS */
RECORD_TYPE = STREAM
/* POINTERS TO DATA OBJECTS */
^COMPRESSED_FILE = "HG640_0000_P13.JP2"
/* IDENTIFICATION DATA ELEMENTS */
DATA_SET_ID = "MEX-M-HRSC-5-REFDR-MAPPROJECTED-V3.0"
DATA_SET_NAME = "MARS EXPRESS HRSC MAP PROJECTED REFDR V3.0"
DETECTOR_ID = MEX_HRSC_P1
EVENT_TYPE = "MARS-REGIONAL-MAPPING-Vo-Im-Fl"
INSTRUMENT_HOST_ID = MEX
INSTRUMENT_HOST_NAME = "MARS EXPRESS"
INSTRUMENT_ID = HRSC
INSTRUMENT_NAME = "HIGH RESOLUTION STEREO CAMERA"
MISSION_NAME = "MARS EXPRESS"
MISSION_PHASE_NAME = ME_Phase_36
PROCESSING_LEVEL_ID = 3
PRODUCT_CREATION_TIME = 2018-06-28T11:48:36.000Z
PRODUCT_ID = "HG640_0000_P13.JP2"
RELEASE_ID = 0138
REVISION_ID = 0000
/* QUALITY DATA ELEMENTS */
DATA_QUALITY_ID = 1
DATA_QUALITY_DESC = "Data calculated based on original SPICE kernels"
/* TIME DATA ELEMENTS */
SPACECRAFT_CLOCK_START_COUNT = "1/0435616372.08263"
SPACECRAFT_CLOCK_STOP_COUNT = "1/0435616621.49280"
START_TIME = 2017-02-19T20:33:51.178Z
STOP_TIME = 2017-02-19T20:36:56.422Z
/* ORBITAL DATA ELEMENTS */
ASCENDING_NODE_LONGITUDE = 261.37
MAXIMUM_RESOLUTION = 27.5
FOOTPRINT_POINT_LATITUDE = (-12.9859,-12.9883,-12.9911,-12.9938, -12.9966,-12.8667,-12.623,-12.3792, -12.1359,-11.8921,-11.6504,-11.4141, -11.0611,-10.8253,-10.5865,-10.3546, -10.0012,-9.76555,-9.53046,-9.29581, -9.06102,-8.70974,-8.47554,-8.23601, -7.99323,-7.63056,-7.38887,-7.14598, -6.9055,-6.66365,-6.30144,-5.93975, -5.69914,-5.46301,-5.22036,-4.98008, -4.74063,-4.50014,-4.26047,-4.02055, -3.78013,-3.54127,-3.30395,-3.06529, -2.82599,-2.46836,-2.22979,-1.99117, -1.63404,-1.39741,-1.04051,-1.01213, -1.00923,-1.00404,-1.00031,-0.996073, -1.11217,-1.46889,-1.70687,-1.94454, -2.30093,-2.53945,-2.89445,-3.13293, -3.37258,-3.61075,-3.85118,-4.21004, -4.44946,-4.69234,-5.05184,-5.29195, -5.65207,-6.01282,-6.25367,-6.49518, -6.86003,-7.1041,-7.34535,-7.58398, -7.82656,-8.1897,-8.54893,-8.78388, -9.0185,-9.25621,-9.48808,-9.84185, -10.0785,-10.3117,-10.5477,-10.8996, -11.137,-11.4923,-11.727,-11.9691, -12.3351,-12.7002,-12.9435,-12.9859)
FOOTPRINT_POINT_LONGITUDE = (85.7706,85.6058,85.4171,85.228,85.038, 84.874,84.8737,84.8735,84.8728,84.8724, 84.8721,84.8719,84.8707,84.8701,84.8715 ,84.8682,84.8671,84.8663,84.8652, 84.8637,84.8624,84.8597,84.858,84.8554, 84.8541,84.8512,84.8492,84.848,84.8452, 84.8434,84.8403,84.8369,84.8343,84.8289 ,84.8277,84.825,84.8218,84.8193,84.8164 ,84.8136,84.8112,84.8079,84.8036, 84.8002,84.7973,84.7922,84.7889,84.7858 ,84.7807,84.7764,84.7714,84.9638, 85.1331,85.4343,85.6628,85.8183,86.0141 ,86.015,86.0157,86.0163,86.017,86.0178, 86.0181,86.0188,86.0198,86.0204,86.0216 ,86.0229,86.0239,86.0258,86.0272, 86.0283,86.0299,86.0316,86.0329,86.0344 ,86.0373,86.0395,86.0409,86.0414, 86.0432,86.0455,86.0481,86.0498,86.0514 ,86.054,86.0548,86.0578,86.0601,86.0613 ,86.0633,86.0658,86.0683,86.0718, 86.0733,86.0749,86.0782,86.0813,86.0834 ,85.7706)
ORBIT_NUMBER = 16640
ORBITAL_ECCENTRICITY = 0.579
ORBITAL_INCLINATION = 86.93
ORBITAL_SEMIMAJOR_AXIS = 8862.17
PERIAPSIS_ALTITUDE = 338.24
PERIAPSIS_ARGUMENT_ANGLE = 350.8
PERIAPSIS_TIME = 2017-02-19T20:34:30.000Z
SPACECRAFT_ORIENTATION = (0.0,1.0,0.0)
^MEX_ORIENTATION_DESC = "MEX_ORIENTATION_DESC.TXT"
SPACECRAFT_POINTING_MODE = ACROSSTRACK
^MEX_POINTING_DESC = "MEX_POINTING_DESC.TXT"
RIGHT_ASCENSION = -1e+32
DECLINATION = -1e+32
OFFSET_ANGLE = 0.229
SPACECRAFT_SOLAR_DISTANCE = 2.18669e+08
TARGET_NAME = MARS
/* CAMERA DATA ELEMENTS */
DETECTOR_TEMPERATURE = 17.5549
FOCAL_PLANE_TEMPERATURE = 8.7872
INST_CMPRS_NAME = "DISCRETE COSINE TRANSFORMATION (DCT)"
INST_CMPRS_RATIO = 9.71734
INST_CMPRS_QUALITY = 0
INST_CMPRS_QUANTZ_TBL_ID = 0
INSTRUMENT_TEMPERATURE = 11.4379
LENS_TEMPERATURE = 9.195
MACROPIXEL_SIZE = 2
MISSING_FRAMES = 0
PIXEL_SUBSAMPLING_FLAG = N
SIGNAL_CHAIN_ID = 3
/* RADIOMETRIC DATA ELEMENTS */
BANDWIDTH = 174.0
CENTER_FILTER_WAVELENGTH = 675.0
RADIANCE_OFFSET = 2.00738
RADIANCE_SCALING_FACTOR = 0.00742223
REFLECTANCE_SCALING_FACTOR = 0.000190894
MEX:REFLECTANCE_OFFSET = 0.0516282
/* IMAGE OBJECT DEFINITIONS */
OBJECT = IMAGE
  INTERCHANGE_FORMAT = BINARY
  LINES = 28412
  LINE_SAMPLES = 3223
  SAMPLE_TYPE = UNSIGNED_INTEGER
  SAMPLE_BITS = 8
  BANDS = 1
  BAND_STORAGE_TYPE = BAND_SEQUENTIAL
  MAXIMUM = 255
  MEAN = 107.962
  MINIMUM = 1
  STANDARD_DEVIATION = 27.012
END_OBJECT = IMAGE
/* MAP OBJECT DEFINITIONS */
OBJECT = IMAGE_MAP_PROJECTION
  ^DATA_SET_MAP_PROJECTION_CATALOG= "DSMAP.CAT"
  A_AXIS_RADIUS = 3396.0
  B_AXIS_RADIUS = 3396.0
  C_AXIS_RADIUS = 3396.0
  CENTER_LATITUDE = 0.0
  CENTER_LONGITUDE = 85.0
  COORDINATE_SYSTEM_NAME = PLANETOGRAPHIC
  COORDINATE_SYSTEM_TYPE = "BODY-FIXED ROTATING"
  EASTERNMOST_LONGITUDE = 86.0834
  FIRST_STANDARD_PARALLEL = "N/A"
  LINE_FIRST_PIXEL = 1
  LINE_LAST_PIXEL = 28412
  LINE_PROJECTION_OFFSET = -2395.25
  MAP_PROJECTION_ROTATION = 0.0
  MAP_PROJECTION_TYPE = SINUSOIDAL
  MAP_RESOLUTION = 2370.85521546667
  MAP_SCALE = 0.025
  MAXIMUM_LATITUDE = -0.996073
  MINIMUM_LATITUDE = -12.9966
  POSITIVE_LONGITUDE_DIRECTION = EAST
  REFERENCE_LATITUDE = "N/A"
  REFERENCE_LONGITUDE = "N/A"
  SAMPLE_FIRST_PIXEL = 1
  SAMPLE_LAST_PIXEL = 3223
  SAMPLE_PROJECTION_OFFSET = 647.25
  SECOND_STANDARD_PARALLEL = "N/A"
  WESTERNMOST_LONGITUDE = 84.7714
END_OBJECT = IMAGE_MAP_PROJECTION
/* The JPEG2000 image data file associated with this label. */
OBJECT = COMPRESSED_FILE
  FILE_NAME = "HG640_0000_P13.JP2"
  RECORD_TYPE = UNDEFINED
  FILE_RECORDS = UNK
  ENCODING_TYPE = "JP2"
  INTERCHANGE_FORMAT = BINARY
  UNCOMPRESSED_FILE_NAME = "HG640_0000_P13.IMG"
  REQUIRED_STORAGE_BYTES = "91594437"
  ^DESCRIPTION = "JP2INFO.TXT"
END_OBJECT = COMPRESSED_FILE
END
