PDS_VERSION_ID = PDS3
/* FILE DATA ELEMENTS */
RECORD_TYPE = STREAM
/* POINTERS TO DATA OBJECTS */
^COMPRESSED_FILE = "HG642_0000_ND3.JP2"
/* IDENTIFICATION DATA ELEMENTS */
DATA_SET_ID = "MEX-M-HRSC-5-REFDR-MAPPROJECTED-V3.0"
DATA_SET_NAME = "MARS EXPRESS HRSC MAP PROJECTED REFDR V3.0"
DETECTOR_ID = MEX_HRSC_NADIR
EVENT_TYPE = "MARS-LOCAL-STEREO-Vo"
INSTRUMENT_HOST_ID = MEX
INSTRUMENT_HOST_NAME = "MARS EXPRESS"
INSTRUMENT_ID = HRSC
INSTRUMENT_NAME = "HIGH RESOLUTION STEREO CAMERA"
MISSION_NAME = "MARS EXPRESS"
MISSION_PHASE_NAME = ME_Phase_36
PROCESSING_LEVEL_ID = 3
PRODUCT_CREATION_TIME = 2018-06-28T11:48:36.000Z
PRODUCT_ID = "HG642_0000_ND3.JP2"
RELEASE_ID = 0138
REVISION_ID = 0000
/* QUALITY DATA ELEMENTS */
DATA_QUALITY_ID = 1
DATA_QUALITY_DESC = "Data calculated based on original SPICE kernels"
/* TIME DATA ELEMENTS */
SPACECRAFT_CLOCK_START_COUNT = "1/0435666732.08292"
SPACECRAFT_CLOCK_STOP_COUNT = "1/0435666936.41204"
START_TIME = 2017-02-20T10:32:51.322Z
STOP_TIME = 2017-02-20T10:35:11.307Z
/* ORBITAL DATA ELEMENTS */
ASCENDING_NODE_LONGITUDE = 261.34
MAXIMUM_RESOLUTION = 12.8
FOOTPRINT_POINT_LATITUDE = (-13.7105,-13.7115,-13.7125,-13.7136, -13.5307,-13.3466,-13.1625,-12.9783, -12.7941,-12.6099,-12.4257,-12.2414, -12.0571,-11.7806,-11.5962,-11.412, -11.1357,-10.9514,-10.6762,-10.3193, -10.1408,-9.96216,-9.78356,-9.60501, -9.42645,-9.15861,-8.89077,-8.71221, -8.53366,-8.26584,-7.99797,-7.73009, -7.55149,-7.3692,-7.09239,-6.90788, -6.72339,-6.53894,-6.35453,-6.17017, -5.98583,-5.80151,-5.61722,-5.43296, -5.24872,-4.97239,-4.78822,-4.59692, -4.59553,-4.59298,-4.59072,-4.68109, -4.86531,-5.04954,-5.32603,-5.51036, -5.69473,-5.87911,-6.06353,-6.3402, -6.52466,-6.70914,-6.89363,-7.07814, -7.26266,-7.53749,-7.71616,-7.89484, -8.07356,-8.25224,-8.43093,-8.6096, -8.78829,-9.05628,-9.23495,-9.41359, -9.59219,-9.7708,-9.94936,-10.1279, -10.3064,-10.4849,-10.6633,-10.8462, -11.0306,-11.215,-11.4916,-11.6761, -11.8605,-12.045,-12.2294,-12.4138, -12.5981,-12.7824,-12.9668,-13.151, -13.3353,-13.5195,-13.7036,-13.7105)
FOOTPRINT_POINT_LONGITUDE = (241.253,241.059,240.805,240.439, 240.312,240.312,240.313,240.313,240.314 ,240.314,240.314,240.314,240.314, 240.315,240.315,240.317,240.323,240.325 ,240.328,240.331,240.331,240.328, 240.326,240.325,240.325,240.323,240.322 ,240.321,240.32,240.319,240.316,240.312 ,240.309,240.307,240.301,240.298, 240.294,240.292,240.289,240.287,240.285 ,240.283,240.28,240.278,240.276,240.272 ,240.269,240.371,240.568,240.914,241.2, 241.435,241.435,241.436,241.437,241.438 ,241.438,241.439,241.44,241.441,241.442 ,241.443,241.444,241.445,241.447, 241.448,241.448,241.449,241.449,241.45, 241.451,241.452,241.453,241.455,241.456 ,241.457,241.459,241.461,241.463, 241.465,241.467,241.47,241.473,241.476, 241.478,241.481,241.485,241.487,241.489 ,241.49,241.492,241.494,241.496,241.497 ,241.499,241.501,241.503,241.505, 241.507,241.253)
ORBIT_NUMBER = 16642
ORBITAL_ECCENTRICITY = 0.579
ORBITAL_INCLINATION = 86.92
ORBITAL_SEMIMAJOR_AXIS = 8870.32
PERIAPSIS_ALTITUDE = 338.36
PERIAPSIS_ARGUMENT_ANGLE = 350.45
PERIAPSIS_TIME = 2017-02-20T10:33:56.000Z
SPACECRAFT_ORIENTATION = (0.0,1.0,0.0)
^MEX_ORIENTATION_DESC = "MEX_ORIENTATION_DESC.TXT"
SPACECRAFT_POINTING_MODE = ACROSSTRACK
^MEX_POINTING_DESC = "MEX_POINTING_DESC.TXT"
RIGHT_ASCENSION = -1e+32
DECLINATION = -1e+32
OFFSET_ANGLE = 0.2
SPACECRAFT_SOLAR_DISTANCE = 2.18776e+08
TARGET_NAME = MARS
/* CAMERA DATA ELEMENTS */
DETECTOR_TEMPERATURE = 18.3705
FOCAL_PLANE_TEMPERATURE = 8.7872
INST_CMPRS_NAME = "DISCRETE COSINE TRANSFORMATION (DCT)"
INST_CMPRS_RATIO = 5.50677
INST_CMPRS_QUALITY = 0
INST_CMPRS_QUANTZ_TBL_ID = 0
INSTRUMENT_TEMPERATURE = 11.8457
LENS_TEMPERATURE = 9.195
MACROPIXEL_SIZE = 1
MISSING_FRAMES = 0
PIXEL_SUBSAMPLING_FLAG = N
SIGNAL_CHAIN_ID = 0
/* RADIOMETRIC DATA ELEMENTS */
BANDWIDTH = 177.0
CENTER_FILTER_WAVELENGTH = 677.5
RADIANCE_OFFSET = 2.05815
RADIANCE_SCALING_FACTOR = 0.0152311
REFLECTANCE_SCALING_FACTOR = 0.000387269
MEX:REFLECTANCE_OFFSET = 0.0523309
/* IMAGE OBJECT DEFINITIONS */
OBJECT = IMAGE
  INTERCHANGE_FORMAT = BINARY
  LINES = 43275
  LINE_SAMPLES = 6331
  SAMPLE_TYPE = UNSIGNED_INTEGER
  SAMPLE_BITS = 8
  BANDS = 1
  BAND_STORAGE_TYPE = BAND_SEQUENTIAL
  MAXIMUM = 255
  MEAN = 94.857
  MINIMUM = 1
  STANDARD_DEVIATION = 23.6249
END_OBJECT = IMAGE
/* MAP OBJECT DEFINITIONS */
OBJECT = IMAGE_MAP_PROJECTION
  ^DATA_SET_MAP_PROJECTION_CATALOG= "DSMAP.CAT"
  A_AXIS_RADIUS = 3396.0
  B_AXIS_RADIUS = 3396.0
  C_AXIS_RADIUS = 3396.0
  CENTER_LATITUDE = 0.0
  CENTER_LONGITUDE = 241.0
  COORDINATE_SYSTEM_NAME = PLANETOGRAPHIC
  COORDINATE_SYSTEM_TYPE = "BODY-FIXED ROTATING"
  EASTERNMOST_LONGITUDE = 241.507
  FIRST_STANDARD_PARALLEL = "N/A"
  LINE_FIRST_PIXEL = 1
  LINE_LAST_PIXEL = 43275
  LINE_PROJECTION_OFFSET = -21753.0
  MAP_PROJECTION_ROTATION = 0.0
  MAP_PROJECTION_TYPE = SINUSOIDAL
  MAP_RESOLUTION = 4741.71043093333
  MAP_SCALE = 0.0125
  MAXIMUM_LATITUDE = -4.59072
  MINIMUM_LATITUDE = -13.7136
  POSITIVE_LONGITUDE_DIRECTION = EAST
  REFERENCE_LATITUDE = "N/A"
  REFERENCE_LONGITUDE = "N/A"
  SAMPLE_FIRST_PIXEL = 1
  SAMPLE_LAST_PIXEL = 6331
  SAMPLE_PROJECTION_OFFSET = 3820.0
  SECOND_STANDARD_PARALLEL = "N/A"
  WESTERNMOST_LONGITUDE = 240.269
END_OBJECT = IMAGE_MAP_PROJECTION
/* The JPEG2000 image data file associated with this label. */
OBJECT = COMPRESSED_FILE
  FILE_NAME = "HG642_0000_ND3.JP2"
  RECORD_TYPE = UNDEFINED
  FILE_RECORDS = UNK
  ENCODING_TYPE = "JP2"
  INTERCHANGE_FORMAT = BINARY
  UNCOMPRESSED_FILE_NAME = "HG642_0000_ND3.IMG"
  REQUIRED_STORAGE_BYTES = "274005680"
  ^DESCRIPTION = "JP2INFO.TXT"
END_OBJECT = COMPRESSED_FILE
END
