PDS_VERSION_ID = PDS3
/* FILE DATA ELEMENTS */
RECORD_TYPE = STREAM
/* POINTERS TO DATA OBJECTS */
^COMPRESSED_FILE = "HG642_0000_P23.JP2"
/* IDENTIFICATION DATA ELEMENTS */
DATA_SET_ID = "MEX-M-HRSC-5-REFDR-MAPPROJECTED-V3.0"
DATA_SET_NAME = "MARS EXPRESS HRSC MAP PROJECTED REFDR V3.0"
DETECTOR_ID = MEX_HRSC_P2
EVENT_TYPE = "MARS-LOCAL-STEREO-Vo"
INSTRUMENT_HOST_ID = MEX
INSTRUMENT_HOST_NAME = "MARS EXPRESS"
INSTRUMENT_ID = HRSC
INSTRUMENT_NAME = "HIGH RESOLUTION STEREO CAMERA"
MISSION_NAME = "MARS EXPRESS"
MISSION_PHASE_NAME = ME_Phase_36
PROCESSING_LEVEL_ID = 3
PRODUCT_CREATION_TIME = 2018-06-28T11:48:36.000Z
PRODUCT_ID = "HG642_0000_P23.JP2"
RELEASE_ID = 0138
REVISION_ID = 0000
/* QUALITY DATA ELEMENTS */
DATA_QUALITY_ID = 1
DATA_QUALITY_DESC = "Data calculated based on original SPICE kernels"
/* TIME DATA ELEMENTS */
SPACECRAFT_CLOCK_START_COUNT = "1/0435666732.08292"
SPACECRAFT_CLOCK_STOP_COUNT = "1/0435666936.41204"
START_TIME = 2017-02-20T10:32:30.845Z
STOP_TIME = 2017-02-20T10:34:51.302Z
/* ORBITAL DATA ELEMENTS */
ASCENDING_NODE_LONGITUDE = 261.34
MAXIMUM_RESOLUTION = 26.4
FOOTPRINT_POINT_LATITUDE = (-13.7231,-13.7225,-13.7218,-13.7207, -13.7192,-13.7175,-13.3934,-13.1207, -12.9389,-12.7571,-12.5751,-12.3926, -12.21,-12.0273,-11.8448,-11.6624, -11.4829,-11.1268,-10.8594,-10.6813, -10.5012,-10.3193,-10.0423,-9.85509, -9.6711,-9.39783,-9.13049,-8.95222, -8.77407,-8.5959,-8.41746,-8.23861, -8.05853,-7.87814,-7.69683,-7.51553, -7.335,-7.15398,-6.97108,-6.78736, -6.60604,-6.42514,-6.24522,-6.0604, -5.78158,-5.59552,-5.4095,-5.22315, -5.03661,-4.84967,-4.66309,-4.62733, -4.62929,-4.6293,-4.62935,-4.81629, -5.09543,-5.28276,-5.56216,-5.74846, -5.93468,-6.12069,-6.39458,-6.57444, -6.7542,-6.93355,-7.11282,-7.29218, -7.47133,-7.65302,-7.92489,-8.10667, -8.28723,-8.46739,-8.64716,-8.82673, -9.09544,-9.45298,-9.63507,-9.81792, -9.99987,-10.2715,-10.4512,-10.6295, -10.8089,-10.9894,-11.1691,-11.3474, -11.6219,-11.8051,-11.9883,-12.1713, -12.4456,-12.6284,-12.8108,-12.9933, -13.1756,-13.3577,-13.5394,-13.7231)
FOOTPRINT_POINT_LONGITUDE = (241.428,241.105,240.912,240.719, 240.525,240.331,240.304,240.305,240.306 ,240.307,240.307,240.308,240.308, 240.308,240.308,240.309,240.311,240.317 ,240.321,240.324,240.326,240.327, 240.325,240.322,240.322,240.321,240.32, 240.319,240.318,240.318,240.317,240.316 ,240.314,240.312,240.309,240.306, 240.304,240.302,240.298,240.294,240.291 ,240.289,240.287,240.285,240.282,240.28 ,240.278,240.275,240.273,240.27,240.268 ,240.562,240.98,241.159,241.338,241.433 ,241.434,241.435,241.436,241.437, 241.438,241.439,241.441,241.442,241.443 ,241.444,241.445,241.446,241.448, 241.448,241.449,241.45,241.451,241.452, 241.453,241.454,241.456,241.459,241.461 ,241.463,241.465,241.469,241.472, 241.475,241.478,241.481,241.484,241.487 ,241.49,241.492,241.494,241.496,241.499 ,241.501,241.503,241.505,241.507, 241.509,241.511,241.428)
ORBIT_NUMBER = 16642
ORBITAL_ECCENTRICITY = 0.579
ORBITAL_INCLINATION = 86.92
ORBITAL_SEMIMAJOR_AXIS = 8870.32
PERIAPSIS_ALTITUDE = 338.36
PERIAPSIS_ARGUMENT_ANGLE = 350.45
PERIAPSIS_TIME = 2017-02-20T10:33:56.000Z
SPACECRAFT_ORIENTATION = (0.0,1.0,0.0)
^MEX_ORIENTATION_DESC = "MEX_ORIENTATION_DESC.TXT"
SPACECRAFT_POINTING_MODE = ACROSSTRACK
^MEX_POINTING_DESC = "MEX_POINTING_DESC.TXT"
RIGHT_ASCENSION = -1e+32
DECLINATION = -1e+32
OFFSET_ANGLE = 0.2
SPACECRAFT_SOLAR_DISTANCE = 2.18776e+08
TARGET_NAME = MARS
/* CAMERA DATA ELEMENTS */
DETECTOR_TEMPERATURE = 18.5744
FOCAL_PLANE_TEMPERATURE = 8.7872
INST_CMPRS_NAME = "DISCRETE COSINE TRANSFORMATION (DCT)"
INST_CMPRS_RATIO = 5.2268
INST_CMPRS_QUALITY = 0
INST_CMPRS_QUANTZ_TBL_ID = 0
INSTRUMENT_TEMPERATURE = 11.8457
LENS_TEMPERATURE = 9.195
MACROPIXEL_SIZE = 2
MISSING_FRAMES = 0
PIXEL_SUBSAMPLING_FLAG = N
SIGNAL_CHAIN_ID = 3
/* RADIOMETRIC DATA ELEMENTS */
BANDWIDTH = 177.0
CENTER_FILTER_WAVELENGTH = 676.5
RADIANCE_OFFSET = 2.30695
RADIANCE_SCALING_FACTOR = 0.0155562
REFLECTANCE_SCALING_FACTOR = 0.000394782
MEX:REFLECTANCE_OFFSET = 0.0585453
/* IMAGE OBJECT DEFINITIONS */
OBJECT = IMAGE
  INTERCHANGE_FORMAT = BINARY
  LINES = 21638
  LINE_SAMPLES = 3166
  SAMPLE_TYPE = UNSIGNED_INTEGER
  SAMPLE_BITS = 8
  BANDS = 1
  BAND_STORAGE_TYPE = BAND_SEQUENTIAL
  MAXIMUM = 255
  MEAN = 96.5918
  MINIMUM = 1
  STANDARD_DEVIATION = 23.226
END_OBJECT = IMAGE
/* MAP OBJECT DEFINITIONS */
OBJECT = IMAGE_MAP_PROJECTION
  ^DATA_SET_MAP_PROJECTION_CATALOG= "DSMAP.CAT"
  A_AXIS_RADIUS = 3396.0
  B_AXIS_RADIUS = 3396.0
  C_AXIS_RADIUS = 3396.0
  CENTER_LATITUDE = 0.0
  CENTER_LONGITUDE = 241.0
  COORDINATE_SYSTEM_NAME = PLANETOGRAPHIC
  COORDINATE_SYSTEM_TYPE = "BODY-FIXED ROTATING"
  EASTERNMOST_LONGITUDE = 241.511
  FIRST_STANDARD_PARALLEL = "N/A"
  LINE_FIRST_PIXEL = 1
  LINE_LAST_PIXEL = 21638
  LINE_PROJECTION_OFFSET = -10876.75
  MAP_PROJECTION_ROTATION = 0.0
  MAP_PROJECTION_TYPE = SINUSOIDAL
  MAP_RESOLUTION = 2370.85521546667
  MAP_SCALE = 0.025
  MAXIMUM_LATITUDE = -4.62733
  MINIMUM_LATITUDE = -13.7231
  POSITIVE_LONGITUDE_DIRECTION = EAST
  REFERENCE_LATITUDE = "N/A"
  REFERENCE_LONGITUDE = "N/A"
  SAMPLE_FIRST_PIXEL = 1
  SAMPLE_LAST_PIXEL = 3166
  SAMPLE_PROJECTION_OFFSET = 1909.75
  SECOND_STANDARD_PARALLEL = "N/A"
  WESTERNMOST_LONGITUDE = 240.268
END_OBJECT = IMAGE_MAP_PROJECTION
/* The JPEG2000 image data file associated with this label. */
OBJECT = COMPRESSED_FILE
  FILE_NAME = "HG642_0000_P23.JP2"
  RECORD_TYPE = UNDEFINED
  FILE_RECORDS = UNK
  ENCODING_TYPE = "JP2"
  INTERCHANGE_FORMAT = BINARY
  UNCOMPRESSED_FILE_NAME = "HG642_0000_P23.IMG"
  REQUIRED_STORAGE_BYTES = "68528070"
  ^DESCRIPTION = "JP2INFO.TXT"
END_OBJECT = COMPRESSED_FILE
END
