PDS_VERSION_ID = PDS3
/* FILE DATA ELEMENTS */
RECORD_TYPE = STREAM
/* POINTERS TO DATA OBJECTS */
^COMPRESSED_FILE = "HG643_0000_ND3.JP2"
/* IDENTIFICATION DATA ELEMENTS */
DATA_SET_ID = "MEX-M-HRSC-5-REFDR-MAPPROJECTED-V3.0"
DATA_SET_NAME = "MARS EXPRESS HRSC MAP PROJECTED REFDR V3.0"
DETECTOR_ID = MEX_HRSC_NADIR
EVENT_TYPE = "MARS-LOCAL-MAPPING-Fl-Lc-Eo"
INSTRUMENT_HOST_ID = MEX
INSTRUMENT_HOST_NAME = "MARS EXPRESS"
INSTRUMENT_ID = HRSC
INSTRUMENT_NAME = "HIGH RESOLUTION STEREO CAMERA"
MISSION_NAME = "MARS EXPRESS"
MISSION_PHASE_NAME = ME_Phase_36
PROCESSING_LEVEL_ID = 3
PRODUCT_CREATION_TIME = 2018-06-28T11:48:36.000Z
PRODUCT_ID = "HG643_0000_ND3.JP2"
RELEASE_ID = 0138
REVISION_ID = 0000
/* QUALITY DATA ELEMENTS */
DATA_QUALITY_ID = 1
DATA_QUALITY_DESC = "Data calculated based on original SPICE kernels"
/* TIME DATA ELEMENTS */
SPACECRAFT_CLOCK_START_COUNT = "1/0435691966.09030"
SPACECRAFT_CLOCK_STOP_COUNT = "1/0435692175.42932"
START_TIME = 2017-02-20T17:33:25.577Z
STOP_TIME = 2017-02-20T17:35:48.562Z
/* ORBITAL DATA ELEMENTS */
ASCENDING_NODE_LONGITUDE = 261.31
MAXIMUM_RESOLUTION = 13.6
FOOTPRINT_POINT_LATITUDE = (-10.9251,-10.9254,-10.9255,-10.9256, -10.9255,-10.7393,-10.5533,-10.3673, -10.1813,-9.99527,-9.80939,-9.62338, -9.43738,-9.15838,-8.97237,-8.69334, -8.50732,-8.2283,-8.04233,-7.85637, -7.57741,-7.39142,-7.20548,-7.01957, -6.83366,-6.64779,-6.36898,-6.0901, -5.9042,-5.71841,-5.53265,-5.34686, -5.16113,-4.97552,-4.78997,-4.60451, -4.41896,-4.23347,-4.04796,-3.86252, -3.6772,-3.49193,-3.21387,-3.02862, -2.65831,-2.38069,-2.01073,-1.64107, -1.63141,-1.62974,-1.62834,-1.62587, -1.62426,-1.80941,-2.17945,-2.36463, -2.54983,-2.73503,-2.92033,-3.1057, -3.29105,-3.47653,-3.66202,-3.84756, -4.03316,-4.21886,-4.40425,-4.58992, -4.7757,-4.96163,-5.14761,-5.33333, -5.51916,-5.70494,-5.89084,-6.0768, -6.26293,-6.54205,-6.72822,-6.91422, -7.10028,-7.37944,-7.56555,-7.84472, -8.03091,-8.21708,-8.40326,-8.68238, -8.86851,-9.05467,-9.24084,-9.427, -9.61317,-9.79933,-9.98553,-10.1717, -10.3581,-10.5442,-10.8233,-10.9251)
FOOTPRINT_POINT_LONGITUDE = (137.874,137.677,137.478,137.276,137.07 ,136.888,136.888,136.885,136.882, 136.882,136.886,136.885,136.885,136.884 ,136.884,136.881,136.88,136.877,136.877 ,136.876,136.874,136.871,136.869, 136.869,136.867,136.866,136.863,136.853 ,136.846,136.843,136.841,136.835, 136.831,136.831,136.833,136.838,136.836 ,136.835,136.832,136.829,136.831, 136.834,136.824,136.821,136.818,136.814 ,136.809,136.809,137.033,137.28,137.487 ,137.854,138.106,138.109,138.108, 138.109,138.11,138.109,138.11,138.11, 138.11,138.111,138.112,138.112,138.113, 138.115,138.112,138.112,138.113,138.117 ,138.12,138.119,138.119,138.118,138.119 ,138.12,138.123,138.126,138.129,138.129 ,138.13,138.132,138.133,138.134,138.136 ,138.137,138.139,138.138,138.139, 138.139,138.14,138.141,138.142,138.143, 138.145,138.146,138.15,138.151,138.152, 137.874)
ORBIT_NUMBER = 16643
ORBITAL_ECCENTRICITY = 0.578
ORBITAL_INCLINATION = 86.92
ORBITAL_SEMIMAJOR_AXIS = 8857.82
PERIAPSIS_ALTITUDE = 338.96
PERIAPSIS_ARGUMENT_ANGLE = 350.32
PERIAPSIS_TIME = 2017-02-20T17:33:46.000Z
SPACECRAFT_ORIENTATION = (0.0,1.0,0.0)
^MEX_ORIENTATION_DESC = "MEX_ORIENTATION_DESC.TXT"
SPACECRAFT_POINTING_MODE = ACROSSTRACK
^MEX_POINTING_DESC = "MEX_POINTING_DESC.TXT"
RIGHT_ASCENSION = -1e+32
DECLINATION = -1e+32
OFFSET_ANGLE = 1.2
SPACECRAFT_SOLAR_DISTANCE = 2.18829e+08
TARGET_NAME = MARS
/* CAMERA DATA ELEMENTS */
DETECTOR_TEMPERATURE = 18.3705
FOCAL_PLANE_TEMPERATURE = 8.1755
INST_CMPRS_NAME = "DISCRETE COSINE TRANSFORMATION (DCT)"
INST_CMPRS_RATIO = 6.67709
INST_CMPRS_QUALITY = 0
INST_CMPRS_QUANTZ_TBL_ID = 0
INSTRUMENT_TEMPERATURE = 11.0301
LENS_TEMPERATURE = 9.195
MACROPIXEL_SIZE = 1
MISSING_FRAMES = 0
PIXEL_SUBSAMPLING_FLAG = N
SIGNAL_CHAIN_ID = 0
/* RADIOMETRIC DATA ELEMENTS */
BANDWIDTH = 177.0
CENTER_FILTER_WAVELENGTH = 677.5
RADIANCE_OFFSET = 2.02495
RADIANCE_SCALING_FACTOR = 0.0152311
REFLECTANCE_SCALING_FACTOR = 0.000387459
MEX:REFLECTANCE_OFFSET = 0.0515121
/* IMAGE OBJECT DEFINITIONS */
OBJECT = IMAGE
  INTERCHANGE_FORMAT = BINARY
  LINES = 44104
  LINE_SAMPLES = 6832
  SAMPLE_TYPE = UNSIGNED_INTEGER
  SAMPLE_BITS = 8
  BANDS = 1
  BAND_STORAGE_TYPE = BAND_SEQUENTIAL
  MAXIMUM = 255
  MEAN = 92.6373
  MINIMUM = 1
  STANDARD_DEVIATION = 36.1158
END_OBJECT = IMAGE
/* MAP OBJECT DEFINITIONS */
OBJECT = IMAGE_MAP_PROJECTION
  ^DATA_SET_MAP_PROJECTION_CATALOG= "DSMAP.CAT"
  A_AXIS_RADIUS = 3396.0
  B_AXIS_RADIUS = 3396.0
  C_AXIS_RADIUS = 3396.0
  CENTER_LATITUDE = 0.0
  CENTER_LONGITUDE = 138.0
  COORDINATE_SYSTEM_NAME = PLANETOGRAPHIC
  COORDINATE_SYSTEM_TYPE = "BODY-FIXED ROTATING"
  EASTERNMOST_LONGITUDE = 138.152
  FIRST_STANDARD_PARALLEL = "N/A"
  LINE_FIRST_PIXEL = 1
  LINE_LAST_PIXEL = 44104
  LINE_PROJECTION_OFFSET = -7704.0
  MAP_PROJECTION_ROTATION = 0.0
  MAP_PROJECTION_TYPE = SINUSOIDAL
  MAP_RESOLUTION = 4741.71043093333
  MAP_SCALE = 0.0125
  MAXIMUM_LATITUDE = -1.62426
  MINIMUM_LATITUDE = -10.9256
  POSITIVE_LONGITUDE_DIRECTION = EAST
  REFERENCE_LATITUDE = "N/A"
  REFERENCE_LONGITUDE = "N/A"
  SAMPLE_FIRST_PIXEL = 1
  SAMPLE_LAST_PIXEL = 6832
  SAMPLE_PROJECTION_OFFSET = 6132.0
  SECOND_STANDARD_PARALLEL = "N/A"
  WESTERNMOST_LONGITUDE = 136.809
END_OBJECT = IMAGE_MAP_PROJECTION
/* The JPEG2000 image data file associated with this label. */
OBJECT = COMPRESSED_FILE
  FILE_NAME = "HG643_0000_ND3.JP2"
  RECORD_TYPE = UNDEFINED
  FILE_RECORDS = UNK
  ENCODING_TYPE = "JP2"
  INTERCHANGE_FORMAT = BINARY
  UNCOMPRESSED_FILE_NAME = "HG643_0000_ND3.IMG"
  REQUIRED_STORAGE_BYTES = "301352688"
  ^DESCRIPTION = "JP2INFO.TXT"
END_OBJECT = COMPRESSED_FILE
END
