PDS_VERSION_ID = PDS3
/* FILE DATA ELEMENTS */
RECORD_TYPE = STREAM
/* POINTERS TO DATA OBJECTS */
^COMPRESSED_FILE = "HG647_0000_RE3.JP2"
/* IDENTIFICATION DATA ELEMENTS */
DATA_SET_ID = "MEX-M-HRSC-5-REFDR-MAPPROJECTED-V3.0"
DATA_SET_NAME = "MARS EXPRESS HRSC MAP PROJECTED REFDR V3.0"
DETECTOR_ID = MEX_HRSC_RED
EVENT_TYPE = "MARS-REGIONAL-MAPPING-Vo-Im-Fl"
INSTRUMENT_HOST_ID = MEX
INSTRUMENT_HOST_NAME = "MARS EXPRESS"
INSTRUMENT_ID = HRSC
INSTRUMENT_NAME = "HIGH RESOLUTION STEREO CAMERA"
MISSION_NAME = "MARS EXPRESS"
MISSION_PHASE_NAME = ME_Phase_36
PROCESSING_LEVEL_ID = 3
PRODUCT_CREATION_TIME = 2018-06-28T11:48:36.000Z
PRODUCT_ID = "HG647_0000_RE3.JP2"
RELEASE_ID = 0138
REVISION_ID = 0000
/* QUALITY DATA ELEMENTS */
DATA_QUALITY_ID = 1
DATA_QUALITY_DESC = "Data calculated based on original SPICE kernels"
/* TIME DATA ELEMENTS */
SPACECRAFT_CLOCK_START_COUNT = "1/0435792862.09033"
SPACECRAFT_CLOCK_STOP_COUNT = "1/0435793039.64599"
START_TIME = 2017-02-21T21:34:35.385Z
STOP_TIME = 2017-02-21T21:36:19.583Z
/* ORBITAL DATA ELEMENTS */
ASCENDING_NODE_LONGITUDE = 261.24
MAXIMUM_RESOLUTION = 58.3
FOOTPRINT_POINT_LATITUDE = (-1.25386,-1.25681,-1.26032,-1.26306, -1.26554,-1.26782,-1.20945,-1.07748, -0.942786,-0.74314,-0.613823,-0.481988, -0.348031,-0.211448,-0.0786723, 0.0528069,0.252976,0.38674,0.519665, 0.65247,0.784732,0.915807,1.04592, 1.2411,1.50583,1.6473,1.7812,1.98038, 2.11226,2.36957,2.50177,2.63891,2.78002 ,2.91497,3.11366,3.24709,3.38163, 3.51208,3.71073,3.84511,3.97752,4.10997 ,4.2674,4.4253,4.58301,4.74076,4.97736, 5.1351,5.29276,5.45048,5.60607,5.60883, 5.61183,5.61531,5.61899,5.62268,5.62466 ,5.46703,5.30935,5.15165,4.99389,4.836, 4.67795,4.51983,4.36198,4.12591,3.99334 ,3.8607,3.72737,3.5274,3.39344,3.194, 3.06112,2.86165,2.66056,2.52932,2.39613 ,2.19693,1.99748,1.86422,1.73167, 1.59849,1.39886,1.26444,1.06284, 0.927772,0.72742,0.59617,0.397077, 0.264232,0.131615,-0.00153081,-0.134495 ,-0.268709,-0.466682,-0.598738, -0.733414,-0.994113,-1.12725,-1.25386)
FOOTPRINT_POINT_LONGITUDE = (90.1221,89.9506,89.7339,89.5516, 89.3697,89.188,88.9472,88.9454,88.9427, 88.9395,88.9385,88.9366,88.9342,88.9309 ,88.9287,88.9269,88.9233,88.9208, 88.9185,88.9163,88.9141,88.9124,88.9109 ,88.9086,88.9041,88.8991,88.8963, 88.8927,88.8905,88.8881,88.8857,88.8819 ,88.8768,88.8735,88.8698,88.867,88.8638 ,88.8618,88.858,88.8548,88.8521,88.8495 ,88.8463,88.8432,88.84,88.8369,88.8321, 88.8288,88.8255,88.8222,88.819,89.0314, 89.2572,89.4957,89.7474,89.9866,90.1676 ,90.1674,90.1671,90.1669,90.1667, 90.1665,90.1662,90.166,90.1659,90.1656, 90.1654,90.1653,90.1648,90.1642,90.1636 ,90.1633,90.1631,90.1629,90.162,90.1626 ,90.1624,90.1624,90.1623,90.1622, 90.1623,90.1623,90.1622,90.1617,90.1609 ,90.1601,90.1599,90.1607,90.1611, 90.1613,90.1616,90.1617,90.1619,90.1616 ,90.1625,90.1631,90.1626,90.1652, 90.1654,90.1221)
ORBIT_NUMBER = 16647
ORBITAL_ECCENTRICITY = 0.579
ORBITAL_INCLINATION = 86.93
ORBITAL_SEMIMAJOR_AXIS = 8861.65
PERIAPSIS_ALTITUDE = 337.64
PERIAPSIS_ARGUMENT_ANGLE = 349.59
PERIAPSIS_TIME = 2017-02-21T21:32:42.000Z
SPACECRAFT_ORIENTATION = (0.0,1.0,0.0)
^MEX_ORIENTATION_DESC = "MEX_ORIENTATION_DESC.TXT"
SPACECRAFT_POINTING_MODE = ACROSSTRACK
^MEX_POINTING_DESC = "MEX_POINTING_DESC.TXT"
RIGHT_ASCENSION = -1e+32
DECLINATION = -1e+32
OFFSET_ANGLE = -0.1
SPACECRAFT_SOLAR_DISTANCE = 2.19044e+08
TARGET_NAME = MARS
/* CAMERA DATA ELEMENTS */
DETECTOR_TEMPERATURE = 16.9432
FOCAL_PLANE_TEMPERATURE = 8.7872
INST_CMPRS_NAME = "DISCRETE COSINE TRANSFORMATION (DCT)"
INST_CMPRS_RATIO = 14.4825
INST_CMPRS_QUALITY = 0
INST_CMPRS_QUANTZ_TBL_ID = 0
INSTRUMENT_TEMPERATURE = 11.6418
LENS_TEMPERATURE = 8.5833
MACROPIXEL_SIZE = 4
MISSING_FRAMES = 0
PIXEL_SUBSAMPLING_FLAG = N
SIGNAL_CHAIN_ID = 2
/* RADIOMETRIC DATA ELEMENTS */
BANDWIDTH = 48.0
CENTER_FILTER_WAVELENGTH = 748.0
RADIANCE_OFFSET = 0.662765
RADIANCE_SCALING_FACTOR = 0.00247382
REFLECTANCE_SCALING_FACTOR = 0.000270868
MEX:REFLECTANCE_OFFSET = 0.0725686
/* IMAGE OBJECT DEFINITIONS */
OBJECT = IMAGE
  INTERCHANGE_FORMAT = BINARY
  LINES = 8146
  LINE_SAMPLES = 1713
  SAMPLE_TYPE = UNSIGNED_INTEGER
  SAMPLE_BITS = 8
  BANDS = 1
  BAND_STORAGE_TYPE = BAND_SEQUENTIAL
  MAXIMUM = 255
  MEAN = 98.9076
  MINIMUM = 1
  STANDARD_DEVIATION = 25.0057
END_OBJECT = IMAGE
/* MAP OBJECT DEFINITIONS */
OBJECT = IMAGE_MAP_PROJECTION
  ^DATA_SET_MAP_PROJECTION_CATALOG= "DSMAP.CAT"
  A_AXIS_RADIUS = 3396.0
  B_AXIS_RADIUS = 3396.0
  C_AXIS_RADIUS = 3396.0
  CENTER_LATITUDE = 0.0
  CENTER_LONGITUDE = 90.0
  COORDINATE_SYSTEM_NAME = PLANETOGRAPHIC
  COORDINATE_SYSTEM_TYPE = "BODY-FIXED ROTATING"
  EASTERNMOST_LONGITUDE = 90.16759999999999
  FIRST_STANDARD_PARALLEL = "N/A"
  LINE_FIRST_PIXEL = 1
  LINE_LAST_PIXEL = 8146
  LINE_PROJECTION_OFFSET = 6635.625
  MAP_PROJECTION_ROTATION = 0.0
  MAP_PROJECTION_TYPE = SINUSOIDAL
  MAP_RESOLUTION = 1185.42760773333
  MAP_SCALE = 0.05
  MAXIMUM_LATITUDE = 5.62466
  MINIMUM_LATITUDE = -1.26782
  POSITIVE_LONGITUDE_DIRECTION = EAST
  REFERENCE_LATITUDE = "N/A"
  REFERENCE_LONGITUDE = "N/A"
  SAMPLE_FIRST_PIXEL = 1
  SAMPLE_LAST_PIXEL = 1713
  SAMPLE_PROJECTION_OFFSET = 1446.375
  SECOND_STANDARD_PARALLEL = "N/A"
  WESTERNMOST_LONGITUDE = 88.819
END_OBJECT = IMAGE_MAP_PROJECTION
/* The JPEG2000 image data file associated with this label. */
OBJECT = COMPRESSED_FILE
  FILE_NAME = "HG647_0000_RE3.JP2"
  RECORD_TYPE = UNDEFINED
  FILE_RECORDS = UNK
  ENCODING_TYPE = "JP2"
  INTERCHANGE_FORMAT = BINARY
  UNCOMPRESSED_FILE_NAME = "HG647_0000_RE3.IMG"
  REQUIRED_STORAGE_BYTES = "13974654"
  ^DESCRIPTION = "JP2INFO.TXT"
END_OBJECT = COMPRESSED_FILE
END
