PDS_VERSION_ID = PDS3
/* FILE DATA ELEMENTS */
RECORD_TYPE = STREAM
/* POINTERS TO DATA OBJECTS */
^COMPRESSED_FILE = "HG647_0000_S13.JP2"
/* IDENTIFICATION DATA ELEMENTS */
DATA_SET_ID = "MEX-M-HRSC-5-REFDR-MAPPROJECTED-V3.0"
DATA_SET_NAME = "MARS EXPRESS HRSC MAP PROJECTED REFDR V3.0"
DETECTOR_ID = MEX_HRSC_S1
EVENT_TYPE = "MARS-REGIONAL-MAPPING-Vo-Im-Fl"
INSTRUMENT_HOST_ID = MEX
INSTRUMENT_HOST_NAME = "MARS EXPRESS"
INSTRUMENT_ID = HRSC
INSTRUMENT_NAME = "HIGH RESOLUTION STEREO CAMERA"
MISSION_NAME = "MARS EXPRESS"
MISSION_PHASE_NAME = ME_Phase_36
PROCESSING_LEVEL_ID = 3
PRODUCT_CREATION_TIME = 2018-06-28T11:48:36.000Z
PRODUCT_ID = "HG647_0000_S13.JP2"
RELEASE_ID = 0138
REVISION_ID = 0000
/* QUALITY DATA ELEMENTS */
DATA_QUALITY_ID = 1
DATA_QUALITY_DESC = "Data calculated based on original SPICE kernels"
/* TIME DATA ELEMENTS */
SPACECRAFT_CLOCK_START_COUNT = "1/0435792862.09033"
SPACECRAFT_CLOCK_STOP_COUNT = "1/0435793039.64599"
START_TIME = 2017-02-21T21:35:33.959Z
STOP_TIME = 2017-02-21T21:37:25.838Z
/* ORBITAL DATA ELEMENTS */
ASCENDING_NODE_LONGITUDE = 261.24
MAXIMUM_RESOLUTION = 30.8
FOOTPRINT_POINT_LATITUDE = (-1.27374,-1.2738,-1.27403,-1.2745, -1.27516,-1.27625,-1.26896,-1.14757, -0.971573,-0.790055,-0.66748,-0.541525, -0.420664,-0.242281,-0.00214058, 0.254687,0.396727,0.539447,0.683244, 0.827762,1.04751,1.19411,1.41349, 1.61702,1.75367,1.96699,2.11011,2.25836 ,2.40423,2.54576,2.67518,2.81207, 2.95271,3.09348,3.23233,3.37405,3.51573 ,3.72564,3.86645,4.00691,4.14733, 4.28782,4.42814,4.56855,4.70875,4.84874 ,4.98863,5.12834,5.26793,5.4073,5.56366 ,5.56464,5.56542,5.56633,5.5671,5.56759 ,5.56801,5.56795,5.42798,5.2885,5.14889 ,5.00921,4.79941,4.65948,4.51961, 4.37939,4.23911,4.02856,3.88813,3.67817 ,3.53801,3.32799,3.11799,2.97649, 2.83531,2.62382,2.48317,2.34078,2.12774 ,1.98574,1.84453,1.70199,1.4888,1.27617 ,1.06516,0.925176,0.782697,0.638507, 0.494219,0.351021,0.20709,0.0793817, -0.222301,-0.46031,-0.58419,-0.828498, -0.950799,-1.07195,-1.19306,-1.27374)
FOOTPRINT_POINT_LONGITUDE = (90.0463,89.9104,89.7128,89.5155, 89.3186,89.0849,88.923,88.9209,88.9161, 88.9127,88.9108,88.9098,88.9075,88.9033 ,88.8984,88.8931,88.8898,88.8867, 88.8839,88.8813,88.8782,88.8761,88.8729 ,88.8657,88.8612,88.8565,88.8536, 88.8521,88.8499,88.8466,88.8404,88.836, 88.8326,88.8292,88.8253,88.8222,88.819, 88.8137,88.8104,88.807,88.8036,88.8003, 88.7969,88.7935,88.7901,88.7867,88.7832 ,88.7798,88.7763,88.7728,88.8804, 89.0346,89.1608,89.357,89.5676,89.6941, 89.9473,90.1586,90.2192,90.2184,90.2176 ,90.2168,90.2157,90.2149,90.2141, 90.2133,90.2126,90.2115,90.2107,90.2093 ,90.2084,90.2069,90.2053,90.2048, 90.2041,90.203,90.202,90.2017,90.201, 90.2004,90.1996,90.1992,90.1984,90.1972 ,90.1955,90.194,90.1935,90.1935,90.1935 ,90.1932,90.193,90.1927,90.1923,90.1908 ,90.1918,90.1924,90.1928,90.1927, 90.1926,90.0463)
ORBIT_NUMBER = 16647
ORBITAL_ECCENTRICITY = 0.579
ORBITAL_INCLINATION = 86.93
ORBITAL_SEMIMAJOR_AXIS = 8861.65
PERIAPSIS_ALTITUDE = 337.64
PERIAPSIS_ARGUMENT_ANGLE = 349.59
PERIAPSIS_TIME = 2017-02-21T21:32:42.000Z
SPACECRAFT_ORIENTATION = (0.0,1.0,0.0)
^MEX_ORIENTATION_DESC = "MEX_ORIENTATION_DESC.TXT"
SPACECRAFT_POINTING_MODE = ACROSSTRACK
^MEX_POINTING_DESC = "MEX_POINTING_DESC.TXT"
RIGHT_ASCENSION = -1e+32
DECLINATION = -1e+32
OFFSET_ANGLE = -0.1
SPACECRAFT_SOLAR_DISTANCE = 2.19044e+08
TARGET_NAME = MARS
/* CAMERA DATA ELEMENTS */
DETECTOR_TEMPERATURE = 17.7588
FOCAL_PLANE_TEMPERATURE = 8.7872
INST_CMPRS_NAME = "DISCRETE COSINE TRANSFORMATION (DCT)"
INST_CMPRS_RATIO = 9.59694
INST_CMPRS_QUALITY = 0
INST_CMPRS_QUANTZ_TBL_ID = 0
INSTRUMENT_TEMPERATURE = 11.6418
LENS_TEMPERATURE = 8.5833
MACROPIXEL_SIZE = 2
MISSING_FRAMES = 0
PIXEL_SUBSAMPLING_FLAG = N
SIGNAL_CHAIN_ID = 1
/* RADIOMETRIC DATA ELEMENTS */
BANDWIDTH = 180.0
CENTER_FILTER_WAVELENGTH = 677.0
RADIANCE_OFFSET = 2.69432
RADIANCE_SCALING_FACTOR = 0.00925883
REFLECTANCE_SCALING_FACTOR = 0.000231772
MEX:REFLECTANCE_OFFSET = 0.0674457
/* IMAGE OBJECT DEFINITIONS */
OBJECT = IMAGE
  INTERCHANGE_FORMAT = BINARY
  LINES = 16291
  LINE_SAMPLES = 3425
  SAMPLE_TYPE = UNSIGNED_INTEGER
  SAMPLE_BITS = 8
  BANDS = 1
  BAND_STORAGE_TYPE = BAND_SEQUENTIAL
  MAXIMUM = 255
  MEAN = 100.466
  MINIMUM = 1
  STANDARD_DEVIATION = 24.0754
END_OBJECT = IMAGE
/* MAP OBJECT DEFINITIONS */
OBJECT = IMAGE_MAP_PROJECTION
  ^DATA_SET_MAP_PROJECTION_CATALOG= "DSMAP.CAT"
  A_AXIS_RADIUS = 3396.0
  B_AXIS_RADIUS = 3396.0
  C_AXIS_RADIUS = 3396.0
  CENTER_LATITUDE = 0.0
  CENTER_LONGITUDE = 90.0
  COORDINATE_SYSTEM_NAME = PLANETOGRAPHIC
  COORDINATE_SYSTEM_TYPE = "BODY-FIXED ROTATING"
  EASTERNMOST_LONGITUDE = 90.2192
  FIRST_STANDARD_PARALLEL = "N/A"
  LINE_FIRST_PIXEL = 1
  LINE_LAST_PIXEL = 16291
  LINE_PROJECTION_OFFSET = 13271.75
  MAP_PROJECTION_ROTATION = 0.0
  MAP_PROJECTION_TYPE = SINUSOIDAL
  MAP_RESOLUTION = 2370.85521546667
  MAP_SCALE = 0.025
  MAXIMUM_LATITUDE = 5.56801
  MINIMUM_LATITUDE = -1.27625
  POSITIVE_LONGITUDE_DIRECTION = EAST
  REFERENCE_LATITUDE = "N/A"
  REFERENCE_LONGITUDE = "N/A"
  SAMPLE_FIRST_PIXEL = 1
  SAMPLE_LAST_PIXEL = 3425
  SAMPLE_PROJECTION_OFFSET = 2893.25
  SECOND_STANDARD_PARALLEL = "N/A"
  WESTERNMOST_LONGITUDE = 88.7728
END_OBJECT = IMAGE_MAP_PROJECTION
/* The JPEG2000 image data file associated with this label. */
OBJECT = COMPRESSED_FILE
  FILE_NAME = "HG647_0000_S13.JP2"
  RECORD_TYPE = UNDEFINED
  FILE_RECORDS = UNK
  ENCODING_TYPE = "JP2"
  INTERCHANGE_FORMAT = BINARY
  UNCOMPRESSED_FILE_NAME = "HG647_0000_S13.IMG"
  REQUIRED_STORAGE_BYTES = "55820650"
  ^DESCRIPTION = "JP2INFO.TXT"
END_OBJECT = COMPRESSED_FILE
END
