PDS_VERSION_ID = PDS3
/* FILE DATA ELEMENTS */
RECORD_TYPE = STREAM
/* POINTERS TO DATA OBJECTS */
^COMPRESSED_FILE = "HG649_0000_P13.JP2"
/* IDENTIFICATION DATA ELEMENTS */
DATA_SET_ID = "MEX-M-HRSC-5-REFDR-MAPPROJECTED-V3.0"
DATA_SET_NAME = "MARS EXPRESS HRSC MAP PROJECTED REFDR V3.0"
DETECTOR_ID = MEX_HRSC_P1
EVENT_TYPE = "MARS-REGIONAL-STEREO-Vo-Te"
INSTRUMENT_HOST_ID = MEX
INSTRUMENT_HOST_NAME = "MARS EXPRESS"
INSTRUMENT_ID = HRSC
INSTRUMENT_NAME = "HIGH RESOLUTION STEREO CAMERA"
MISSION_NAME = "MARS EXPRESS"
MISSION_PHASE_NAME = ME_Phase_36
PROCESSING_LEVEL_ID = 3
PRODUCT_CREATION_TIME = 2018-06-28T11:48:36.000Z
PRODUCT_ID = "HG649_0000_P13.JP2"
RELEASE_ID = 0138
REVISION_ID = 0000
/* QUALITY DATA ELEMENTS */
DATA_QUALITY_ID = 1
DATA_QUALITY_DESC = "Data calculated based on original SPICE kernels"
/* TIME DATA ELEMENTS */
SPACECRAFT_CLOCK_START_COUNT = "1/0435842958.09034"
SPACECRAFT_CLOCK_STOP_COUNT = "1/0435843127.09536"
START_TIME = 2017-02-22T11:30:19.591Z
STOP_TIME = 2017-02-22T11:32:02.725Z
/* ORBITAL DATA ELEMENTS */
ASCENDING_NODE_LONGITUDE = 261.21
MAXIMUM_RESOLUTION = 27.1
FOOTPRINT_POINT_LATITUDE = (-19.2066,-19.2075,-19.2084,-19.2092, -19.2095,-19.1905,-19.0539,-18.9175, -18.781,-18.6448,-18.5085,-18.372, -18.1675,-18.0312,-17.8268,-17.6905, -17.5544,-17.4181,-17.2137,-17.0092, -16.8049,-16.6686,-16.5325,-16.3961, -16.2598,-16.1237,-15.9874,-15.7831, -15.647,-15.4428,-15.3064,-15.1701, -15.0341,-14.8299,-14.6259,-14.4898, -14.3539,-14.2178,-14.0152,-13.8836, -13.6864,-13.5549,-13.3577,-13.2262, -13.0948,-12.9634,-12.8321,-12.5695, -12.438,-12.4297,-12.429,-12.4281, -12.4274,-12.4262,-12.4251,-12.4905, -12.6218,-12.7532,-12.8846,-13.016, -13.2132,-13.3447,-13.4761,-13.6077, -13.805,-13.9367,-14.0689,-14.205, -14.409,-14.5451,-14.6813,-14.8174, -14.9536,-15.1578,-15.3621,-15.4982, -15.6345,-15.8388,-15.9751,-16.1115, -16.2476,-16.384,-16.5202,-16.6566, -16.793,-16.9293,-17.1342,-17.3386, -17.4751,-17.6797,-17.816,-18.0205, -18.1569,-18.2932,-18.4296,-18.634, -18.7705,-18.9069,-19.0432,-19.2066)
FOOTPRINT_POINT_LONGITUDE = (245.559,245.31,245.023,244.686,244.512 ,244.318,244.319,244.32,244.321,244.322 ,244.323,244.324,244.325,244.326, 244.327,244.328,244.328,244.329,244.33, 244.331,244.332,244.332,244.333,244.333 ,244.334,244.334,244.335,244.335, 244.335,244.336,244.336,244.336,244.337 ,244.337,244.337,244.337,244.337, 244.337,244.337,244.337,244.337,244.337 ,244.337,244.336,244.336,244.336, 244.336,244.335,244.335,244.506,244.643 ,244.848,244.985,245.19,245.396,245.515 ,245.516,245.517,245.518,245.519, 245.521,245.522,245.524,245.525,245.527 ,245.528,245.529,245.531,245.533, 245.534,245.535,245.537,245.538,245.54, 245.543,245.544,245.545,245.548,245.549 ,245.551,245.552,245.554,245.555, 245.557,245.558,245.56,245.562,245.565, 245.566,245.569,245.57,245.573,245.574, 245.576,245.578,245.58,245.582,245.583, 245.585,245.559)
ORBIT_NUMBER = 16649
ORBITAL_ECCENTRICITY = 0.579
ORBITAL_INCLINATION = 86.92
ORBITAL_SEMIMAJOR_AXIS = 8869.91
PERIAPSIS_ALTITUDE = 337.74
PERIAPSIS_ARGUMENT_ANGLE = 349.25
PERIAPSIS_TIME = 2017-02-22T11:32:10.000Z
SPACECRAFT_ORIENTATION = (0.0,1.0,0.0)
^MEX_ORIENTATION_DESC = "MEX_ORIENTATION_DESC.TXT"
SPACECRAFT_POINTING_MODE = ACROSSTRACK
^MEX_POINTING_DESC = "MEX_POINTING_DESC.TXT"
RIGHT_ASCENSION = -1e+32
DECLINATION = -1e+32
OFFSET_ANGLE = 0.0
SPACECRAFT_SOLAR_DISTANCE = 2.19151e+08
TARGET_NAME = MARS
/* CAMERA DATA ELEMENTS */
DETECTOR_TEMPERATURE = 17.7588
FOCAL_PLANE_TEMPERATURE = 8.7872
INST_CMPRS_NAME = "DISCRETE COSINE TRANSFORMATION (DCT)"
INST_CMPRS_RATIO = 6.03345
INST_CMPRS_QUALITY = 0
INST_CMPRS_QUANTZ_TBL_ID = 0
INSTRUMENT_TEMPERATURE = 11.4379
LENS_TEMPERATURE = 8.7872
MACROPIXEL_SIZE = 2
MISSING_FRAMES = 0
PIXEL_SUBSAMPLING_FLAG = N
SIGNAL_CHAIN_ID = 3
/* RADIOMETRIC DATA ELEMENTS */
BANDWIDTH = 174.0
CENTER_FILTER_WAVELENGTH = 675.0
RADIANCE_OFFSET = 2.66694
RADIANCE_SCALING_FACTOR = 0.0184431
REFLECTANCE_SCALING_FACTOR = 0.000476437
MEX:REFLECTANCE_OFFSET = 0.0688946
/* IMAGE OBJECT DEFINITIONS */
OBJECT = IMAGE
  INTERCHANGE_FORMAT = BINARY
  LINES = 16036
  LINE_SAMPLES = 3112
  SAMPLE_TYPE = UNSIGNED_INTEGER
  SAMPLE_BITS = 8
  BANDS = 1
  BAND_STORAGE_TYPE = BAND_SEQUENTIAL
  MAXIMUM = 255
  MEAN = 104.814
  MINIMUM = 1
  STANDARD_DEVIATION = 13.0144
END_OBJECT = IMAGE
/* MAP OBJECT DEFINITIONS */
OBJECT = IMAGE_MAP_PROJECTION
  ^DATA_SET_MAP_PROJECTION_CATALOG= "DSMAP.CAT"
  A_AXIS_RADIUS = 3396.0
  B_AXIS_RADIUS = 3396.0
  C_AXIS_RADIUS = 3396.0
  CENTER_LATITUDE = 0.0
  CENTER_LONGITUDE = 245.0
  COORDINATE_SYSTEM_NAME = PLANETOGRAPHIC
  COORDINATE_SYSTEM_TYPE = "BODY-FIXED ROTATING"
  EASTERNMOST_LONGITUDE = 245.585
  FIRST_STANDARD_PARALLEL = "N/A"
  LINE_FIRST_PIXEL = 1
  LINE_LAST_PIXEL = 16036
  LINE_PROJECTION_OFFSET = -29539.75
  MAP_PROJECTION_ROTATION = 0.0
  MAP_PROJECTION_TYPE = SINUSOIDAL
  MAP_RESOLUTION = 2370.85521546667
  MAP_SCALE = 0.025
  MAXIMUM_LATITUDE = -12.4251
  MINIMUM_LATITUDE = -19.2095
  POSITIVE_LONGITUDE_DIRECTION = EAST
  REFERENCE_LATITUDE = "N/A"
  REFERENCE_LONGITUDE = "N/A"
  SAMPLE_FIRST_PIXEL = 1
  SAMPLE_LAST_PIXEL = 3112
  SAMPLE_PROJECTION_OFFSET = 1670.75
  SECOND_STANDARD_PARALLEL = "N/A"
  WESTERNMOST_LONGITUDE = 244.318
END_OBJECT = IMAGE_MAP_PROJECTION
/* The JPEG2000 image data file associated with this label. */
OBJECT = COMPRESSED_FILE
  FILE_NAME = "HG649_0000_P13.JP2"
  RECORD_TYPE = UNDEFINED
  FILE_RECORDS = UNK
  ENCODING_TYPE = "JP2"
  INTERCHANGE_FORMAT = BINARY
  UNCOMPRESSED_FILE_NAME = "HG649_0000_P13.IMG"
  REQUIRED_STORAGE_BYTES = "49928928"
  ^DESCRIPTION = "JP2INFO.TXT"
END_OBJECT = COMPRESSED_FILE
END
