PDS_VERSION_ID = PDS3
/* FILE DATA ELEMENTS */
RECORD_TYPE = STREAM
/* POINTERS TO DATA OBJECTS */
^COMPRESSED_FILE = "HG655_0000_BL3.JP2"
/* IDENTIFICATION DATA ELEMENTS */
DATA_SET_ID = "MEX-M-HRSC-5-REFDR-MAPPROJECTED-V3.0"
DATA_SET_NAME = "MARS EXPRESS HRSC MAP PROJECTED REFDR V3.0"
DETECTOR_ID = MEX_HRSC_BLUE
EVENT_TYPE = "MARS-REGIONAL-MAPPING-Im-Eo-La"
INSTRUMENT_HOST_ID = MEX
INSTRUMENT_HOST_NAME = "MARS EXPRESS"
INSTRUMENT_ID = HRSC
INSTRUMENT_NAME = "HIGH RESOLUTION STEREO CAMERA"
MISSION_NAME = "MARS EXPRESS"
MISSION_PHASE_NAME = ME_Phase_36
PROCESSING_LEVEL_ID = 3
PRODUCT_CREATION_TIME = 2018-06-28T11:48:36.000Z
PRODUCT_ID = "HG655_0000_BL3.JP2"
RELEASE_ID = 0138
REVISION_ID = 0000
/* QUALITY DATA ELEMENTS */
DATA_QUALITY_ID = 1
DATA_QUALITY_DESC = "Data calculated based on original SPICE kernels"
/* TIME DATA ELEMENTS */
SPACECRAFT_CLOCK_START_COUNT = "1/0435994313.07283"
SPACECRAFT_CLOCK_STOP_COUNT = "1/0435994534.57309"
START_TIME = 2017-02-24T05:32:26.835Z
STOP_TIME = 2017-02-24T05:34:55.940Z
/* ORBITAL DATA ELEMENTS */
ASCENDING_NODE_LONGITUDE = 261.1
MAXIMUM_RESOLUTION = 56
FOOTPRINT_POINT_LATITUDE = (-4.33592,-4.33602,-4.33604,-4.33598, -4.33585,-4.33567,-4.15314,-3.97422, -3.7954,-3.61662,-3.43779,-3.25901, -3.08031,-2.90168,-2.72325,-2.54468, -2.27688,-2.09851,-1.92011,-1.74176, -1.56348,-1.38523,-1.11795,-0.939969, -0.761955,-0.494974,-0.317107, -0.0503647,0.127331,0.304929,0.482372, 0.659869,1.01468,1.21974,1.43104,1.6425 ,1.85366,2.06465,2.27565,2.48631, 2.69713,2.90831,3.11872,3.32937,3.53976 ,3.85507,4.17085,4.38127,4.59089, 4.79994,5.00942,5.28241,5.28405,5.28605 ,5.28554,5.2852,5.0759,4.86619,4.6567, 4.44693,4.23679,3.92168,3.6058,3.39558, 3.08102,2.87021,2.65941,2.44839,2.23768 ,2.02501,1.70797,1.39052,1.17961, 0.98178,0.715614,0.537168,0.359733, 0.182061,0.00426786,-0.1736,-0.351477, -0.618514,-0.79657,-1.06388,-1.24216, -1.50958,-1.68788,-1.86628,-2.04472, -2.2234,-2.49152,-2.75931,-2.93813, -3.11689,-3.3849,-3.56366,-3.74258, -3.9215,-4.18989,-4.33592)
FOOTPRINT_POINT_LONGITUDE = (350.736,350.555,350.372,350.189, 350.004,349.817,349.768,349.766,349.764 ,349.762,349.759,349.756,349.754, 349.751,349.749,349.747,349.743,349.74, 349.737,349.735,349.732,349.729,349.724 ,349.722,349.719,349.714,349.711, 349.706,349.703,349.7,349.697,349.694, 349.688,349.684,349.68,349.676,349.672, 349.669,349.665,349.661,349.657,349.651 ,349.647,349.642,349.637,349.63,349.621 ,349.614,349.61,349.606,349.601,349.644 ,350.004,350.463,350.801,350.998, 350.997,350.997,350.997,350.996,350.996 ,350.995,350.995,350.995,350.994, 350.994,350.994,350.994,350.994,350.994 ,350.994,350.994,350.994,350.994, 350.994,350.994,350.995,350.995,350.995 ,350.995,350.995,350.996,350.996, 350.996,350.997,350.997,350.998,350.998 ,350.998,350.999,350.999,351.0,351.001, 351.001,351.002,351.002,351.003,351.003 ,351.004,350.736)
ORBIT_NUMBER = 16655
ORBITAL_ECCENTRICITY = 0.578
ORBITAL_INCLINATION = 86.92
ORBITAL_SEMIMAJOR_AXIS = 8853.68
PERIAPSIS_ALTITUDE = 337.94
PERIAPSIS_ARGUMENT_ANGLE = 348.23
PERIAPSIS_TIME = 2017-02-24T05:30:39.000Z
SPACECRAFT_ORIENTATION = (0.0,1.0,0.0)
^MEX_ORIENTATION_DESC = "MEX_ORIENTATION_DESC.TXT"
SPACECRAFT_POINTING_MODE = ACROSSTRACK
^MEX_POINTING_DESC = "MEX_POINTING_DESC.TXT"
RIGHT_ASCENSION = -1e+32
DECLINATION = -1e+32
OFFSET_ANGLE = 0.6
SPACECRAFT_SOLAR_DISTANCE = 2.19475e+08
TARGET_NAME = MARS
/* CAMERA DATA ELEMENTS */
DETECTOR_TEMPERATURE = 18.1666
FOCAL_PLANE_TEMPERATURE = 8.3794
INST_CMPRS_NAME = "DISCRETE COSINE TRANSFORMATION (DCT)"
INST_CMPRS_RATIO = 4.05891
INST_CMPRS_QUALITY = 0
INST_CMPRS_QUANTZ_TBL_ID = 0
INSTRUMENT_TEMPERATURE = 11.0301
LENS_TEMPERATURE = 9.8067
MACROPIXEL_SIZE = 4
MISSING_FRAMES = 0
PIXEL_SUBSAMPLING_FLAG = N
SIGNAL_CHAIN_ID = 2
/* RADIOMETRIC DATA ELEMENTS */
BANDWIDTH = 76.0
CENTER_FILTER_WAVELENGTH = 444.0
RADIANCE_OFFSET = 0.475217
RADIANCE_SCALING_FACTOR = 0.00104731
REFLECTANCE_SCALING_FACTOR = 5.18325e-05
MEX:REFLECTANCE_OFFSET = 0.023519
/* IMAGE OBJECT DEFINITIONS */
OBJECT = IMAGE
  INTERCHANGE_FORMAT = BINARY
  LINES = 11413
  LINE_SAMPLES = 1758
  SAMPLE_TYPE = UNSIGNED_INTEGER
  SAMPLE_BITS = 8
  BANDS = 1
  BAND_STORAGE_TYPE = BAND_SEQUENTIAL
  MAXIMUM = 253
  MEAN = 121.914
  MINIMUM = 1
  STANDARD_DEVIATION = 36.0801
END_OBJECT = IMAGE
/* MAP OBJECT DEFINITIONS */
OBJECT = IMAGE_MAP_PROJECTION
  ^DATA_SET_MAP_PROJECTION_CATALOG= "DSMAP.CAT"
  A_AXIS_RADIUS = 3396.0
  B_AXIS_RADIUS = 3396.0
  C_AXIS_RADIUS = 3396.0
  CENTER_LATITUDE = 0.0
  CENTER_LONGITUDE = 350.0
  COORDINATE_SYSTEM_NAME = PLANETOGRAPHIC
  COORDINATE_SYSTEM_TYPE = "BODY-FIXED ROTATING"
  EASTERNMOST_LONGITUDE = 351.004
  FIRST_STANDARD_PARALLEL = "N/A"
  LINE_FIRST_PIXEL = 1
  LINE_LAST_PIXEL = 11413
  LINE_PROJECTION_OFFSET = 6261.625
  MAP_PROJECTION_ROTATION = 0.0
  MAP_PROJECTION_TYPE = SINUSOIDAL
  MAP_RESOLUTION = 1185.42760773333
  MAP_SCALE = 0.05
  MAXIMUM_LATITUDE = 5.28605
  MINIMUM_LATITUDE = -4.33604
  POSITIVE_LONGITUDE_DIRECTION = EAST
  REFERENCE_LATITUDE = "N/A"
  REFERENCE_LONGITUDE = "N/A"
  SAMPLE_FIRST_PIXEL = 1
  SAMPLE_LAST_PIXEL = 1758
  SAMPLE_PROJECTION_OFFSET = 567.375
  SECOND_STANDARD_PARALLEL = "N/A"
  WESTERNMOST_LONGITUDE = 349.601
END_OBJECT = IMAGE_MAP_PROJECTION
/* The JPEG2000 image data file associated with this label. */
OBJECT = COMPRESSED_FILE
  FILE_NAME = "HG655_0000_BL3.JP2"
  RECORD_TYPE = UNDEFINED
  FILE_RECORDS = UNK
  ENCODING_TYPE = "JP2"
  INTERCHANGE_FORMAT = BINARY
  UNCOMPRESSED_FILE_NAME = "HG655_0000_BL3.IMG"
  REQUIRED_STORAGE_BYTES = "20085150"
  ^DESCRIPTION = "JP2INFO.TXT"
END_OBJECT = COMPRESSED_FILE
END
