PDS_VERSION_ID = PDS3
/* FILE DATA ELEMENTS */
RECORD_TYPE = STREAM
/* POINTERS TO DATA OBJECTS */
^COMPRESSED_FILE = "HG655_0000_IR3.JP2"
/* IDENTIFICATION DATA ELEMENTS */
DATA_SET_ID = "MEX-M-HRSC-5-REFDR-MAPPROJECTED-V3.0"
DATA_SET_NAME = "MARS EXPRESS HRSC MAP PROJECTED REFDR V3.0"
DETECTOR_ID = MEX_HRSC_IR
EVENT_TYPE = "MARS-REGIONAL-MAPPING-Im-Eo-La"
INSTRUMENT_HOST_ID = MEX
INSTRUMENT_HOST_NAME = "MARS EXPRESS"
INSTRUMENT_ID = HRSC
INSTRUMENT_NAME = "HIGH RESOLUTION STEREO CAMERA"
MISSION_NAME = "MARS EXPRESS"
MISSION_PHASE_NAME = ME_Phase_36
PROCESSING_LEVEL_ID = 3
PRODUCT_CREATION_TIME = 2018-06-28T11:48:36.000Z
PRODUCT_ID = "HG655_0000_IR3.JP2"
RELEASE_ID = 0138
REVISION_ID = 0000
/* QUALITY DATA ELEMENTS */
DATA_QUALITY_ID = 1
DATA_QUALITY_DESC = "Data calculated based on original SPICE kernels"
/* TIME DATA ELEMENTS */
SPACECRAFT_CLOCK_START_COUNT = "1/0435994313.07283"
SPACECRAFT_CLOCK_STOP_COUNT = "1/0435994534.57309"
START_TIME = 2017-02-24T05:32:58.686Z
STOP_TIME = 2017-02-24T05:35:33.983Z
/* ORBITAL DATA ELEMENTS */
ASCENDING_NODE_LONGITUDE = 261.1
MAXIMUM_RESOLUTION = 59.6
FOOTPRINT_POINT_LATITUDE = (-4.31493,-4.3218,-4.3288,-4.33596, -4.34332,-4.35085,-4.3586,-4.19848, -4.02452,-3.85034,-3.67629,-3.50259, -3.32907,-3.06895,-2.80858,-2.63503, -2.46217,-2.20288,-2.03001,-1.85758, -1.68528,-1.42703,-1.07001,-0.864879, -0.660781,-0.455781,-0.251812, -0.0475726,0.156447,0.360566,0.564541, 0.767815,0.970791,1.17375,1.47854, 1.78216,1.98474,2.18624,2.38932,2.59035 ,2.8906,3.09163,3.29126,3.59104,3.88985 ,4.08717,4.28358,4.48195,4.68239, 4.88242,5.23749,5.25131,5.26282,5.27147 ,5.2859,5.2942,5.09272,4.88995,4.69257, 4.4931,4.29426,4.09596,3.79779,3.59813, 3.39655,3.09388,2.88918,2.68782,2.38618 ,2.18444,1.98695,1.78579,1.58458, 1.38239,1.17822,0.97176,0.768516, 0.567808,0.363319,0.0571447,-0.146975, -0.454108,-0.658871,-0.863835,-1.15942, -1.50401,-1.76297,-1.93559,-2.10792, -2.36634,-2.53908,-2.71274,-2.97307, -3.14675,-3.4081,-3.58237,-3.75636, -3.93101,-4.1052,-4.31493)
FOOTPRINT_POINT_LONGITUDE = (350.97,350.787,350.602,350.415,350.228 ,350.038,349.848,349.75,349.747,349.745 ,349.742,349.74,349.737,349.733,349.729 ,349.726,349.723,349.719,349.716, 349.713,349.71,349.705,349.699,349.695, 349.691,349.687,349.683,349.679,349.675 ,349.671,349.668,349.663,349.659, 349.655,349.649,349.643,349.639,349.634 ,349.63,349.626,349.618,349.613,349.608 ,349.601,349.593,349.586,349.579, 349.574,349.57,349.566,349.622,349.971, 350.289,350.495,350.701,350.93,351.028, 351.027,351.026,351.025,351.024,351.024 ,351.022,351.022,351.021,351.02,351.02, 351.019,351.018,351.018,351.017,351.017 ,351.016,351.016,351.016,351.015, 351.015,351.015,351.015,351.014,351.014 ,351.014,351.014,351.014,351.014, 351.014,351.014,351.014,351.014,351.014 ,351.014,351.014,351.014,351.015, 351.015,351.015,351.015,351.016,351.016 ,350.97)
ORBIT_NUMBER = 16655
ORBITAL_ECCENTRICITY = 0.578
ORBITAL_INCLINATION = 86.92
ORBITAL_SEMIMAJOR_AXIS = 8853.68
PERIAPSIS_ALTITUDE = 337.94
PERIAPSIS_ARGUMENT_ANGLE = 348.23
PERIAPSIS_TIME = 2017-02-24T05:30:39.000Z
SPACECRAFT_ORIENTATION = (0.0,1.0,0.0)
^MEX_ORIENTATION_DESC = "MEX_ORIENTATION_DESC.TXT"
SPACECRAFT_POINTING_MODE = ACROSSTRACK
^MEX_POINTING_DESC = "MEX_POINTING_DESC.TXT"
RIGHT_ASCENSION = -1e+32
DECLINATION = -1e+32
OFFSET_ANGLE = 0.6
SPACECRAFT_SOLAR_DISTANCE = 2.19475e+08
TARGET_NAME = MARS
/* CAMERA DATA ELEMENTS */
DETECTOR_TEMPERATURE = 17.351
FOCAL_PLANE_TEMPERATURE = 8.3794
INST_CMPRS_NAME = "DISCRETE COSINE TRANSFORMATION (DCT)"
INST_CMPRS_RATIO = 7.31402
INST_CMPRS_QUALITY = 0
INST_CMPRS_QUANTZ_TBL_ID = 0
INSTRUMENT_TEMPERATURE = 11.0301
LENS_TEMPERATURE = 9.8067
MACROPIXEL_SIZE = 4
MISSING_FRAMES = 0
PIXEL_SUBSAMPLING_FLAG = N
SIGNAL_CHAIN_ID = 2
/* RADIOMETRIC DATA ELEMENTS */
BANDWIDTH = 81.0
CENTER_FILTER_WAVELENGTH = 955.5
RADIANCE_OFFSET = 0.68488
RADIANCE_SCALING_FACTOR = 0.00222373
REFLECTANCE_SCALING_FACTOR = 0.00023109
MEX:REFLECTANCE_OFFSET = 0.0711728
/* IMAGE OBJECT DEFINITIONS */
OBJECT = IMAGE
  INTERCHANGE_FORMAT = BINARY
  LINES = 11413
  LINE_SAMPLES = 1758
  SAMPLE_TYPE = UNSIGNED_INTEGER
  SAMPLE_BITS = 8
  BANDS = 1
  BAND_STORAGE_TYPE = BAND_SEQUENTIAL
  MAXIMUM = 254
  MEAN = 125.37
  MINIMUM = 1
  STANDARD_DEVIATION = 44.2357
END_OBJECT = IMAGE
/* MAP OBJECT DEFINITIONS */
OBJECT = IMAGE_MAP_PROJECTION
  ^DATA_SET_MAP_PROJECTION_CATALOG= "DSMAP.CAT"
  A_AXIS_RADIUS = 3396.0
  B_AXIS_RADIUS = 3396.0
  C_AXIS_RADIUS = 3396.0
  CENTER_LATITUDE = 0.0
  CENTER_LONGITUDE = 350.0
  COORDINATE_SYSTEM_NAME = PLANETOGRAPHIC
  COORDINATE_SYSTEM_TYPE = "BODY-FIXED ROTATING"
  EASTERNMOST_LONGITUDE = 351.028
  FIRST_STANDARD_PARALLEL = "N/A"
  LINE_FIRST_PIXEL = 1
  LINE_LAST_PIXEL = 11413
  LINE_PROJECTION_OFFSET = 6261.625
  MAP_PROJECTION_ROTATION = 0.0
  MAP_PROJECTION_TYPE = SINUSOIDAL
  MAP_RESOLUTION = 1185.42760773333
  MAP_SCALE = 0.05
  MAXIMUM_LATITUDE = 5.2942
  MINIMUM_LATITUDE = -4.3586
  POSITIVE_LONGITUDE_DIRECTION = EAST
  REFERENCE_LATITUDE = "N/A"
  REFERENCE_LONGITUDE = "N/A"
  SAMPLE_FIRST_PIXEL = 1
  SAMPLE_LAST_PIXEL = 1758
  SAMPLE_PROJECTION_OFFSET = 567.375
  SECOND_STANDARD_PARALLEL = "N/A"
  WESTERNMOST_LONGITUDE = 349.566
END_OBJECT = IMAGE_MAP_PROJECTION
/* The JPEG2000 image data file associated with this label. */
OBJECT = COMPRESSED_FILE
  FILE_NAME = "HG655_0000_IR3.JP2"
  RECORD_TYPE = UNDEFINED
  FILE_RECORDS = UNK
  ENCODING_TYPE = "JP2"
  INTERCHANGE_FORMAT = BINARY
  UNCOMPRESSED_FILE_NAME = "HG655_0000_IR3.IMG"
  REQUIRED_STORAGE_BYTES = "20085150"
  ^DESCRIPTION = "JP2INFO.TXT"
END_OBJECT = COMPRESSED_FILE
END
