PDS_VERSION_ID = PDS3
/* FILE DATA ELEMENTS */
RECORD_TYPE = STREAM
/* POINTERS TO DATA OBJECTS */
^COMPRESSED_FILE = "HG655_0000_P23.JP2"
/* IDENTIFICATION DATA ELEMENTS */
DATA_SET_ID = "MEX-M-HRSC-5-REFDR-MAPPROJECTED-V3.0"
DATA_SET_NAME = "MARS EXPRESS HRSC MAP PROJECTED REFDR V3.0"
DETECTOR_ID = MEX_HRSC_P2
EVENT_TYPE = "MARS-REGIONAL-MAPPING-Im-Eo-La"
INSTRUMENT_HOST_ID = MEX
INSTRUMENT_HOST_NAME = "MARS EXPRESS"
INSTRUMENT_ID = HRSC
INSTRUMENT_NAME = "HIGH RESOLUTION STEREO CAMERA"
MISSION_NAME = "MARS EXPRESS"
MISSION_PHASE_NAME = ME_Phase_36
PROCESSING_LEVEL_ID = 3
PRODUCT_CREATION_TIME = 2018-06-28T11:48:36.000Z
PRODUCT_ID = "HG655_0000_P23.JP2"
RELEASE_ID = 0138
REVISION_ID = 0000
/* QUALITY DATA ELEMENTS */
DATA_QUALITY_ID = 1
DATA_QUALITY_DESC = "Data calculated based on original SPICE kernels"
/* TIME DATA ELEMENTS */
SPACECRAFT_CLOCK_START_COUNT = "1/0435994313.07283"
SPACECRAFT_CLOCK_STOP_COUNT = "1/0435994534.57309"
START_TIME = 2017-02-24T05:32:11.706Z
STOP_TIME = 2017-02-24T05:34:38.460Z
/* ORBITAL DATA ELEMENTS */
ASCENDING_NODE_LONGITUDE = 261.1
MAXIMUM_RESOLUTION = 28.6
FOOTPRINT_POINT_LATITUDE = (-4.34269,-4.33968,-4.33645,-4.33298, -4.32924,-4.32524,-4.30875,-4.03551, -3.85324,-3.67117,-3.48874,-3.30638, -3.03298,-2.85081,-2.66916,-2.48679, -2.30446,-2.12247,-1.94024,-1.75786, -1.48453,-1.30227,-1.02934,-0.847101, -0.66446,-0.482697,-0.300498,-0.0273888 ,0.154566,0.33637,0.518026,0.699801, 0.881727,1.15439,1.33576,1.51729, 1.69924,2.06163,2.26609,2.48165,2.69808 ,2.91659,3.2415,3.56635,3.78272,4.00019 ,4.21947,4.43649,4.65207,4.86527,5.0827 ,5.30159,5.2988,5.29511,5.29106,5.27954 ,5.27665,4.95267,4.73612,4.52049, 4.30411,4.08682,3.76125,3.5445,3.32854, 3.00837,2.7913,2.57469,2.25009,2.04573, 1.85891,1.67706,1.31279,1.04314, 0.678452,0.404582,0.22273,0.0407508, -0.141409,-0.323605,-0.505595,-0.687894 ,-0.870012,-1.05243,-1.32608,-1.59936, -1.87255,-2.0548,-2.23753,-2.42079, -2.60323,-2.78482,-2.96746,-3.14973, -3.3319,-3.51355,-3.69558,-3.87796, -4.1511,-4.34269)
FOOTPRINT_POINT_LONGITUDE = (351.0,350.814,350.626,350.437,350.246, 350.054,349.762,349.759,349.757,349.754 ,349.752,349.749,349.746,349.743, 349.741,349.739,349.736,349.734,349.731 ,349.728,349.724,349.721,349.717, 349.714,349.711,349.708,349.705,349.7, 349.697,349.694,349.691,349.688,349.685 ,349.68,349.677,349.674,349.671,349.664 ,349.661,349.657,349.653,349.647,349.64 ,349.634,349.629,349.623,349.616, 349.611,349.606,349.604,349.598,349.589 ,349.795,350.095,350.38,350.782,350.985 ,350.984,350.984,350.984,350.984, 350.984,350.983,350.983,350.983,350.984 ,350.984,350.984,350.984,350.984, 350.984,350.984,350.985,350.985,350.986 ,350.986,350.986,350.987,350.987, 350.987,350.988,350.988,350.989,350.989 ,350.99,350.991,350.991,350.992,350.992 ,350.993,350.994,350.994,350.995, 350.996,350.996,350.997,350.998,350.998 ,350.999,351.0)
ORBIT_NUMBER = 16655
ORBITAL_ECCENTRICITY = 0.578
ORBITAL_INCLINATION = 86.92
ORBITAL_SEMIMAJOR_AXIS = 8853.68
PERIAPSIS_ALTITUDE = 337.94
PERIAPSIS_ARGUMENT_ANGLE = 348.23
PERIAPSIS_TIME = 2017-02-24T05:30:39.000Z
SPACECRAFT_ORIENTATION = (0.0,1.0,0.0)
^MEX_ORIENTATION_DESC = "MEX_ORIENTATION_DESC.TXT"
SPACECRAFT_POINTING_MODE = ACROSSTRACK
^MEX_POINTING_DESC = "MEX_POINTING_DESC.TXT"
RIGHT_ASCENSION = -1e+32
DECLINATION = -1e+32
OFFSET_ANGLE = 0.6
SPACECRAFT_SOLAR_DISTANCE = 2.19475e+08
TARGET_NAME = MARS
/* CAMERA DATA ELEMENTS */
DETECTOR_TEMPERATURE = 18.5744
FOCAL_PLANE_TEMPERATURE = 8.3794
INST_CMPRS_NAME = "DISCRETE COSINE TRANSFORMATION (DCT)"
INST_CMPRS_RATIO = 6.92742
INST_CMPRS_QUALITY = 0
INST_CMPRS_QUANTZ_TBL_ID = 0
INSTRUMENT_TEMPERATURE = 11.0301
LENS_TEMPERATURE = 9.8067
MACROPIXEL_SIZE = 2
MISSING_FRAMES = 0
PIXEL_SUBSAMPLING_FLAG = N
SIGNAL_CHAIN_ID = 3
/* RADIOMETRIC DATA ELEMENTS */
BANDWIDTH = 177.0
CENTER_FILTER_WAVELENGTH = 676.5
RADIANCE_OFFSET = 2.99362
RADIANCE_SCALING_FACTOR = 0.00730264
REFLECTANCE_SCALING_FACTOR = 0.000186513
MEX:REFLECTANCE_OFFSET = 0.0764584
/* IMAGE OBJECT DEFINITIONS */
OBJECT = IMAGE
  INTERCHANGE_FORMAT = BINARY
  LINES = 22825
  LINE_SAMPLES = 3516
  SAMPLE_TYPE = UNSIGNED_INTEGER
  SAMPLE_BITS = 8
  BANDS = 1
  BAND_STORAGE_TYPE = BAND_SEQUENTIAL
  MAXIMUM = 255
  MEAN = 128.893
  MINIMUM = 1
  STANDARD_DEVIATION = 42.3263
END_OBJECT = IMAGE
/* MAP OBJECT DEFINITIONS */
OBJECT = IMAGE_MAP_PROJECTION
  ^DATA_SET_MAP_PROJECTION_CATALOG= "DSMAP.CAT"
  A_AXIS_RADIUS = 3396.0
  B_AXIS_RADIUS = 3396.0
  C_AXIS_RADIUS = 3396.0
  CENTER_LATITUDE = 0.0
  CENTER_LONGITUDE = 350.0
  COORDINATE_SYSTEM_NAME = PLANETOGRAPHIC
  COORDINATE_SYSTEM_TYPE = "BODY-FIXED ROTATING"
  EASTERNMOST_LONGITUDE = 351.0
  FIRST_STANDARD_PARALLEL = "N/A"
  LINE_FIRST_PIXEL = 1
  LINE_LAST_PIXEL = 22825
  LINE_PROJECTION_OFFSET = 12523.75
  MAP_PROJECTION_ROTATION = 0.0
  MAP_PROJECTION_TYPE = SINUSOIDAL
  MAP_RESOLUTION = 2370.85521546667
  MAP_SCALE = 0.025
  MAXIMUM_LATITUDE = 5.30159
  MINIMUM_LATITUDE = -4.34269
  POSITIVE_LONGITUDE_DIRECTION = EAST
  REFERENCE_LATITUDE = "N/A"
  REFERENCE_LONGITUDE = "N/A"
  SAMPLE_FIRST_PIXEL = 1
  SAMPLE_LAST_PIXEL = 3516
  SAMPLE_PROJECTION_OFFSET = 1135.25
  SECOND_STANDARD_PARALLEL = "N/A"
  WESTERNMOST_LONGITUDE = 349.589
END_OBJECT = IMAGE_MAP_PROJECTION
/* The JPEG2000 image data file associated with this label. */
OBJECT = COMPRESSED_FILE
  FILE_NAME = "HG655_0000_P23.JP2"
  RECORD_TYPE = UNDEFINED
  FILE_RECORDS = UNK
  ENCODING_TYPE = "JP2"
  INTERCHANGE_FORMAT = BINARY
  UNCOMPRESSED_FILE_NAME = "HG655_0000_P23.IMG"
  REQUIRED_STORAGE_BYTES = "80277312"
  ^DESCRIPTION = "JP2INFO.TXT"
END_OBJECT = COMPRESSED_FILE
END
