PDS_VERSION_ID = PDS3
/* FILE DATA ELEMENTS */
RECORD_TYPE = STREAM
/* POINTERS TO DATA OBJECTS */
^COMPRESSED_FILE = "HG659_0000_BL3.JP2"
/* IDENTIFICATION DATA ELEMENTS */
DATA_SET_ID = "MEX-M-HRSC-5-REFDR-MAPPROJECTED-V3.0"
DATA_SET_NAME = "MARS EXPRESS HRSC MAP PROJECTED REFDR V3.0"
DETECTOR_ID = MEX_HRSC_BLUE
EVENT_TYPE = "MARS-REGIONAL-MAPPING-Te-Mw-Ls"
INSTRUMENT_HOST_ID = MEX
INSTRUMENT_HOST_NAME = "MARS EXPRESS"
INSTRUMENT_ID = HRSC
INSTRUMENT_NAME = "HIGH RESOLUTION STEREO CAMERA"
MISSION_NAME = "MARS EXPRESS"
MISSION_PHASE_NAME = ME_Phase_36
PROCESSING_LEVEL_ID = 3
PRODUCT_CREATION_TIME = 2018-06-28T11:48:36.000Z
PRODUCT_ID = "HG659_0000_BL3.JP2"
RELEASE_ID = 0138
REVISION_ID = 0000
/* QUALITY DATA ELEMENTS */
DATA_QUALITY_ID = 1
DATA_QUALITY_DESC = "Data calculated based on original SPICE kernels"
/* TIME DATA ELEMENTS */
SPACECRAFT_CLOCK_START_COUNT = "1/0436094877.07334"
SPACECRAFT_CLOCK_STOP_COUNT = "1/0436095107.47715"
START_TIME = 2017-02-25T09:28:31.372Z
STOP_TIME = 2017-02-25T09:31:16.331Z
/* ORBITAL DATA ELEMENTS */
ASCENDING_NODE_LONGITUDE = 261.01
MAXIMUM_RESOLUTION = 53.7
FOOTPRINT_POINT_LATITUDE = (-16.7005,-16.7042,-16.7109,-16.7174, -16.5043,-16.2914,-16.0784,-15.8652, -15.6481,-15.433,-15.2228,-15.0112, -14.7975,-14.5794,-14.2545,-14.0405, -13.8271,-13.6133,-13.4005,-13.1927, -12.9815,-12.6608,-12.3401,-12.0193, -11.6984,-11.4844,-11.2705,-11.0565, -10.8425,-10.5213,-10.3073,-10.0931, -9.87906,-9.66495,-9.34382,-9.12972, -8.91564,-8.70155,-8.48751,-8.27347, -8.05949,-7.84548,-7.63139,-7.31055, -7.09666,-6.88282,-6.66895,-6.45492, -6.24115,-6.02721,-5.96053,-5.95467, -5.94903,-5.9426,-6.15626,-6.37009, -6.58428,-6.90508,-7.11888,-7.3333, -7.65217,-7.86609,-8.08147,-8.40346, -8.72366,-8.93859,-9.25985,-9.47375, -9.68777,-9.90185,-10.2227,-10.5442, -10.7584,-10.9725,-11.1865,-11.4006, -11.6145,-11.8285,-12.0424,-12.2563, -12.4701,-12.684,-12.8978,-13.1115, -13.3253,-13.5379,-13.7476,-13.9592, -14.2773,-14.5982,-14.8122,-15.0254, -15.2425,-15.4601,-15.6691,-15.8872, -16.1007,-16.4208,-16.6335,-16.7005)
FOOTPRINT_POINT_LONGITUDE = (303.064,302.872,302.493,302.13,302.13, 302.13,302.129,302.128,302.131,302.132, 302.128,302.126,302.125,302.128,302.131 ,302.13,302.129,302.128,302.125,302.119 ,302.116,302.113,302.111,302.109, 302.106,302.105,302.103,302.101,302.1, 302.097,302.095,302.093,302.091,302.089 ,302.086,302.084,302.082,302.08,302.077 ,302.075,302.073,302.07,302.068,302.064 ,302.062,302.059,302.057,302.054, 302.051,302.049,302.371,302.666,302.933 ,303.278,303.28,303.281,303.281,303.284 ,303.286,303.286,303.296,303.298, 303.295,303.294,303.301,303.299,303.302 ,303.305,303.307,303.31,303.314,303.316 ,303.319,303.321,303.323,303.326, 303.329,303.332,303.335,303.338,303.341 ,303.344,303.347,303.35,303.353,303.361 ,303.379,303.39,303.404,303.407,303.408 ,303.412,303.402,303.389,303.408, 303.393,303.396,303.399,303.404, 303.064)
ORBIT_NUMBER = 16659
ORBITAL_ECCENTRICITY = 0.578
ORBITAL_INCLINATION = 86.93
ORBITAL_SEMIMAJOR_AXIS = 8854.9
PERIAPSIS_ALTITUDE = 337.44
PERIAPSIS_ARGUMENT_ANGLE = 347.58
PERIAPSIS_TIME = 2017-02-25T09:29:44.000Z
SPACECRAFT_ORIENTATION = (0.0,1.0,0.0)
^MEX_ORIENTATION_DESC = "MEX_ORIENTATION_DESC.TXT"
SPACECRAFT_POINTING_MODE = ACROSSTRACK
^MEX_POINTING_DESC = "MEX_POINTING_DESC.TXT"
RIGHT_ASCENSION = -1e+32
DECLINATION = -1e+32
OFFSET_ANGLE = -0.9
SPACECRAFT_SOLAR_DISTANCE = 2.19692e+08
TARGET_NAME = MARS
/* CAMERA DATA ELEMENTS */
DETECTOR_TEMPERATURE = 16.7393
FOCAL_PLANE_TEMPERATURE = 8.1755
INST_CMPRS_NAME = "DISCRETE COSINE TRANSFORMATION (DCT)"
INST_CMPRS_RATIO = 4.09041
INST_CMPRS_QUALITY = 0
INST_CMPRS_QUANTZ_TBL_ID = 0
INSTRUMENT_TEMPERATURE = 11.6418
LENS_TEMPERATURE = 8.5833
MACROPIXEL_SIZE = 4
MISSING_FRAMES = 0
PIXEL_SUBSAMPLING_FLAG = N
SIGNAL_CHAIN_ID = 2
/* RADIOMETRIC DATA ELEMENTS */
BANDWIDTH = 76.0
CENTER_FILTER_WAVELENGTH = 444.0
RADIANCE_OFFSET = 0.510933
RADIANCE_SCALING_FACTOR = 0.00104779
REFLECTANCE_SCALING_FACTOR = 5.19585e-05
MEX:REFLECTANCE_OFFSET = 0.0253366
/* IMAGE OBJECT DEFINITIONS */
OBJECT = IMAGE
  INTERCHANGE_FORMAT = BINARY
  LINES = 12761
  LINE_SAMPLES = 1712
  SAMPLE_TYPE = UNSIGNED_INTEGER
  SAMPLE_BITS = 8
  BANDS = 1
  BAND_STORAGE_TYPE = BAND_SEQUENTIAL
  MAXIMUM = 255
  MEAN = 129.044
  MINIMUM = 1
  STANDARD_DEVIATION = 35.5868
END_OBJECT = IMAGE
/* MAP OBJECT DEFINITIONS */
OBJECT = IMAGE_MAP_PROJECTION
  ^DATA_SET_MAP_PROJECTION_CATALOG= "DSMAP.CAT"
  A_AXIS_RADIUS = 3396.0
  B_AXIS_RADIUS = 3396.0
  C_AXIS_RADIUS = 3396.0
  CENTER_LATITUDE = 0.0
  CENTER_LONGITUDE = 303.0
  COORDINATE_SYSTEM_NAME = PLANETOGRAPHIC
  COORDINATE_SYSTEM_TYPE = "BODY-FIXED ROTATING"
  EASTERNMOST_LONGITUDE = 303.412
  FIRST_STANDARD_PARALLEL = "N/A"
  LINE_FIRST_PIXEL = 1
  LINE_LAST_PIXEL = 12761
  LINE_PROJECTION_OFFSET = -7043.625
  MAP_PROJECTION_ROTATION = 0.0
  MAP_PROJECTION_TYPE = SINUSOIDAL
  MAP_RESOLUTION = 1185.42760773333
  MAP_SCALE = 0.05
  MAXIMUM_LATITUDE = -5.9426
  MINIMUM_LATITUDE = -16.7174
  POSITIVE_LONGITUDE_DIRECTION = EAST
  REFERENCE_LATITUDE = "N/A"
  REFERENCE_LONGITUDE = "N/A"
  SAMPLE_FIRST_PIXEL = 1
  SAMPLE_LAST_PIXEL = 1712
  SAMPLE_PROJECTION_OFFSET = 1130.625
  SECOND_STANDARD_PARALLEL = "N/A"
  WESTERNMOST_LONGITUDE = 302.049
END_OBJECT = IMAGE_MAP_PROJECTION
/* The JPEG2000 image data file associated with this label. */
OBJECT = COMPRESSED_FILE
  FILE_NAME = "HG659_0000_BL3.JP2"
  RECORD_TYPE = UNDEFINED
  FILE_RECORDS = UNK
  ENCODING_TYPE = "JP2"
  INTERCHANGE_FORMAT = BINARY
  UNCOMPRESSED_FILE_NAME = "HG659_0000_BL3.IMG"
  REQUIRED_STORAGE_BYTES = "21867376"
  ^DESCRIPTION = "JP2INFO.TXT"
END_OBJECT = COMPRESSED_FILE
END
