PDS_VERSION_ID = PDS3
/* FILE DATA ELEMENTS */
RECORD_TYPE = STREAM
/* POINTERS TO DATA OBJECTS */
^COMPRESSED_FILE = "HG661_0000_S13.JP2"
/* IDENTIFICATION DATA ELEMENTS */
DATA_SET_ID = "MEX-M-HRSC-5-REFDR-MAPPROJECTED-V3.0"
DATA_SET_NAME = "MARS EXPRESS HRSC MAP PROJECTED REFDR V3.0"
DETECTOR_ID = MEX_HRSC_S1
EVENT_TYPE = "MARS-REGIONAL-MAPPING-Vo-Im-Fl"
INSTRUMENT_HOST_ID = MEX
INSTRUMENT_HOST_NAME = "MARS EXPRESS"
INSTRUMENT_ID = HRSC
INSTRUMENT_NAME = "HIGH RESOLUTION STEREO CAMERA"
MISSION_NAME = "MARS EXPRESS"
MISSION_PHASE_NAME = ME_Phase_36
PROCESSING_LEVEL_ID = 3
PRODUCT_CREATION_TIME = 2018-06-28T11:48:36.000Z
PRODUCT_ID = "HG661_0000_S13.JP2"
RELEASE_ID = 0138
REVISION_ID = 0000
/* QUALITY DATA ELEMENTS */
DATA_QUALITY_ID = 1
DATA_QUALITY_DESC = "Data calculated based on original SPICE kernels"
/* TIME DATA ELEMENTS */
SPACECRAFT_CLOCK_START_COUNT = "1/0436145362.09057"
SPACECRAFT_CLOCK_STOP_COUNT = "1/0436145667.09151"
START_TIME = 2017-02-25T23:30:33.240Z
STOP_TIME = 2017-02-25T23:34:33.017Z
/* ORBITAL DATA ELEMENTS */
ASCENDING_NODE_LONGITUDE = 260.98
MAXIMUM_RESOLUTION = 29.3
FOOTPRINT_POINT_LATITUDE = (-9.20289,-9.24064,-9.28032,-9.31284, -9.04145,-8.77037,-8.36425,-7.95924, -7.68831,-7.41911,-7.14815,-6.87871, -6.61114,-6.34771,-5.94412,-5.6729, -5.40553,-5.13692,-4.8718,-4.47341, -4.21013,-3.90571,-3.43277,-2.95967, -2.64493,-2.32943,-2.01399,-1.71979, -1.2371,-0.778518,-0.456903,-0.149104, 0.313653,0.622747,0.9247,1.23606, 1.54379,1.85121,2.15217,2.45606,2.76772 ,3.08482,3.38922,3.85342,4.16697, 4.48459,4.95413,5.27084,5.51584,5.54376 ,5.56331,5.59109,5.62173,5.14723, 4.83055,4.51294,4.20015,3.8841,3.5742, 3.11243,2.80277,2.48799,2.18521,1.87949 ,1.57231,1.26574,0.958421,0.649631, 0.343008,0.0342683,-0.275518,-0.586483, -0.897727,-1.20756,-1.52183,-1.8335, -2.1479,-2.46126,-2.77707,-3.09458, -3.41054,-3.72735,-4.04009,-4.30607, -4.57286,-4.84002,-5.23815,-5.641, -5.90711,-6.30292,-6.70873,-7.12009, -7.38932,-7.64923,-7.91963,-8.18993, -8.46185,-8.73584,-9.00848,-9.20289)
FOOTPRINT_POINT_LONGITUDE = (96.1684,95.7757,95.3676,94.9598, 94.9585,94.9571,94.9547,94.9516,94.9507 ,94.9481,94.9476,94.9456,94.942,94.9342 ,94.9317,94.9325,94.9295,94.9281, 94.9233,94.9172,94.9112,94.9067,94.8986 ,94.8914,94.8864,94.8825,94.8789,94.855 ,94.8602,94.8428,94.8471,94.8385, 94.8273,94.821,94.8083,94.8049,94.7986, 94.7924,94.7805,94.7719,94.7665,94.7632 ,94.7487,94.7343,94.7218,94.7134, 94.6957,94.6807,95.0154,95.2999,95.5601 ,95.8214,96.1646,96.2712,96.2701, 96.2688,96.2692,96.2682,96.2677,96.2683 ,96.2685,96.2652,96.2655,96.2651, 96.2644,96.2642,96.264,96.2636,96.2642, 96.2643,96.2642,96.264,96.2639,96.2646, 96.2639,96.2644,96.2641,96.2645,96.2641 ,96.2633,96.2633,96.2632,96.2631, 96.2632,96.2631,96.263,96.2642,96.2638, 96.2648,96.268,96.2672,96.2643,96.2647, 96.2693,96.2695,96.2699,96.2697,96.2687 ,96.2684,96.1684)
ORBIT_NUMBER = 16661
ORBITAL_ECCENTRICITY = 0.579
ORBITAL_INCLINATION = 86.93
ORBITAL_SEMIMAJOR_AXIS = 8859.84
PERIAPSIS_ALTITUDE = 336.61
PERIAPSIS_ARGUMENT_ANGLE = 347.19
PERIAPSIS_TIME = 2017-02-25T23:29:08.000Z
SPACECRAFT_ORIENTATION = (0.0,1.0,0.0)
^MEX_ORIENTATION_DESC = "MEX_ORIENTATION_DESC.TXT"
SPACECRAFT_POINTING_MODE = ACROSSTRACK
^MEX_POINTING_DESC = "MEX_POINTING_DESC.TXT"
RIGHT_ASCENSION = -1e+32
DECLINATION = -1e+32
OFFSET_ANGLE = 1.5
SPACECRAFT_SOLAR_DISTANCE = 2.19801e+08
TARGET_NAME = MARS
/* CAMERA DATA ELEMENTS */
DETECTOR_TEMPERATURE = 16.7393
FOCAL_PLANE_TEMPERATURE = 8.1755
INST_CMPRS_NAME = "DISCRETE COSINE TRANSFORMATION (DCT)"
INST_CMPRS_RATIO = 8.0132
INST_CMPRS_QUALITY = 0
INST_CMPRS_QUANTZ_TBL_ID = 0
INSTRUMENT_TEMPERATURE = 11.6418
LENS_TEMPERATURE = 8.7872
MACROPIXEL_SIZE = 2
MISSING_FRAMES = 0
PIXEL_SUBSAMPLING_FLAG = N
SIGNAL_CHAIN_ID = 1
/* RADIOMETRIC DATA ELEMENTS */
BANDWIDTH = 180.0
CENTER_FILTER_WAVELENGTH = 677.0
RADIANCE_OFFSET = 2.86098
RADIANCE_SCALING_FACTOR = 0.016448
REFLECTANCE_SCALING_FACTOR = 0.000414588
MEX:REFLECTANCE_OFFSET = 0.0721136
/* IMAGE OBJECT DEFINITIONS */
OBJECT = IMAGE
  INTERCHANGE_FORMAT = BINARY
  LINES = 35213
  LINE_SAMPLES = 3897
  SAMPLE_TYPE = UNSIGNED_INTEGER
  SAMPLE_BITS = 8
  BANDS = 1
  BAND_STORAGE_TYPE = BAND_SEQUENTIAL
  MAXIMUM = 255
  MEAN = 96.7278
  MINIMUM = 1
  STANDARD_DEVIATION = 31.44
END_OBJECT = IMAGE
/* MAP OBJECT DEFINITIONS */
OBJECT = IMAGE_MAP_PROJECTION
  ^DATA_SET_MAP_PROJECTION_CATALOG= "DSMAP.CAT"
  A_AXIS_RADIUS = 3396.0
  B_AXIS_RADIUS = 3396.0
  C_AXIS_RADIUS = 3396.0
  CENTER_LATITUDE = 0.0
  CENTER_LONGITUDE = 96.0
  COORDINATE_SYSTEM_NAME = PLANETOGRAPHIC
  COORDINATE_SYSTEM_TYPE = "BODY-FIXED ROTATING"
  EASTERNMOST_LONGITUDE = 96.27119999999999
  FIRST_STANDARD_PARALLEL = "N/A"
  LINE_FIRST_PIXEL = 1
  LINE_LAST_PIXEL = 35213
  LINE_PROJECTION_OFFSET = 13256.25
  MAP_PROJECTION_ROTATION = 0.0
  MAP_PROJECTION_TYPE = SINUSOIDAL
  MAP_RESOLUTION = 2370.85521546667
  MAP_SCALE = 0.025
  MAXIMUM_LATITUDE = 5.62173
  MINIMUM_LATITUDE = -9.31284
  POSITIVE_LONGITUDE_DIRECTION = EAST
  REFERENCE_LATITUDE = "N/A"
  REFERENCE_LONGITUDE = "N/A"
  SAMPLE_FIRST_PIXEL = 1
  SAMPLE_LAST_PIXEL = 3897
  SAMPLE_PROJECTION_OFFSET = 3279.75
  SECOND_STANDARD_PARALLEL = "N/A"
  WESTERNMOST_LONGITUDE = 94.6807
END_OBJECT = IMAGE_MAP_PROJECTION
/* The JPEG2000 image data file associated with this label. */
OBJECT = COMPRESSED_FILE
  FILE_NAME = "HG661_0000_S13.JP2"
  RECORD_TYPE = UNDEFINED
  FILE_RECORDS = UNK
  ENCODING_TYPE = "JP2"
  INTERCHANGE_FORMAT = BINARY
  UNCOMPRESSED_FILE_NAME = "HG661_0000_S13.IMG"
  REQUIRED_STORAGE_BYTES = "137248443"
  ^DESCRIPTION = "JP2INFO.TXT"
END_OBJECT = COMPRESSED_FILE
END
