PDS_VERSION_ID = PDS3
/* FILE DATA ELEMENTS */
RECORD_TYPE = STREAM
/* POINTERS TO DATA OBJECTS */
^COMPRESSED_FILE = "HG662_0000_P13.JP2"
/* IDENTIFICATION DATA ELEMENTS */
DATA_SET_ID = "MEX-M-HRSC-5-REFDR-MAPPROJECTED-V3.0"
DATA_SET_NAME = "MARS EXPRESS HRSC MAP PROJECTED REFDR V3.0"
DETECTOR_ID = MEX_HRSC_P1
EVENT_TYPE = "MARS-LOCAL-MAPPING-Tc-Ot"
INSTRUMENT_HOST_ID = MEX
INSTRUMENT_HOST_NAME = "MARS EXPRESS"
INSTRUMENT_ID = HRSC
INSTRUMENT_NAME = "HIGH RESOLUTION STEREO CAMERA"
MISSION_NAME = "MARS EXPRESS"
MISSION_PHASE_NAME = ME_Phase_36
PROCESSING_LEVEL_ID = 3
PRODUCT_CREATION_TIME = 2018-06-28T11:48:36.000Z
PRODUCT_ID = "HG662_0000_P13.JP2"
RELEASE_ID = 0138
REVISION_ID = 0000
/* QUALITY DATA ELEMENTS */
DATA_QUALITY_ID = 1
DATA_QUALITY_DESC = "Data calculated based on original SPICE kernels"
/* TIME DATA ELEMENTS */
SPACECRAFT_CLOCK_START_COUNT = "1/0436170598.09060"
SPACECRAFT_CLOCK_STOP_COUNT = "1/0436170797.27292"
START_TIME = 2017-02-26T06:30:58.133Z
STOP_TIME = 2017-02-26T06:33:10.124Z
/* ORBITAL DATA ELEMENTS */
ASCENDING_NODE_LONGITUDE = 260.96
MAXIMUM_RESOLUTION = 29
FOOTPRINT_POINT_LATITUDE = (-6.00721,-6.00153,-5.99594,-5.99053, -5.98524,-5.98009,-5.75473,-5.52552, -5.37279,-5.22023,-4.99144,-4.83897, -4.6867,-4.53437,-4.38219,-4.22966, -4.00145,-3.84987,-3.6985,-3.54683, -3.39538,-3.24373,-3.0168,-2.86545, -2.71407,-2.41223,-2.25313,-2.07324, -1.89339,-1.71388,-1.53417,-1.35488, -1.17571,-0.907076,-0.728284,-0.549558, -0.370952,-0.192512,-0.0140819,0.164161 ,0.342139,0.519867,0.697325,0.87462, 1.14027,1.3174,1.49441,1.67095,1.84755, 2.02399,2.20022,2.3041,2.29873,2.29434, 2.28898,2.28012,2.27281,2.09676,1.832, 1.65549,1.47877,1.30222,1.03682, 0.860003,0.68264,0.504884,0.326846, 0.148311,-0.0299055,-0.208096,-0.386374 ,-0.653905,-0.921975,-1.19032,-1.45914, -1.63842,-1.81782,-1.99749,-2.17747, -2.50536,-2.73224,-2.95943,-3.18674, -3.33834,-3.49023,-3.64187,-3.79366, -4.02101,-4.17279,-4.40038,-4.55227, -4.7047,-4.85701,-5.08588,-5.23838, -5.39133,-5.62008,-5.77276,-5.92567, -6.00721)
FOOTPRINT_POINT_LONGITUDE = (356.213,356.013,355.815,355.619, 355.426,355.234,355.146,355.142,355.14, 355.138,355.134,355.132,355.129,355.127 ,355.125,355.122,355.118,355.116, 355.113,355.111,355.108,355.106,355.102 ,355.099,355.097,355.091,355.088, 355.085,355.082,355.079,355.075,355.072 ,355.068,355.063,355.06,355.056,355.053 ,355.049,355.046,355.042,355.038, 355.035,355.031,355.027,355.022,355.018 ,355.014,355.011,355.007,355.003, 354.999,355.183,355.44,355.617,355.838, 356.173,356.419,356.418,356.418,356.417 ,356.417,356.416,356.415,356.414, 356.414,356.414,356.414,356.414,356.414 ,356.414,356.414,356.413,356.413, 356.413,356.413,356.413,356.413,356.413 ,356.413,356.414,356.414,356.415, 356.416,356.417,356.417,356.418,356.418 ,356.418,356.418,356.419,356.419, 356.419,356.42,356.421,356.421,356.422, 356.423,356.423,356.424,356.213)
ORBIT_NUMBER = 16662
ORBITAL_ECCENTRICITY = 0.578
ORBITAL_INCLINATION = 86.92
ORBITAL_SEMIMAJOR_AXIS = 8853.36
PERIAPSIS_ALTITUDE = 337.38
PERIAPSIS_ARGUMENT_ANGLE = 347.03
PERIAPSIS_TIME = 2017-02-26T06:28:51.000Z
SPACECRAFT_ORIENTATION = (0.0,1.0,0.0)
^MEX_ORIENTATION_DESC = "MEX_ORIENTATION_DESC.TXT"
SPACECRAFT_POINTING_MODE = ACROSSTRACK
^MEX_POINTING_DESC = "MEX_POINTING_DESC.TXT"
RIGHT_ASCENSION = -1e+32
DECLINATION = -1e+32
OFFSET_ANGLE = -0.916
SPACECRAFT_SOLAR_DISTANCE = 2.19856e+08
TARGET_NAME = MARS
/* CAMERA DATA ELEMENTS */
DETECTOR_TEMPERATURE = 17.5549
FOCAL_PLANE_TEMPERATURE = 8.1755
INST_CMPRS_NAME = "DISCRETE COSINE TRANSFORMATION (DCT)"
INST_CMPRS_RATIO = 12.5327
INST_CMPRS_QUALITY = 0
INST_CMPRS_QUANTZ_TBL_ID = 0
INSTRUMENT_TEMPERATURE = 11.4379
LENS_TEMPERATURE = 8.7872
MACROPIXEL_SIZE = 2
MISSING_FRAMES = 0
PIXEL_SUBSAMPLING_FLAG = N
SIGNAL_CHAIN_ID = 3
/* RADIOMETRIC DATA ELEMENTS */
BANDWIDTH = 174.0
CENTER_FILTER_WAVELENGTH = 675.0
RADIANCE_OFFSET = 3.17156
RADIANCE_SCALING_FACTOR = 0.00527652
REFLECTANCE_SCALING_FACTOR = 0.000137186
MEX:REFLECTANCE_OFFSET = 0.0824583
/* IMAGE OBJECT DEFINITIONS */
OBJECT = IMAGE
  INTERCHANGE_FORMAT = BINARY
  LINES = 19706
  LINE_SAMPLES = 3545
  SAMPLE_TYPE = UNSIGNED_INTEGER
  SAMPLE_BITS = 8
  BANDS = 1
  BAND_STORAGE_TYPE = BAND_SEQUENTIAL
  MAXIMUM = 255
  MEAN = 116.501
  MINIMUM = 1
  STANDARD_DEVIATION = 49.0314
END_OBJECT = IMAGE
/* MAP OBJECT DEFINITIONS */
OBJECT = IMAGE_MAP_PROJECTION
  ^DATA_SET_MAP_PROJECTION_CATALOG= "DSMAP.CAT"
  A_AXIS_RADIUS = 3396.0
  B_AXIS_RADIUS = 3396.0
  C_AXIS_RADIUS = 3396.0
  CENTER_LATITUDE = 0.0
  CENTER_LONGITUDE = 356.0
  COORDINATE_SYSTEM_NAME = PLANETOGRAPHIC
  COORDINATE_SYSTEM_TYPE = "BODY-FIXED ROTATING"
  EASTERNMOST_LONGITUDE = 356.424
  FIRST_STANDARD_PARALLEL = "N/A"
  LINE_FIRST_PIXEL = 1
  LINE_LAST_PIXEL = 19706
  LINE_PROJECTION_OFFSET = 5473.25
  MAP_PROJECTION_ROTATION = 0.0
  MAP_PROJECTION_TYPE = SINUSOIDAL
  MAP_RESOLUTION = 2370.85521546667
  MAP_SCALE = 0.025
  MAXIMUM_LATITUDE = 2.3041
  MINIMUM_LATITUDE = -6.00721
  POSITIVE_LONGITUDE_DIRECTION = EAST
  REFERENCE_LATITUDE = "N/A"
  REFERENCE_LONGITUDE = "N/A"
  SAMPLE_FIRST_PIXEL = 1
  SAMPLE_LAST_PIXEL = 3545
  SAMPLE_PROJECTION_OFFSET = 2344.25
  SECOND_STANDARD_PARALLEL = "N/A"
  WESTERNMOST_LONGITUDE = 354.999
END_OBJECT = IMAGE_MAP_PROJECTION
/* The JPEG2000 image data file associated with this label. */
OBJECT = COMPRESSED_FILE
  FILE_NAME = "HG662_0000_P13.JP2"
  RECORD_TYPE = UNDEFINED
  FILE_RECORDS = UNK
  ENCODING_TYPE = "JP2"
  INTERCHANGE_FORMAT = BINARY
  UNCOMPRESSED_FILE_NAME = "HG662_0000_P13.IMG"
  REQUIRED_STORAGE_BYTES = "69882585"
  ^DESCRIPTION = "JP2INFO.TXT"
END_OBJECT = COMPRESSED_FILE
END
