PDS_VERSION_ID = PDS3
/* FILE DATA ELEMENTS */
RECORD_TYPE = STREAM
/* POINTERS TO DATA OBJECTS */
^COMPRESSED_FILE = "HG670_0000_ND3.JP2"
/* IDENTIFICATION DATA ELEMENTS */
DATA_SET_ID = "MEX-M-HRSC-5-REFDR-MAPPROJECTED-V3.0"
DATA_SET_NAME = "MARS EXPRESS HRSC MAP PROJECTED REFDR V3.0"
DETECTOR_ID = MEX_HRSC_NADIR
EVENT_TYPE = "MARS-REGIONAL-STEREO-Vo-Te-Gl"
INSTRUMENT_HOST_ID = MEX
INSTRUMENT_HOST_NAME = "MARS EXPRESS"
INSTRUMENT_ID = HRSC
INSTRUMENT_NAME = "HIGH RESOLUTION STEREO CAMERA"
MISSION_NAME = "MARS EXPRESS"
MISSION_PHASE_NAME = ME_Phase_36
PROCESSING_LEVEL_ID = 3
PRODUCT_CREATION_TIME = 2018-06-28T11:48:36.000Z
PRODUCT_ID = "HG670_0000_ND3.JP2"
RELEASE_ID = 0138
REVISION_ID = 0000
/* QUALITY DATA ELEMENTS */
DATA_QUALITY_ID = 1
DATA_QUALITY_DESC = "Data calculated based on original SPICE kernels"
/* TIME DATA ELEMENTS */
SPACECRAFT_CLOCK_START_COUNT = "1/0436372009.07311"
SPACECRAFT_CLOCK_STOP_COUNT = "1/0436372175.55649"
START_TIME = 2017-02-28T14:27:27.217Z
STOP_TIME = 2017-02-28T14:29:09.219Z
/* ORBITAL DATA ELEMENTS */
ASCENDING_NODE_LONGITUDE = 260.81
MAXIMUM_RESOLUTION = 13.2
FOOTPRINT_POINT_LATITUDE = (-11.6188,-11.6201,-11.6213,-11.6224, -11.6235,-11.625,-11.4956,-11.2369, -10.9781,-10.7194,-10.3961,-10.1376, -10.0047,-9.87113,-9.73759,-9.60406, -9.47056,-9.33707,-9.20359,-9.07014, -8.93671,-8.80329,-8.6699,-8.53653, -8.40318,-8.26985,-8.13655,-8.00328, -7.80337,-7.60359,-7.47041,-7.33721, -7.20405,-7.07089,-6.93789,-6.73838, -6.60537,-6.47239,-6.27296,-6.13994, -6.00714,-5.80793,-5.67513,-5.54233, -5.40959,-5.27693,-5.14427,-5.01163, -4.99355,-4.99251,-4.99042,-4.98787, -4.98592,-4.98452,-5.11732,-5.25011, -5.38289,-5.5157,-5.64853,-5.78133, -5.91421,-6.11338,-6.24632,-6.3795, -6.5127,-6.64579,-6.84533,-6.97848, -7.1117,-7.24486,-7.44445,-7.57778, -7.77767,-7.91109,-8.04443,-8.17779, -8.31116,-8.44456,-8.57798,-8.71138, -8.84483,-8.97838,-9.11188,-9.24541, -9.37895,-9.51252,-9.6461,-9.7797, -9.91331,-10.1136,-10.3723,-10.6311, -10.7605,-10.8899,-11.0193,-11.1488, -11.2782,-11.4076,-11.5371,-11.6188)
FOOTPRINT_POINT_LONGITUDE = (256.835,256.658,256.468,256.279, 256.067,255.861,255.86,255.859,255.857, 255.855,255.853,255.851,255.85,255.849, 255.848,255.847,255.846,255.844,255.843 ,255.842,255.841,255.839,255.838, 255.837,255.836,255.834,255.833,255.832 ,255.829,255.828,255.826,255.824, 255.822,255.819,255.819,255.818,255.816 ,255.814,255.812,255.808,255.807, 255.806,255.804,255.801,255.799,255.798 ,255.796,255.794,255.972,256.102, 256.328,256.638,256.853,257.005,257.003 ,257.003,257.003,257.003,257.003, 257.004,257.005,257.009,257.01,257.007, 257.005,257.005,257.007,257.007,257.007 ,257.008,257.012,257.011,257.013, 257.012,257.012,257.013,257.013,257.014 ,257.015,257.016,257.017,257.017, 257.018,257.019,257.019,257.02,257.021, 257.022,257.022,257.023,257.025,257.026 ,257.027,257.028,257.029,257.029,257.03 ,257.031,257.032,256.835)
ORBIT_NUMBER = 16670
ORBITAL_ECCENTRICITY = 0.579
ORBITAL_INCLINATION = 86.92
ORBITAL_SEMIMAJOR_AXIS = 8866.23
PERIAPSIS_ALTITUDE = 336.15
PERIAPSIS_ARGUMENT_ANGLE = 345.65
PERIAPSIS_TIME = 2017-02-28T14:26:47.000Z
SPACECRAFT_ORIENTATION = (0.0,1.0,0.0)
^MEX_ORIENTATION_DESC = "MEX_ORIENTATION_DESC.TXT"
SPACECRAFT_POINTING_MODE = ACROSSTRACK
^MEX_POINTING_DESC = "MEX_POINTING_DESC.TXT"
RIGHT_ASCENSION = -1e+32
DECLINATION = -1e+32
OFFSET_ANGLE = -0.05
SPACECRAFT_SOLAR_DISTANCE = 2.20293e+08
TARGET_NAME = MARS
/* CAMERA DATA ELEMENTS */
DETECTOR_TEMPERATURE = 18.3705
FOCAL_PLANE_TEMPERATURE = 8.7872
INST_CMPRS_NAME = "DISCRETE COSINE TRANSFORMATION (DCT)"
INST_CMPRS_RATIO = 7.07573
INST_CMPRS_QUALITY = 0
INST_CMPRS_QUANTZ_TBL_ID = 0
INSTRUMENT_TEMPERATURE = 10.4184
LENS_TEMPERATURE = 9.6028
MACROPIXEL_SIZE = 1
MISSING_FRAMES = 0
PIXEL_SUBSAMPLING_FLAG = N
SIGNAL_CHAIN_ID = 0
/* RADIOMETRIC DATA ELEMENTS */
BANDWIDTH = 177.0
CENTER_FILTER_WAVELENGTH = 677.5
RADIANCE_OFFSET = 2.61097
RADIANCE_SCALING_FACTOR = 0.0212366
REFLECTANCE_SCALING_FACTOR = 0.000547487
MEX:REFLECTANCE_OFFSET = 0.0673115
/* IMAGE OBJECT DEFINITIONS */
OBJECT = IMAGE
  INTERCHANGE_FORMAT = BINARY
  LINES = 31498
  LINE_SAMPLES = 6302
  SAMPLE_TYPE = UNSIGNED_INTEGER
  SAMPLE_BITS = 8
  BANDS = 1
  BAND_STORAGE_TYPE = BAND_SEQUENTIAL
  MAXIMUM = 255
  MEAN = 99.1947
  MINIMUM = 1
  STANDARD_DEVIATION = 24.18
END_OBJECT = IMAGE
/* MAP OBJECT DEFINITIONS */
OBJECT = IMAGE_MAP_PROJECTION
  ^DATA_SET_MAP_PROJECTION_CATALOG= "DSMAP.CAT"
  A_AXIS_RADIUS = 3396.0
  B_AXIS_RADIUS = 3396.0
  C_AXIS_RADIUS = 3396.0
  CENTER_LATITUDE = 0.0
  CENTER_LONGITUDE = 256.0
  COORDINATE_SYSTEM_NAME = PLANETOGRAPHIC
  COORDINATE_SYSTEM_TYPE = "BODY-FIXED ROTATING"
  EASTERNMOST_LONGITUDE = 257.032
  FIRST_STANDARD_PARALLEL = "N/A"
  LINE_FIRST_PIXEL = 1
  LINE_LAST_PIXEL = 31498
  LINE_PROJECTION_OFFSET = -23623.0
  MAP_PROJECTION_ROTATION = 0.0
  MAP_PROJECTION_TYPE = SINUSOIDAL
  MAP_RESOLUTION = 4741.71043093333
  MAP_SCALE = 0.0125
  MAXIMUM_LATITUDE = -4.98452
  MINIMUM_LATITUDE = -11.625
  POSITIVE_LONGITUDE_DIRECTION = EAST
  REFERENCE_LATITUDE = "N/A"
  REFERENCE_LONGITUDE = "N/A"
  SAMPLE_FIRST_PIXEL = 1
  SAMPLE_LAST_PIXEL = 6302
  SAMPLE_PROJECTION_OFFSET = 1217.0
  SECOND_STANDARD_PARALLEL = "N/A"
  WESTERNMOST_LONGITUDE = 255.794
END_OBJECT = IMAGE_MAP_PROJECTION
/* The JPEG2000 image data file associated with this label. */
OBJECT = COMPRESSED_FILE
  FILE_NAME = "HG670_0000_ND3.JP2"
  RECORD_TYPE = UNDEFINED
  FILE_RECORDS = UNK
  ENCODING_TYPE = "JP2"
  INTERCHANGE_FORMAT = BINARY
  UNCOMPRESSED_FILE_NAME = "HG670_0000_ND3.IMG"
  REQUIRED_STORAGE_BYTES = "198531906"
  ^DESCRIPTION = "JP2INFO.TXT"
END_OBJECT = COMPRESSED_FILE
END
