PDS_VERSION_ID = PDS3
/* FILE DATA ELEMENTS */
RECORD_TYPE = STREAM
/* POINTERS TO DATA OBJECTS */
^COMPRESSED_FILE = "HG670_0000_P13.JP2"
/* IDENTIFICATION DATA ELEMENTS */
DATA_SET_ID = "MEX-M-HRSC-5-REFDR-MAPPROJECTED-V3.0"
DATA_SET_NAME = "MARS EXPRESS HRSC MAP PROJECTED REFDR V3.0"
DETECTOR_ID = MEX_HRSC_P1
EVENT_TYPE = "MARS-REGIONAL-STEREO-Vo-Te-Gl"
INSTRUMENT_HOST_ID = MEX
INSTRUMENT_HOST_NAME = "MARS EXPRESS"
INSTRUMENT_ID = HRSC
INSTRUMENT_NAME = "HIGH RESOLUTION STEREO CAMERA"
MISSION_NAME = "MARS EXPRESS"
MISSION_PHASE_NAME = ME_Phase_36
PROCESSING_LEVEL_ID = 3
PRODUCT_CREATION_TIME = 2018-06-28T11:48:36.000Z
PRODUCT_ID = "HG670_0000_P13.JP2"
RELEASE_ID = 0138
REVISION_ID = 0000
/* QUALITY DATA ELEMENTS */
DATA_QUALITY_ID = 1
DATA_QUALITY_DESC = "Data calculated based on original SPICE kernels"
/* TIME DATA ELEMENTS */
SPACECRAFT_CLOCK_START_COUNT = "1/0436372009.07311"
SPACECRAFT_CLOCK_STOP_COUNT = "1/0436372175.55649"
START_TIME = 2017-02-28T14:27:46.979Z
STOP_TIME = 2017-02-28T14:29:30.457Z
/* ORBITAL DATA ELEMENTS */
ASCENDING_NODE_LONGITUDE = 260.81
MAXIMUM_RESOLUTION = 27.2
FOOTPRINT_POINT_LATITUDE = (-11.624,-11.6248,-11.6258,-11.627, -11.6278,-11.5343,-11.4048,-11.205, -11.0714,-10.8711,-10.7375,-10.6041, -10.4708,-10.2709,-10.1377,-10.0045, -9.87141,-9.73832,-9.60533,-9.47228, -9.33931,-9.20649,-9.07368,-8.87455, -8.74181,-8.54284,-8.4102,-8.27775, -8.14525,-8.01269,-7.81462,-7.68158, -7.483,-7.35182,-7.2221,-7.02425, -6.88904,-6.75709,-6.55959,-6.42793, -6.29918,-6.10323,-5.96825,-5.83712, -5.70667,-5.5115,-5.37972,-5.24855, -5.11794,-4.98726,-4.96045,-4.95915, -4.95802,-4.96341,-4.95658,-5.02328, -5.21657,-5.34677,-5.47733,-5.60826, -5.74043,-5.93802,-6.138,-6.39936, -6.58954,-6.72098,-6.85719,-6.98972, -7.11849,-7.25098,-7.38414,-7.51853, -7.65005,-7.78691,-8.04568,-8.17805, -8.31074,-8.44359,-8.57619,-8.70909, -8.84208,-9.04095,-9.24036,-9.37334, -9.57279,-9.70598,-9.83912,-9.97226, -10.1053,-10.2384,-10.3715,-10.5048, -10.6382,-10.7716,-10.9718,-11.1053, -11.239,-11.3728,-11.5023,-11.624)
FOOTPRINT_POINT_LONGITUDE = (256.972,256.808,256.551,256.282, 256.083,255.858,255.857,255.856,255.855 ,255.854,255.853,255.851,255.85,255.849 ,255.847,255.846,255.845,255.844, 255.843,255.841,255.84,255.839,255.837, 255.835,255.834,255.832,255.83,255.829, 255.828,255.826,255.824,255.822,255.82, 255.818,255.816,255.813,255.813,255.811 ,255.808,255.807,255.804,255.8,255.8, 255.798,255.796,255.792,255.791,255.789 ,255.787,255.784,255.962,256.104, 256.271,256.509,256.795,257.015,257.014 ,257.014,257.014,257.014,257.015, 257.016,257.018,257.017,257.014,257.014 ,257.017,257.018,257.016,257.017, 257.018,257.02,257.02,257.023,257.02, 257.021,257.022,257.022,257.023,257.023 ,257.024,257.025,257.026,257.026, 257.027,257.028,257.029,257.029,257.03, 257.03,257.031,257.032,257.032,257.033, 257.034,257.035,257.035,257.036,257.037 ,256.972)
ORBIT_NUMBER = 16670
ORBITAL_ECCENTRICITY = 0.579
ORBITAL_INCLINATION = 86.92
ORBITAL_SEMIMAJOR_AXIS = 8866.23
PERIAPSIS_ALTITUDE = 336.15
PERIAPSIS_ARGUMENT_ANGLE = 345.65
PERIAPSIS_TIME = 2017-02-28T14:26:47.000Z
SPACECRAFT_ORIENTATION = (0.0,1.0,0.0)
^MEX_ORIENTATION_DESC = "MEX_ORIENTATION_DESC.TXT"
SPACECRAFT_POINTING_MODE = ACROSSTRACK
^MEX_POINTING_DESC = "MEX_POINTING_DESC.TXT"
RIGHT_ASCENSION = -1e+32
DECLINATION = -1e+32
OFFSET_ANGLE = -0.05
SPACECRAFT_SOLAR_DISTANCE = 2.20293e+08
TARGET_NAME = MARS
/* CAMERA DATA ELEMENTS */
DETECTOR_TEMPERATURE = 17.9627
FOCAL_PLANE_TEMPERATURE = 8.7872
INST_CMPRS_NAME = "DISCRETE COSINE TRANSFORMATION (DCT)"
INST_CMPRS_RATIO = 10.3409
INST_CMPRS_QUALITY = 0
INST_CMPRS_QUANTZ_TBL_ID = 0
INSTRUMENT_TEMPERATURE = 10.4184
LENS_TEMPERATURE = 9.6028
MACROPIXEL_SIZE = 2
MISSING_FRAMES = 0
PIXEL_SUBSAMPLING_FLAG = N
SIGNAL_CHAIN_ID = 3
/* RADIOMETRIC DATA ELEMENTS */
BANDWIDTH = 174.0
CENTER_FILTER_WAVELENGTH = 675.0
RADIANCE_OFFSET = 3.06068
RADIANCE_SCALING_FACTOR = 0.0209646
REFLECTANCE_SCALING_FACTOR = 0.000547236
MEX:REFLECTANCE_OFFSET = 0.0798922
/* IMAGE OBJECT DEFINITIONS */
OBJECT = IMAGE
  INTERCHANGE_FORMAT = BINARY
  LINES = 15749
  LINE_SAMPLES = 3151
  SAMPLE_TYPE = UNSIGNED_INTEGER
  SAMPLE_BITS = 8
  BANDS = 1
  BAND_STORAGE_TYPE = BAND_SEQUENTIAL
  MAXIMUM = 255
  MEAN = 98.1293
  MINIMUM = 1
  STANDARD_DEVIATION = 24.7891
END_OBJECT = IMAGE
/* MAP OBJECT DEFINITIONS */
OBJECT = IMAGE_MAP_PROJECTION
  ^DATA_SET_MAP_PROJECTION_CATALOG= "DSMAP.CAT"
  A_AXIS_RADIUS = 3396.0
  B_AXIS_RADIUS = 3396.0
  C_AXIS_RADIUS = 3396.0
  CENTER_LATITUDE = 0.0
  CENTER_LONGITUDE = 256.0
  COORDINATE_SYSTEM_NAME = PLANETOGRAPHIC
  COORDINATE_SYSTEM_TYPE = "BODY-FIXED ROTATING"
  EASTERNMOST_LONGITUDE = 257.037
  FIRST_STANDARD_PARALLEL = "N/A"
  LINE_FIRST_PIXEL = 1
  LINE_LAST_PIXEL = 15749
  LINE_PROJECTION_OFFSET = -11811.75
  MAP_PROJECTION_ROTATION = 0.0
  MAP_PROJECTION_TYPE = SINUSOIDAL
  MAP_RESOLUTION = 2370.85521546667
  MAP_SCALE = 0.025
  MAXIMUM_LATITUDE = -4.95658
  MINIMUM_LATITUDE = -11.6278
  POSITIVE_LONGITUDE_DIRECTION = EAST
  REFERENCE_LATITUDE = "N/A"
  REFERENCE_LONGITUDE = "N/A"
  SAMPLE_FIRST_PIXEL = 1
  SAMPLE_LAST_PIXEL = 3151
  SAMPLE_PROJECTION_OFFSET = 608.25
  SECOND_STANDARD_PARALLEL = "N/A"
  WESTERNMOST_LONGITUDE = 255.784
END_OBJECT = IMAGE_MAP_PROJECTION
/* The JPEG2000 image data file associated with this label. */
OBJECT = COMPRESSED_FILE
  FILE_NAME = "HG670_0000_P13.JP2"
  RECORD_TYPE = UNDEFINED
  FILE_RECORDS = UNK
  ENCODING_TYPE = "JP2"
  INTERCHANGE_FORMAT = BINARY
  UNCOMPRESSED_FILE_NAME = "HG670_0000_P13.IMG"
  REQUIRED_STORAGE_BYTES = "49650307"
  ^DESCRIPTION = "JP2INFO.TXT"
END_OBJECT = COMPRESSED_FILE
END
