PDS_VERSION_ID = PDS3
/* FILE DATA ELEMENTS */
RECORD_TYPE = STREAM
/* POINTERS TO DATA OBJECTS */
^COMPRESSED_FILE = "HG677_0000_GR3.JP2"
/* IDENTIFICATION DATA ELEMENTS */
DATA_SET_ID = "MEX-M-HRSC-5-REFDR-MAPPROJECTED-V3.0"
DATA_SET_NAME = "MARS EXPRESS HRSC MAP PROJECTED REFDR V3.0"
DETECTOR_ID = MEX_HRSC_GREEN
EVENT_TYPE = "MARS-REGIONAL-MAPPING-Vo-Te-Gl"
INSTRUMENT_HOST_ID = MEX
INSTRUMENT_HOST_NAME = "MARS EXPRESS"
INSTRUMENT_ID = HRSC
INSTRUMENT_NAME = "HIGH RESOLUTION STEREO CAMERA"
MISSION_NAME = "MARS EXPRESS"
MISSION_PHASE_NAME = ME_Phase_36
PROCESSING_LEVEL_ID = 3
PRODUCT_CREATION_TIME = 2018-06-28T11:48:36.000Z
PRODUCT_ID = "HG677_0000_GR3.JP2"
RELEASE_ID = 0138
REVISION_ID = 0000
/* QUALITY DATA ELEMENTS */
DATA_QUALITY_ID = 1
DATA_QUALITY_DESC = "Data calculated based on original SPICE kernels"
/* TIME DATA ELEMENTS */
SPACECRAFT_CLOCK_START_COUNT = "1/0436547957.07306"
SPACECRAFT_CLOCK_STOP_COUNT = "1/0436548168.07543"
START_TIME = 2017-03-02T15:20:12.065Z
STOP_TIME = 2017-03-02T15:22:28.121Z
/* ORBITAL DATA ELEMENTS */
ASCENDING_NODE_LONGITUDE = 260.67
MAXIMUM_RESOLUTION = 55.9
FOOTPRINT_POINT_LATITUDE = (-33.6358,-33.6345,-33.6321,-33.6298, -33.6264,-33.6238,-33.527,-33.345, -33.1628,-32.9804,-32.798,-32.6154, -32.4326,-32.2498,-32.0668,-31.8837, -31.7004,-31.5172,-31.3342,-31.1507, -30.9671,-30.6909,-30.415,-30.1387, -29.9546,-29.7702,-29.5857,-29.4011, -29.2165,-29.0318,-28.747,-28.5621, -28.3772,-28.1925,-27.9195,-27.7643, -27.5318,-27.2211,-26.9111,-26.601, -26.4455,-26.2898,-26.134,-25.9783, -25.8224,-25.6665,-25.5106,-25.3546, -25.1985,-24.8871,-24.8891,-24.89, -24.8909,-24.8912,-24.8913,-25.1265, -25.2827,-25.4389,-25.5951,-25.8293, -25.9853,-26.1413,-26.3752,-26.531, -26.6868,-26.8426,-26.9983,-27.3086, -27.4647,-27.6204,-27.7759,-27.9313, -28.2039,-28.3891,-28.574,-28.7592, -29.0448,-29.2296,-29.4143,-29.599, -29.8759,-30.1526,-30.3369,-30.5211, -30.7053,-30.8892,-31.073,-31.2571, -31.4408,-31.6241,-31.8077,-31.9911, -32.1744,-32.3575,-32.632,-32.8147, -33.0888,-33.2716,-33.454,-33.6358)
FOOTPRINT_POINT_LONGITUDE = (260.887,260.653,260.341,260.107, 259.811,259.624,259.409,259.416,259.422 ,259.429,259.436,259.442,259.449, 259.456,259.462,259.468,259.475,259.481 ,259.486,259.492,259.497,259.507, 259.515,259.524,259.529,259.535,259.54, 259.545,259.55,259.555,259.562,259.566, 259.57,259.574,259.583,259.586,259.59, 259.597,259.601,259.605,259.608,259.611 ,259.614,259.616,259.619,259.622, 259.625,259.627,259.63,259.635,259.958, 260.157,260.455,260.705,260.879,260.973 ,260.975,260.977,260.978,260.981, 260.983,260.984,260.987,260.989,260.991 ,260.992,260.994,260.995,260.998,261.0, 261.002,261.004,261.007,261.009,261.011 ,261.013,261.016,261.018,261.02,261.022 ,261.026,261.029,261.032,261.034, 261.036,261.038,261.04,261.043,261.045, 261.047,261.049,261.052,261.054,261.056 ,261.059,261.061,261.065,261.067,261.07 ,260.887)
ORBIT_NUMBER = 16677
ORBITAL_ECCENTRICITY = 0.579
ORBITAL_INCLINATION = 86.93
ORBITAL_SEMIMAJOR_AXIS = 8864.14
PERIAPSIS_ALTITUDE = 335.74
PERIAPSIS_ARGUMENT_ANGLE = 344.45
PERIAPSIS_TIME = 2017-03-02T15:24:48.000Z
SPACECRAFT_ORIENTATION = (0.0,1.0,0.0)
^MEX_ORIENTATION_DESC = "MEX_ORIENTATION_DESC.TXT"
SPACECRAFT_POINTING_MODE = NADIR
^MEX_POINTING_DESC = "MEX_POINTING_DESC.TXT"
RIGHT_ASCENSION = -1e+32
DECLINATION = -1e+32
OFFSET_ANGLE = -1e+32
SPACECRAFT_SOLAR_DISTANCE = 2.20678e+08
TARGET_NAME = MARS
/* CAMERA DATA ELEMENTS */
DETECTOR_TEMPERATURE = 18.3705
FOCAL_PLANE_TEMPERATURE = 8.3794
INST_CMPRS_NAME = "DISCRETE COSINE TRANSFORMATION (DCT)"
INST_CMPRS_RATIO = 11.1597
INST_CMPRS_QUALITY = 0
INST_CMPRS_QUANTZ_TBL_ID = 0
INSTRUMENT_TEMPERATURE = 11.6418
LENS_TEMPERATURE = 8.5833
MACROPIXEL_SIZE = 4
MISSING_FRAMES = 1
PIXEL_SUBSAMPLING_FLAG = N
SIGNAL_CHAIN_ID = 2
/* RADIOMETRIC DATA ELEMENTS */
BANDWIDTH = 88.0
CENTER_FILTER_WAVELENGTH = 538.0
RADIANCE_OFFSET = 1.25973
RADIANCE_SCALING_FACTOR = 0.0033094
REFLECTANCE_SCALING_FACTOR = 0.000138757
MEX:REFLECTANCE_OFFSET = 0.0528183
/* IMAGE OBJECT DEFINITIONS */
OBJECT = IMAGE
  INTERCHANGE_FORMAT = BINARY
  LINES = 10369
  LINE_SAMPLES = 1768
  SAMPLE_TYPE = UNSIGNED_INTEGER
  SAMPLE_BITS = 8
  BANDS = 1
  BAND_STORAGE_TYPE = BAND_SEQUENTIAL
  MAXIMUM = 255
  MEAN = 142.878
  MINIMUM = 1
  STANDARD_DEVIATION = 28.9348
END_OBJECT = IMAGE
/* MAP OBJECT DEFINITIONS */
OBJECT = IMAGE_MAP_PROJECTION
  ^DATA_SET_MAP_PROJECTION_CATALOG= "DSMAP.CAT"
  A_AXIS_RADIUS = 3396.0
  B_AXIS_RADIUS = 3396.0
  C_AXIS_RADIUS = 3396.0
  CENTER_LATITUDE = 0.0
  CENTER_LONGITUDE = 260.0
  COORDINATE_SYSTEM_NAME = PLANETOGRAPHIC
  COORDINATE_SYSTEM_TYPE = "BODY-FIXED ROTATING"
  EASTERNMOST_LONGITUDE = 261.07
  FIRST_STANDARD_PARALLEL = "N/A"
  LINE_FIRST_PIXEL = 1
  LINE_LAST_PIXEL = 10369
  LINE_PROJECTION_OFFSET = -29517.625
  MAP_PROJECTION_ROTATION = 0.0
  MAP_PROJECTION_TYPE = SINUSOIDAL
  MAP_RESOLUTION = 1185.42760773333
  MAP_SCALE = 0.05
  MAXIMUM_LATITUDE = -24.8871
  MINIMUM_LATITUDE = -33.6358
  POSITIVE_LONGITUDE_DIRECTION = EAST
  REFERENCE_LATITUDE = "N/A"
  REFERENCE_LONGITUDE = "N/A"
  SAMPLE_FIRST_PIXEL = 1
  SAMPLE_LAST_PIXEL = 1768
  SAMPLE_PROJECTION_OFFSET = 650.875
  SECOND_STANDARD_PARALLEL = "N/A"
  WESTERNMOST_LONGITUDE = 259.409
END_OBJECT = IMAGE_MAP_PROJECTION
/* The JPEG2000 image data file associated with this label. */
OBJECT = COMPRESSED_FILE
  FILE_NAME = "HG677_0000_GR3.JP2"
  RECORD_TYPE = UNDEFINED
  FILE_RECORDS = UNK
  ENCODING_TYPE = "JP2"
  INTERCHANGE_FORMAT = BINARY
  UNCOMPRESSED_FILE_NAME = "HG677_0000_GR3.IMG"
  REQUIRED_STORAGE_BYTES = "18353608"
  ^DESCRIPTION = "JP2INFO.TXT"
END_OBJECT = COMPRESSED_FILE
END
