PDS_VERSION_ID = PDS3
/* FILE DATA ELEMENTS */
RECORD_TYPE = STREAM
/* POINTERS TO DATA OBJECTS */
^COMPRESSED_FILE = "HG677_0000_ND3.JP2"
/* IDENTIFICATION DATA ELEMENTS */
DATA_SET_ID = "MEX-M-HRSC-5-REFDR-MAPPROJECTED-V3.0"
DATA_SET_NAME = "MARS EXPRESS HRSC MAP PROJECTED REFDR V3.0"
DETECTOR_ID = MEX_HRSC_NADIR
EVENT_TYPE = "MARS-REGIONAL-MAPPING-Vo-Te-Gl"
INSTRUMENT_HOST_ID = MEX
INSTRUMENT_HOST_NAME = "MARS EXPRESS"
INSTRUMENT_ID = HRSC
INSTRUMENT_NAME = "HIGH RESOLUTION STEREO CAMERA"
MISSION_NAME = "MARS EXPRESS"
MISSION_PHASE_NAME = ME_Phase_36
PROCESSING_LEVEL_ID = 3
PRODUCT_CREATION_TIME = 2018-06-28T11:48:36.000Z
PRODUCT_ID = "HG677_0000_ND3.JP2"
RELEASE_ID = 0138
REVISION_ID = 0000
/* QUALITY DATA ELEMENTS */
DATA_QUALITY_ID = 1
DATA_QUALITY_DESC = "Data calculated based on original SPICE kernels"
/* TIME DATA ELEMENTS */
SPACECRAFT_CLOCK_START_COUNT = "1/0436547957.07306"
SPACECRAFT_CLOCK_STOP_COUNT = "1/0436548168.07543"
START_TIME = 2017-03-02T15:20:05.613Z
STOP_TIME = 2017-03-02T15:22:22.606Z
/* ORBITAL DATA ELEMENTS */
ASCENDING_NODE_LONGITUDE = 260.67
MAXIMUM_RESOLUTION = 14
FOOTPRINT_POINT_LATITUDE = (-33.6461,-33.6441,-33.6421,-33.6389, -33.6344,-33.631,-33.3572,-33.1751, -32.993,-32.8106,-32.6282,-32.4456, -32.2629,-32.0801,-31.8971,-31.714, -31.5308,-31.3474,-31.1639,-30.9803, -30.7966,-30.6127,-30.4288,-30.2446, -30.0605,-29.8762,-29.6917,-29.5072, -29.3225,-29.1377,-28.9528,-28.7677, -28.5826,-28.3974,-28.212,-28.0266, -27.8412,-27.5678,-27.2564,-26.9447, -26.6326,-26.3204,-26.008,-25.8517, -25.6953,-25.5389,-25.3824,-25.2258, -25.0692,-24.901,-24.9022,-24.9033, -24.9035,-24.9033,-25.0601,-25.2169, -25.3736,-25.5303,-25.6869,-25.8434, -25.9999,-26.1563,-26.3127,-26.6252, -26.9375,-27.2496,-27.5614,-27.8326, -28.0184,-28.2041,-28.3897,-28.5752, -28.7606,-28.9459,-29.1311,-29.3161, -29.5011,-29.6859,-29.8707,-30.0553, -30.2398,-30.4242,-30.6085,-30.7926, -30.9767,-31.1606,-31.3444,-31.5281, -31.7116,-31.8951,-32.0784,-32.2616, -32.4446,-32.6275,-32.8103,-32.993, -33.1755,-33.3579,-33.5402,-33.6461)
FOOTPRINT_POINT_LONGITUDE = (260.914,260.53,260.279,259.962,259.611 ,259.389,259.4,259.407,259.414,259.421, 259.428,259.434,259.441,259.447,259.454 ,259.461,259.466,259.472,259.478, 259.484,259.49,259.496,259.502,259.507, 259.514,259.519,259.525,259.531,259.535 ,259.54,259.546,259.549,259.554,259.558 ,259.562,259.568,259.573,259.578, 259.585,259.59,259.594,259.6,259.606, 259.608,259.611,259.614,259.617,259.619 ,259.622,259.744,259.983,260.342, 260.661,260.887,260.975,260.977,260.979 ,260.981,260.982,260.984,260.986, 260.988,260.989,260.993,260.997,261.0, 261.003,261.007,261.009,261.011,261.013 ,261.015,261.017,261.019,261.022, 261.024,261.026,261.028,261.03,261.032, 261.035,261.037,261.04,261.042,261.044, 261.047,261.049,261.051,261.053,261.056 ,261.058,261.06,261.063,261.065,261.067 ,261.069,261.072,261.075,261.077, 260.914)
ORBIT_NUMBER = 16677
ORBITAL_ECCENTRICITY = 0.579
ORBITAL_INCLINATION = 86.93
ORBITAL_SEMIMAJOR_AXIS = 8864.14
PERIAPSIS_ALTITUDE = 335.74
PERIAPSIS_ARGUMENT_ANGLE = 344.45
PERIAPSIS_TIME = 2017-03-02T15:24:48.000Z
SPACECRAFT_ORIENTATION = (0.0,1.0,0.0)
^MEX_ORIENTATION_DESC = "MEX_ORIENTATION_DESC.TXT"
SPACECRAFT_POINTING_MODE = NADIR
^MEX_POINTING_DESC = "MEX_POINTING_DESC.TXT"
RIGHT_ASCENSION = -1e+32
DECLINATION = -1e+32
OFFSET_ANGLE = -1e+32
SPACECRAFT_SOLAR_DISTANCE = 2.20678e+08
TARGET_NAME = MARS
/* CAMERA DATA ELEMENTS */
DETECTOR_TEMPERATURE = 18.3705
FOCAL_PLANE_TEMPERATURE = 8.3794
INST_CMPRS_NAME = "DISCRETE COSINE TRANSFORMATION (DCT)"
INST_CMPRS_RATIO = 6.12047
INST_CMPRS_QUALITY = 0
INST_CMPRS_QUANTZ_TBL_ID = 0
INSTRUMENT_TEMPERATURE = 11.6418
LENS_TEMPERATURE = 8.5833
MACROPIXEL_SIZE = 1
MISSING_FRAMES = 0
PIXEL_SUBSAMPLING_FLAG = N
SIGNAL_CHAIN_ID = 0
/* RADIOMETRIC DATA ELEMENTS */
BANDWIDTH = 177.0
CENTER_FILTER_WAVELENGTH = 677.5
RADIANCE_OFFSET = 3.15988
RADIANCE_SCALING_FACTOR = 0.0127094
REFLECTANCE_SCALING_FACTOR = 0.000328797
MEX:REFLECTANCE_OFFSET = 0.0817471
/* IMAGE OBJECT DEFINITIONS */
OBJECT = IMAGE
  INTERCHANGE_FORMAT = BINARY
  LINES = 41475
  LINE_SAMPLES = 7069
  SAMPLE_TYPE = UNSIGNED_INTEGER
  SAMPLE_BITS = 8
  BANDS = 1
  BAND_STORAGE_TYPE = BAND_SEQUENTIAL
  MAXIMUM = 255
  MEAN = 126.719
  MINIMUM = 1
  STANDARD_DEVIATION = 24.7814
END_OBJECT = IMAGE
/* MAP OBJECT DEFINITIONS */
OBJECT = IMAGE_MAP_PROJECTION
  ^DATA_SET_MAP_PROJECTION_CATALOG= "DSMAP.CAT"
  A_AXIS_RADIUS = 3396.0
  B_AXIS_RADIUS = 3396.0
  C_AXIS_RADIUS = 3396.0
  CENTER_LATITUDE = 0.0
  CENTER_LONGITUDE = 260.0
  COORDINATE_SYSTEM_NAME = PLANETOGRAPHIC
  COORDINATE_SYSTEM_TYPE = "BODY-FIXED ROTATING"
  EASTERNMOST_LONGITUDE = 261.077
  FIRST_STANDARD_PARALLEL = "N/A"
  LINE_FIRST_PIXEL = 1
  LINE_LAST_PIXEL = 41475
  LINE_PROJECTION_OFFSET = -118069.0
  MAP_PROJECTION_ROTATION = 0.0
  MAP_PROJECTION_TYPE = SINUSOIDAL
  MAP_RESOLUTION = 4741.71043093333
  MAP_SCALE = 0.0125
  MAXIMUM_LATITUDE = -24.901
  MINIMUM_LATITUDE = -33.6461
  POSITIVE_LONGITUDE_DIRECTION = EAST
  REFERENCE_LATITUDE = "N/A"
  REFERENCE_LONGITUDE = "N/A"
  SAMPLE_FIRST_PIXEL = 1
  SAMPLE_LAST_PIXEL = 7069
  SAMPLE_PROJECTION_OFFSET = 2605.0
  SECOND_STANDARD_PARALLEL = "N/A"
  WESTERNMOST_LONGITUDE = 259.389
END_OBJECT = IMAGE_MAP_PROJECTION
/* The JPEG2000 image data file associated with this label. */
OBJECT = COMPRESSED_FILE
  FILE_NAME = "HG677_0000_ND3.JP2"
  RECORD_TYPE = UNDEFINED
  FILE_RECORDS = UNK
  ENCODING_TYPE = "JP2"
  INTERCHANGE_FORMAT = BINARY
  UNCOMPRESSED_FILE_NAME = "HG677_0000_ND3.IMG"
  REQUIRED_STORAGE_BYTES = "293222120"
  ^DESCRIPTION = "JP2INFO.TXT"
END_OBJECT = COMPRESSED_FILE
END
