PDS_VERSION_ID = PDS3
/* FILE DATA ELEMENTS */
RECORD_TYPE = STREAM
/* POINTERS TO DATA OBJECTS */
^COMPRESSED_FILE = "HG677_0000_RE3.JP2"
/* IDENTIFICATION DATA ELEMENTS */
DATA_SET_ID = "MEX-M-HRSC-5-REFDR-MAPPROJECTED-V3.0"
DATA_SET_NAME = "MARS EXPRESS HRSC MAP PROJECTED REFDR V3.0"
DETECTOR_ID = MEX_HRSC_RED
EVENT_TYPE = "MARS-REGIONAL-MAPPING-Vo-Te-Gl"
INSTRUMENT_HOST_ID = MEX
INSTRUMENT_HOST_NAME = "MARS EXPRESS"
INSTRUMENT_ID = HRSC
INSTRUMENT_NAME = "HIGH RESOLUTION STEREO CAMERA"
MISSION_NAME = "MARS EXPRESS"
MISSION_PHASE_NAME = ME_Phase_36
PROCESSING_LEVEL_ID = 3
PRODUCT_CREATION_TIME = 2018-06-28T11:48:36.000Z
PRODUCT_ID = "HG677_0000_RE3.JP2"
RELEASE_ID = 0138
REVISION_ID = 0000
/* QUALITY DATA ELEMENTS */
DATA_QUALITY_ID = 1
DATA_QUALITY_DESC = "Data calculated based on original SPICE kernels"
/* TIME DATA ELEMENTS */
SPACECRAFT_CLOCK_START_COUNT = "1/0436547957.07306"
SPACECRAFT_CLOCK_STOP_COUNT = "1/0436548168.07543"
START_TIME = 2017-03-02T15:19:32.274Z
STOP_TIME = 2017-03-02T15:21:55.211Z
/* ORBITAL DATA ELEMENTS */
ASCENDING_NODE_LONGITUDE = 260.67
MAXIMUM_RESOLUTION = 60
FOOTPRINT_POINT_LATITUDE = (-33.6942,-33.6935,-33.6915,-33.6871, -33.684,-33.6794,-33.5925,-33.4115, -33.141,-32.9608,-32.779,-32.603, -32.3378,-32.161,-31.9835,-31.8061, -31.6293,-31.4559,-31.2799,-31.1062, -30.846,-30.6755,-30.5012,-30.3253, -30.1536,-29.9785,-29.8031,-29.6289, -29.4543,-29.2788,-29.1015,-28.9264, -28.7477,-28.5712,-28.3937,-28.2154, -28.0426,-27.868,-27.5993,-27.4171, -27.1501,-26.9693,-26.787,-26.6054, -26.426,-26.247,-26.0679,-25.8056, -25.655,-25.3542,-25.2036,-24.9367, -24.9379,-24.9395,-24.9399,-24.9398, -24.9397,-25.015,-25.1661,-25.3169, -25.4675,-25.7687,-26.0232,-26.2026, -26.3818,-26.5607,-26.7396,-26.9183, -27.0969,-27.2779,-27.5434,-27.8099, -27.9877,-28.1652,-28.4321,-28.6102, -28.787,-29.0515,-29.2281,-29.4052, -29.6695,-29.8446,-30.0203,-30.2832, -30.5455,-30.7204,-30.9826,-31.1573, -31.3321,-31.5055,-31.769,-31.9468, -32.1249,-32.3032,-32.5694,-32.7471, -32.9278,-33.1091,-33.3795,-33.6942)
FOOTPRINT_POINT_LONGITUDE = (261.056,260.808,260.478,260.064,259.85 ,259.585,259.356,259.364,259.375, 259.383,259.39,259.397,259.407,259.414, 259.421,259.428,259.434,259.441,259.446 ,259.452,259.461,259.469,259.474,259.48 ,259.486,259.492,259.497,259.503, 259.509,259.514,259.519,259.524,259.528 ,259.533,259.537,259.542,259.548, 259.553,259.559,259.562,259.568,259.571 ,259.574,259.577,259.58,259.584,259.588 ,259.593,259.596,259.602,259.605, 259.699,259.879,260.137,260.304,260.6, 260.768,260.993,260.994,260.996,260.999 ,261.003,261.006,261.008,261.011, 261.013,261.016,261.018,261.021,261.022 ,261.026,261.03,261.033,261.035,261.039 ,261.041,261.044,261.048,261.05,261.052 ,261.056,261.059,261.062,261.066,261.07 ,261.072,261.076,261.079,261.081, 261.084,261.089,261.091,261.094,261.097 ,261.101,261.104,261.107,261.11,261.115 ,261.056)
ORBIT_NUMBER = 16677
ORBITAL_ECCENTRICITY = 0.579
ORBITAL_INCLINATION = 86.93
ORBITAL_SEMIMAJOR_AXIS = 8864.14
PERIAPSIS_ALTITUDE = 335.74
PERIAPSIS_ARGUMENT_ANGLE = 344.45
PERIAPSIS_TIME = 2017-03-02T15:24:48.000Z
SPACECRAFT_ORIENTATION = (0.0,1.0,0.0)
^MEX_ORIENTATION_DESC = "MEX_ORIENTATION_DESC.TXT"
SPACECRAFT_POINTING_MODE = NADIR
^MEX_POINTING_DESC = "MEX_POINTING_DESC.TXT"
RIGHT_ASCENSION = -1e+32
DECLINATION = -1e+32
OFFSET_ANGLE = -1e+32
SPACECRAFT_SOLAR_DISTANCE = 2.20678e+08
TARGET_NAME = MARS
/* CAMERA DATA ELEMENTS */
DETECTOR_TEMPERATURE = 18.7783
FOCAL_PLANE_TEMPERATURE = 8.3794
INST_CMPRS_NAME = "DISCRETE COSINE TRANSFORMATION (DCT)"
INST_CMPRS_RATIO = 14.0794
INST_CMPRS_QUALITY = 0
INST_CMPRS_QUANTZ_TBL_ID = 0
INSTRUMENT_TEMPERATURE = 11.6418
LENS_TEMPERATURE = 8.5833
MACROPIXEL_SIZE = 4
MISSING_FRAMES = 0
PIXEL_SUBSAMPLING_FLAG = N
SIGNAL_CHAIN_ID = 2
/* RADIOMETRIC DATA ELEMENTS */
BANDWIDTH = 48.0
CENTER_FILTER_WAVELENGTH = 748.0
RADIANCE_OFFSET = 0.989355
RADIANCE_SCALING_FACTOR = 0.00352306
REFLECTANCE_SCALING_FACTOR = 0.00039153
MEX:REFLECTANCE_OFFSET = 0.109951
/* IMAGE OBJECT DEFINITIONS */
OBJECT = IMAGE
  INTERCHANGE_FORMAT = BINARY
  LINES = 10369
  LINE_SAMPLES = 1768
  SAMPLE_TYPE = UNSIGNED_INTEGER
  SAMPLE_BITS = 8
  BANDS = 1
  BAND_STORAGE_TYPE = BAND_SEQUENTIAL
  MAXIMUM = 255
  MEAN = 125.846
  MINIMUM = 1
  STANDARD_DEVIATION = 25.0559
END_OBJECT = IMAGE
/* MAP OBJECT DEFINITIONS */
OBJECT = IMAGE_MAP_PROJECTION
  ^DATA_SET_MAP_PROJECTION_CATALOG= "DSMAP.CAT"
  A_AXIS_RADIUS = 3396.0
  B_AXIS_RADIUS = 3396.0
  C_AXIS_RADIUS = 3396.0
  CENTER_LATITUDE = 0.0
  CENTER_LONGITUDE = 260.0
  COORDINATE_SYSTEM_NAME = PLANETOGRAPHIC
  COORDINATE_SYSTEM_TYPE = "BODY-FIXED ROTATING"
  EASTERNMOST_LONGITUDE = 261.115
  FIRST_STANDARD_PARALLEL = "N/A"
  LINE_FIRST_PIXEL = 1
  LINE_LAST_PIXEL = 10369
  LINE_PROJECTION_OFFSET = -29517.625
  MAP_PROJECTION_ROTATION = 0.0
  MAP_PROJECTION_TYPE = SINUSOIDAL
  MAP_RESOLUTION = 1185.42760773333
  MAP_SCALE = 0.05
  MAXIMUM_LATITUDE = -24.9367
  MINIMUM_LATITUDE = -33.6942
  POSITIVE_LONGITUDE_DIRECTION = EAST
  REFERENCE_LATITUDE = "N/A"
  REFERENCE_LONGITUDE = "N/A"
  SAMPLE_FIRST_PIXEL = 1
  SAMPLE_LAST_PIXEL = 1768
  SAMPLE_PROJECTION_OFFSET = 650.875
  SECOND_STANDARD_PARALLEL = "N/A"
  WESTERNMOST_LONGITUDE = 259.356
END_OBJECT = IMAGE_MAP_PROJECTION
/* The JPEG2000 image data file associated with this label. */
OBJECT = COMPRESSED_FILE
  FILE_NAME = "HG677_0000_RE3.JP2"
  RECORD_TYPE = UNDEFINED
  FILE_RECORDS = UNK
  ENCODING_TYPE = "JP2"
  INTERCHANGE_FORMAT = BINARY
  UNCOMPRESSED_FILE_NAME = "HG677_0000_RE3.IMG"
  REQUIRED_STORAGE_BYTES = "18353608"
  ^DESCRIPTION = "JP2INFO.TXT"
END_OBJECT = COMPRESSED_FILE
END
