PDS_VERSION_ID = PDS3
/* FILE DATA ELEMENTS */
RECORD_TYPE = STREAM
/* POINTERS TO DATA OBJECTS */
^COMPRESSED_FILE = "HG679_0000_IR3.JP2"
/* IDENTIFICATION DATA ELEMENTS */
DATA_SET_ID = "MEX-M-HRSC-5-REFDR-MAPPROJECTED-V3.0"
DATA_SET_NAME = "MARS EXPRESS HRSC MAP PROJECTED REFDR V3.0"
DETECTOR_ID = MEX_HRSC_IR
EVENT_TYPE = "MARS-REGIONAL-MAPPING-Im-Fl-Gl"
INSTRUMENT_HOST_ID = MEX
INSTRUMENT_HOST_NAME = "MARS EXPRESS"
INSTRUMENT_ID = HRSC
INSTRUMENT_NAME = "HIGH RESOLUTION STEREO CAMERA"
MISSION_NAME = "MARS EXPRESS"
MISSION_PHASE_NAME = ME_Phase_36
PROCESSING_LEVEL_ID = 3
PRODUCT_CREATION_TIME = 2018-06-28T11:48:36.000Z
PRODUCT_ID = "HG679_0000_IR3.JP2"
RELEASE_ID = 0138
REVISION_ID = 0000
/* QUALITY DATA ELEMENTS */
DATA_QUALITY_ID = 1
DATA_QUALITY_DESC = "Data calculated based on original SPICE kernels"
/* TIME DATA ELEMENTS */
SPACECRAFT_CLOCK_START_COUNT = "1/0436598306.09051"
SPACECRAFT_CLOCK_STOP_COUNT = "1/0436598559.25910"
START_TIME = 2017-03-03T05:19:46.628Z
STOP_TIME = 2017-03-03T05:22:40.144Z
/* ORBITAL DATA ELEMENTS */
ASCENDING_NODE_LONGITUDE = 260.64
MAXIMUM_RESOLUTION = 57.4
FOOTPRINT_POINT_LATITUDE = (-34.7172,-34.7133,-34.7091,-34.7046, -34.6999,-34.7582,-34.5085,-34.2574, -34.0085,-33.7582,-33.5076,-33.1318, -32.8782,-32.4973,-32.1136,-31.8628, -31.6112,-31.2346,-30.9835,-30.7281, -30.4749,-30.0965,-29.8434,-29.4905, -29.2779,-29.0743,-28.8651,-28.654, -28.3375,-28.126,-27.915,-27.7019, -27.3865,-27.1758,-26.9652,-26.7543, -26.5427,-26.3317,-26.1205,-25.9096, -25.6987,-25.4871,-25.2732,-24.9516, -24.7451,-24.5352,-24.322,-24.003, -23.7905,-23.5825,-23.3722,-23.3111, -23.3163,-23.3201,-23.3238,-23.535, -23.7449,-23.9601,-24.1732,-24.3857, -24.7021,-24.9132,-25.2304,-25.5467, -25.7578,-26.0744,-26.2862,-26.6028, -26.8145,-27.0254,-27.341,-27.5516, -27.7628,-28.0834,-28.3021,-28.5128, -28.726,-28.9368,-29.2521,-29.4559, -29.6687,-29.9215,-30.2984,-30.5508, -30.8039,-31.1853,-31.4392,-31.6952, -32.0766,-32.3272,-32.5816,-32.9577, -33.2096,-33.4603,-33.7117,-33.9626, -34.2135,-34.4643,-34.7144,-34.7172)
FOOTPRINT_POINT_LONGITUDE = (56.5291,56.2767,56.0251,55.7746, 55.5249,55.1607,55.1694,55.1784,55.1865 ,55.1948,55.2029,55.2147,55.2231, 55.2354,55.248,55.2549,55.2617,55.2715, 55.2778,55.285,55.2914,55.3004,55.3064, 55.3163,55.3211,55.3237,55.3275,55.3317 ,55.3376,55.3416,55.3453,55.3494, 55.3544,55.3577,55.3609,55.3641,55.3673 ,55.3703,55.3733,55.3761,55.3788, 55.3815,55.3847,55.3893,55.3907,55.3928 ,55.3954,55.3989,55.4012,55.4025, 55.4041,55.6337,56.0229,56.4393,56.7146 ,56.7173,56.7192,56.7244,56.7283, 56.7318,56.7356,56.7383,56.7427,56.7466 ,56.7493,56.7533,56.7566,56.7607, 56.7639,56.7666,56.7702,56.7728,56.7758 ,56.7828,56.7905,56.7933,56.7977, 56.8005,56.8043,56.8029,56.8072,56.8159 ,56.8211,56.8254,56.8302,56.8387, 56.8441,56.851,56.8598,56.8634,56.8695, 56.8752,56.8799,56.8839,56.8885,56.8927 ,56.8971,56.9015,56.9055,56.5291)
ORBIT_NUMBER = 16679
ORBITAL_ECCENTRICITY = 0.579
ORBITAL_INCLINATION = 86.95
ORBITAL_SEMIMAJOR_AXIS = 8856.13
PERIAPSIS_ALTITUDE = 335.65
PERIAPSIS_ARGUMENT_ANGLE = 344.13
PERIAPSIS_TIME = 2017-03-03T05:24:10.000Z
SPACECRAFT_ORIENTATION = (0.0,1.0,0.0)
^MEX_ORIENTATION_DESC = "MEX_ORIENTATION_DESC.TXT"
SPACECRAFT_POINTING_MODE = ACROSSTRACK
^MEX_POINTING_DESC = "MEX_POINTING_DESC.TXT"
RIGHT_ASCENSION = -1e+32
DECLINATION = -1e+32
OFFSET_ANGLE = -0.3
SPACECRAFT_SOLAR_DISTANCE = 2.20789e+08
TARGET_NAME = MARS
/* CAMERA DATA ELEMENTS */
DETECTOR_TEMPERATURE = 17.7588
FOCAL_PLANE_TEMPERATURE = 8.7872
INST_CMPRS_NAME = "DISCRETE COSINE TRANSFORMATION (DCT)"
INST_CMPRS_RATIO = 7.89975
INST_CMPRS_QUALITY = 0
INST_CMPRS_QUANTZ_TBL_ID = 0
INSTRUMENT_TEMPERATURE = 11.8457
LENS_TEMPERATURE = 9.195
MACROPIXEL_SIZE = 4
MISSING_FRAMES = 0
PIXEL_SUBSAMPLING_FLAG = N
SIGNAL_CHAIN_ID = 2
/* RADIOMETRIC DATA ELEMENTS */
BANDWIDTH = 81.0
CENTER_FILTER_WAVELENGTH = 955.5
RADIANCE_OFFSET = 0.625966
RADIANCE_SCALING_FACTOR = 0.00363883
REFLECTANCE_SCALING_FACTOR = 0.000382684
MEX:REFLECTANCE_OFFSET = 0.0658308
/* IMAGE OBJECT DEFINITIONS */
OBJECT = IMAGE
  INTERCHANGE_FORMAT = BINARY
  LINES = 13562
  LINE_SAMPLES = 1788
  SAMPLE_TYPE = UNSIGNED_INTEGER
  SAMPLE_BITS = 8
  BANDS = 1
  BAND_STORAGE_TYPE = BAND_SEQUENTIAL
  MAXIMUM = 255
  MEAN = 105.326
  MINIMUM = 1
  STANDARD_DEVIATION = 44.2937
END_OBJECT = IMAGE
/* MAP OBJECT DEFINITIONS */
OBJECT = IMAGE_MAP_PROJECTION
  ^DATA_SET_MAP_PROJECTION_CATALOG= "DSMAP.CAT"
  A_AXIS_RADIUS = 3396.0
  B_AXIS_RADIUS = 3396.0
  C_AXIS_RADIUS = 3396.0
  CENTER_LATITUDE = 0.0
  CENTER_LONGITUDE = 56.0
  COORDINATE_SYSTEM_NAME = PLANETOGRAPHIC
  COORDINATE_SYSTEM_TYPE = "BODY-FIXED ROTATING"
  EASTERNMOST_LONGITUDE = 56.9055
  FIRST_STANDARD_PARALLEL = "N/A"
  LINE_FIRST_PIXEL = 1
  LINE_LAST_PIXEL = 13562
  LINE_PROJECTION_OFFSET = -27644.375
  MAP_PROJECTION_ROTATION = 0.0
  MAP_PROJECTION_TYPE = SINUSOIDAL
  MAP_RESOLUTION = 1185.42760773333
  MAP_SCALE = 0.05
  MAXIMUM_LATITUDE = -23.3111
  MINIMUM_LATITUDE = -34.7582
  POSITIVE_LONGITUDE_DIRECTION = EAST
  REFERENCE_LATITUDE = "N/A"
  REFERENCE_LONGITUDE = "N/A"
  SAMPLE_FIRST_PIXEL = 1
  SAMPLE_LAST_PIXEL = 1788
  SAMPLE_PROJECTION_OFFSET = 858.875
  SECOND_STANDARD_PARALLEL = "N/A"
  WESTERNMOST_LONGITUDE = 55.1607
END_OBJECT = IMAGE_MAP_PROJECTION
/* The JPEG2000 image data file associated with this label. */
OBJECT = COMPRESSED_FILE
  FILE_NAME = "HG679_0000_IR3.JP2"
  RECORD_TYPE = UNDEFINED
  FILE_RECORDS = UNK
  ENCODING_TYPE = "JP2"
  INTERCHANGE_FORMAT = BINARY
  UNCOMPRESSED_FILE_NAME = "HG679_0000_IR3.IMG"
  REQUIRED_STORAGE_BYTES = "24270312"
  ^DESCRIPTION = "JP2INFO.TXT"
END_OBJECT = COMPRESSED_FILE
END
