PDS_VERSION_ID = PDS3
/* FILE DATA ELEMENTS */
RECORD_TYPE = STREAM
/* POINTERS TO DATA OBJECTS */
^COMPRESSED_FILE = "HG679_0000_RE3.JP2"
/* IDENTIFICATION DATA ELEMENTS */
DATA_SET_ID = "MEX-M-HRSC-5-REFDR-MAPPROJECTED-V3.0"
DATA_SET_NAME = "MARS EXPRESS HRSC MAP PROJECTED REFDR V3.0"
DETECTOR_ID = MEX_HRSC_RED
EVENT_TYPE = "MARS-REGIONAL-MAPPING-Im-Fl-Gl"
INSTRUMENT_HOST_ID = MEX
INSTRUMENT_HOST_NAME = "MARS EXPRESS"
INSTRUMENT_ID = HRSC
INSTRUMENT_NAME = "HIGH RESOLUTION STEREO CAMERA"
MISSION_NAME = "MARS EXPRESS"
MISSION_PHASE_NAME = ME_Phase_36
PROCESSING_LEVEL_ID = 3
PRODUCT_CREATION_TIME = 2018-06-28T11:48:36.000Z
PRODUCT_ID = "HG679_0000_RE3.JP2"
RELEASE_ID = 0138
REVISION_ID = 0000
/* QUALITY DATA ELEMENTS */
DATA_QUALITY_ID = 1
DATA_QUALITY_DESC = "Data calculated based on original SPICE kernels"
/* TIME DATA ELEMENTS */
SPACECRAFT_CLOCK_START_COUNT = "1/0436598306.09051"
SPACECRAFT_CLOCK_STOP_COUNT = "1/0436598559.25910"
START_TIME = 2017-03-03T05:18:41.687Z
STOP_TIME = 2017-03-03T05:21:47.870Z
/* ORBITAL DATA ELEMENTS */
ASCENDING_NODE_LONGITUDE = 260.64
MAXIMUM_RESOLUTION = 59.4
FOOTPRINT_POINT_LATITUDE = (-34.7863,-34.7888,-34.7908,-34.7907, -34.7893,-34.5933,-34.3475,-34.1006, -33.8591,-33.6175,-33.376,-33.0149, -32.7825,-32.4327,-32.1981,-31.9603, -31.7278,-31.4937,-31.2609,-31.0281, -30.6805,-30.3342,-30.0982,-29.7457, -29.5177,-29.2877,-29.0435,-28.8047, -28.568,-28.3308,-28.0936,-27.8562, -27.6214,-27.3799,-27.1402,-26.9004, -26.6606,-26.421,-26.07,-25.8683, -25.6662,-25.4647,-25.0691,-24.8637, -24.6574,-24.4537,-24.0512,-23.8495, -23.6437,-23.338,-23.3358,-23.332, -23.3284,-23.323,-23.5239,-23.7293, -23.9289,-24.1304,-24.4344,-24.6379, -24.841,-25.0439,-25.2462,-25.4492, -25.6516,-25.8547,-26.0557,-26.4083, -26.767,-27.0072,-27.2486,-27.4876, -27.7264,-27.9626,-28.1954,-28.5473, -28.903,-29.1402,-29.383,-29.7377, -29.9652,-30.2,-30.4373,-30.67,-30.9023 ,-31.25,-31.4807,-31.8236,-32.0571, -32.2965,-32.5299,-32.7697,-33.0068, -33.2483,-33.6115,-33.8537,-34.0952, -34.3414,-34.5883,-34.7863)
FOOTPRINT_POINT_LONGITUDE = (56.6747,56.4,56.0405,55.53,55.2415, 55.0903,55.1007,55.1104,55.1199,55.1292 ,55.1385,55.1523,55.1618,55.1756, 55.1844,55.1924,55.2002,55.2073,55.2146 ,55.2218,55.2328,55.244,55.2502,55.2598 ,55.2675,55.2748,55.279,55.2843,55.2899 ,55.2954,55.3008,55.3061,55.3119, 55.3162,55.3208,55.3253,55.3298,55.3342 ,55.3404,55.3438,55.3471,55.3504, 55.3584,55.3609,55.3631,55.3658,55.3719 ,55.3749,55.377,55.3803,55.6049,55.9317 ,56.1969,56.5521,56.7385,56.741,56.7466 ,56.7511,56.7567,56.7598,56.7631, 56.7665,56.77,56.7731,56.7764,56.7792, 56.7831,56.7888,56.7959,56.7999,56.803, 56.8074,56.8117,56.8175,56.825,56.8344, 56.8412,56.8456,56.8465,56.8531,56.8625 ,56.8675,56.8708,56.8768,56.8827, 56.8918,56.8983,56.9095,56.9165,56.9211 ,56.9289,56.9329,56.9382,56.9439, 56.9524,56.9578,56.9634,56.9694,56.9751 ,56.6747)
ORBIT_NUMBER = 16679
ORBITAL_ECCENTRICITY = 0.579
ORBITAL_INCLINATION = 86.95
ORBITAL_SEMIMAJOR_AXIS = 8856.13
PERIAPSIS_ALTITUDE = 335.65
PERIAPSIS_ARGUMENT_ANGLE = 344.13
PERIAPSIS_TIME = 2017-03-03T05:24:10.000Z
SPACECRAFT_ORIENTATION = (0.0,1.0,0.0)
^MEX_ORIENTATION_DESC = "MEX_ORIENTATION_DESC.TXT"
SPACECRAFT_POINTING_MODE = ACROSSTRACK
^MEX_POINTING_DESC = "MEX_POINTING_DESC.TXT"
RIGHT_ASCENSION = -1e+32
DECLINATION = -1e+32
OFFSET_ANGLE = -0.3
SPACECRAFT_SOLAR_DISTANCE = 2.20789e+08
TARGET_NAME = MARS
/* CAMERA DATA ELEMENTS */
DETECTOR_TEMPERATURE = 18.5744
FOCAL_PLANE_TEMPERATURE = 8.7872
INST_CMPRS_NAME = "DISCRETE COSINE TRANSFORMATION (DCT)"
INST_CMPRS_RATIO = 16.0775
INST_CMPRS_QUALITY = 0
INST_CMPRS_QUANTZ_TBL_ID = 0
INSTRUMENT_TEMPERATURE = 11.8457
LENS_TEMPERATURE = 9.195
MACROPIXEL_SIZE = 4
MISSING_FRAMES = 0
PIXEL_SUBSAMPLING_FLAG = N
SIGNAL_CHAIN_ID = 2
/* RADIOMETRIC DATA ELEMENTS */
BANDWIDTH = 48.0
CENTER_FILTER_WAVELENGTH = 748.0
RADIANCE_OFFSET = 0.782542
RADIANCE_SCALING_FACTOR = 0.00363245
REFLECTANCE_SCALING_FACTOR = 0.000404089
MEX:REFLECTANCE_OFFSET = 0.0870533
/* IMAGE OBJECT DEFINITIONS */
OBJECT = IMAGE
  INTERCHANGE_FORMAT = BINARY
  LINES = 13562
  LINE_SAMPLES = 1788
  SAMPLE_TYPE = UNSIGNED_INTEGER
  SAMPLE_BITS = 8
  BANDS = 1
  BAND_STORAGE_TYPE = BAND_SEQUENTIAL
  MAXIMUM = 255
  MEAN = 116.974
  MINIMUM = 1
  STANDARD_DEVIATION = 42.3158
END_OBJECT = IMAGE
/* MAP OBJECT DEFINITIONS */
OBJECT = IMAGE_MAP_PROJECTION
  ^DATA_SET_MAP_PROJECTION_CATALOG= "DSMAP.CAT"
  A_AXIS_RADIUS = 3396.0
  B_AXIS_RADIUS = 3396.0
  C_AXIS_RADIUS = 3396.0
  CENTER_LATITUDE = 0.0
  CENTER_LONGITUDE = 56.0
  COORDINATE_SYSTEM_NAME = PLANETOGRAPHIC
  COORDINATE_SYSTEM_TYPE = "BODY-FIXED ROTATING"
  EASTERNMOST_LONGITUDE = 56.9751
  FIRST_STANDARD_PARALLEL = "N/A"
  LINE_FIRST_PIXEL = 1
  LINE_LAST_PIXEL = 13562
  LINE_PROJECTION_OFFSET = -27644.375
  MAP_PROJECTION_ROTATION = 0.0
  MAP_PROJECTION_TYPE = SINUSOIDAL
  MAP_RESOLUTION = 1185.42760773333
  MAP_SCALE = 0.05
  MAXIMUM_LATITUDE = -23.323
  MINIMUM_LATITUDE = -34.7908
  POSITIVE_LONGITUDE_DIRECTION = EAST
  REFERENCE_LATITUDE = "N/A"
  REFERENCE_LONGITUDE = "N/A"
  SAMPLE_FIRST_PIXEL = 1
  SAMPLE_LAST_PIXEL = 1788
  SAMPLE_PROJECTION_OFFSET = 858.875
  SECOND_STANDARD_PARALLEL = "N/A"
  WESTERNMOST_LONGITUDE = 55.0903
END_OBJECT = IMAGE_MAP_PROJECTION
/* The JPEG2000 image data file associated with this label. */
OBJECT = COMPRESSED_FILE
  FILE_NAME = "HG679_0000_RE3.JP2"
  RECORD_TYPE = UNDEFINED
  FILE_RECORDS = UNK
  ENCODING_TYPE = "JP2"
  INTERCHANGE_FORMAT = BINARY
  UNCOMPRESSED_FILE_NAME = "HG679_0000_RE3.IMG"
  REQUIRED_STORAGE_BYTES = "24270312"
  ^DESCRIPTION = "JP2INFO.TXT"
END_OBJECT = COMPRESSED_FILE
END
