PDS_VERSION_ID = PDS3
/* FILE DATA ELEMENTS */
RECORD_TYPE = STREAM
/* POINTERS TO DATA OBJECTS */
^COMPRESSED_FILE = "HG680_0000_P13.JP2"
/* IDENTIFICATION DATA ELEMENTS */
DATA_SET_ID = "MEX-M-HRSC-5-REFDR-MAPPROJECTED-V3.0"
DATA_SET_NAME = "MARS EXPRESS HRSC MAP PROJECTED REFDR V3.0"
DETECTOR_ID = MEX_HRSC_P1
EVENT_TYPE = "MARS-REGIONAL-STEREO-Fl-Lc-La"
INSTRUMENT_HOST_ID = MEX
INSTRUMENT_HOST_NAME = "MARS EXPRESS"
INSTRUMENT_ID = HRSC
INSTRUMENT_NAME = "HIGH RESOLUTION STEREO CAMERA"
MISSION_NAME = "MARS EXPRESS"
MISSION_PHASE_NAME = ME_Phase_36
PROCESSING_LEVEL_ID = 3
PRODUCT_CREATION_TIME = 2018-06-28T11:48:36.000Z
PRODUCT_ID = "HG680_0000_P13.JP2"
RELEASE_ID = 0138
REVISION_ID = 0000
/* QUALITY DATA ELEMENTS */
DATA_QUALITY_ID = 1
DATA_QUALITY_DESC = "Data calculated based on original SPICE kernels"
/* TIME DATA ELEMENTS */
SPACECRAFT_CLOCK_START_COUNT = "1/0436623722.09041"
SPACECRAFT_CLOCK_STOP_COUNT = "1/0436623942.32446"
START_TIME = 2017-03-03T12:23:01.281Z
STOP_TIME = 2017-03-03T12:25:37.753Z
/* ORBITAL DATA ELEMENTS */
ASCENDING_NODE_LONGITUDE = 260.62
MAXIMUM_RESOLUTION = 27.7
FOOTPRINT_POINT_LATITUDE = (-20.5158,-20.5181,-20.5198,-20.5214, -20.5296,-20.3212,-20.0159,-19.7129, -19.5106,-19.3086,-19.1059,-18.9037, -18.702,-18.4981,-18.295,-18.096, -17.8948,-17.5918,-17.4016,-17.2008, -16.9981,-16.797,-16.5963,-16.3917, -16.1901,-15.8893,-15.5862,-15.3827, -15.1809,-14.8779,-14.6729,-14.47, -14.1674,-13.8628,-13.6609,-13.4612, -13.2652,-12.9524,-12.6526,-12.4481, -12.2407,-12.0318,-11.8118,-11.5979, -11.3916,-11.1855,-10.8765,-10.6706, -10.362,-10.3512,-10.3536,-10.3596, -10.3586,-10.5647,-10.7532,-10.9566, -11.1622,-11.3728,-11.5899,-11.9002, -12.1112,-12.3174,-12.5256,-12.7264, -12.9315,-13.1386,-13.3418,-13.6456, -13.8459,-14.048,-14.2516,-14.4543, -14.6548,-14.8582,-15.0589,-15.2631, -15.4626,-15.6662,-15.8662,-16.0647, -16.2693,-16.471,-16.7754,-16.979, -17.1818,-17.4852,-17.6854,-17.9848, -18.1761,-18.3784,-18.6828,-18.8855, -19.088,-19.2907,-19.4932,-19.6976, -20.0006,-20.2059,-20.4092,-20.5158)
FOOTPRINT_POINT_LONGITUDE = (313.558,313.302,313.107,312.912, 312.572,312.574,312.577,312.577,312.578 ,312.579,312.58,312.58,312.581,312.582, 312.583,312.581,312.581,312.581,312.574 ,312.573,312.574,312.573,312.573, 312.574,312.574,312.573,312.573,312.574 ,312.573,312.573,312.575,312.576, 312.575,312.576,312.576,312.574,312.57, 312.572,312.563,312.56,312.559,312.559, 312.566,312.57,312.568,312.566,312.564, 312.562,312.559,312.904,313.307,313.594 ,313.79,313.791,313.786,313.786,313.787 ,313.789,313.793,313.794,313.797, 313.797,313.799,313.797,313.798,313.799 ,313.8,313.802,313.803,313.804,313.806, 313.807,313.808,313.81,313.811,313.813, 313.813,313.815,313.815,313.815,313.817 ,313.818,313.82,313.822,313.823,313.825 ,313.826,313.826,313.823,313.824, 313.827,313.828,313.829,313.83,313.831, 313.833,313.835,313.837,313.838, 313.558)
ORBIT_NUMBER = 16680
ORBITAL_ECCENTRICITY = 0.578
ORBITAL_INCLINATION = 86.94
ORBITAL_SEMIMAJOR_AXIS = 8848.5
PERIAPSIS_ALTITUDE = 336.1
PERIAPSIS_ARGUMENT_ANGLE = 343.96
PERIAPSIS_TIME = 2017-03-03T12:23:51.000Z
SPACECRAFT_ORIENTATION = (0.0,1.0,0.0)
^MEX_ORIENTATION_DESC = "MEX_ORIENTATION_DESC.TXT"
SPACECRAFT_POINTING_MODE = ACROSSTRACK
^MEX_POINTING_DESC = "MEX_POINTING_DESC.TXT"
RIGHT_ASCENSION = -1e+32
DECLINATION = -1e+32
OFFSET_ANGLE = 0.2
SPACECRAFT_SOLAR_DISTANCE = 2.20844e+08
TARGET_NAME = MARS
/* CAMERA DATA ELEMENTS */
DETECTOR_TEMPERATURE = 16.9432
FOCAL_PLANE_TEMPERATURE = 8.5833
INST_CMPRS_NAME = "DISCRETE COSINE TRANSFORMATION (DCT)"
INST_CMPRS_RATIO = 10.4345
INST_CMPRS_QUALITY = 0
INST_CMPRS_QUANTZ_TBL_ID = 0
INSTRUMENT_TEMPERATURE = 11.6418
LENS_TEMPERATURE = 8.5833
MACROPIXEL_SIZE = 2
MISSING_FRAMES = 0
PIXEL_SUBSAMPLING_FLAG = N
SIGNAL_CHAIN_ID = 3
/* RADIOMETRIC DATA ELEMENTS */
BANDWIDTH = 174.0
CENTER_FILTER_WAVELENGTH = 675.0
RADIANCE_OFFSET = 3.50957
RADIANCE_SCALING_FACTOR = 0.00960212
REFLECTANCE_SCALING_FACTOR = 0.000251896
MEX:REFLECTANCE_OFFSET = 0.0920682
/* IMAGE OBJECT DEFINITIONS */
OBJECT = IMAGE
  INTERCHANGE_FORMAT = BINARY
  LINES = 24125
  LINE_SAMPLES = 3079
  SAMPLE_TYPE = UNSIGNED_INTEGER
  SAMPLE_BITS = 8
  BANDS = 1
  BAND_STORAGE_TYPE = BAND_SEQUENTIAL
  MAXIMUM = 255
  MEAN = 119.106
  MINIMUM = 1
  STANDARD_DEVIATION = 32.3506
END_OBJECT = IMAGE
/* MAP OBJECT DEFINITIONS */
OBJECT = IMAGE_MAP_PROJECTION
  ^DATA_SET_MAP_PROJECTION_CATALOG= "DSMAP.CAT"
  A_AXIS_RADIUS = 3396.0
  B_AXIS_RADIUS = 3396.0
  C_AXIS_RADIUS = 3396.0
  CENTER_LATITUDE = 0.0
  CENTER_LONGITUDE = 313.0
  COORDINATE_SYSTEM_NAME = PLANETOGRAPHIC
  COORDINATE_SYSTEM_TYPE = "BODY-FIXED ROTATING"
  EASTERNMOST_LONGITUDE = 313.838
  FIRST_STANDARD_PARALLEL = "N/A"
  LINE_FIRST_PIXEL = 1
  LINE_LAST_PIXEL = 24125
  LINE_PROJECTION_OFFSET = -24559.25
  MAP_PROJECTION_ROTATION = 0.0
  MAP_PROJECTION_TYPE = SINUSOIDAL
  MAP_RESOLUTION = 2370.85521546667
  MAP_SCALE = 0.025
  MAXIMUM_LATITUDE = -10.3512
  MINIMUM_LATITUDE = -20.5296
  POSITIVE_LONGITUDE_DIRECTION = EAST
  REFERENCE_LATITUDE = "N/A"
  REFERENCE_LONGITUDE = "N/A"
  SAMPLE_FIRST_PIXEL = 1
  SAMPLE_LAST_PIXEL = 3079
  SAMPLE_PROJECTION_OFFSET = 1149.75
  SECOND_STANDARD_PARALLEL = "N/A"
  WESTERNMOST_LONGITUDE = 312.559
END_OBJECT = IMAGE_MAP_PROJECTION
/* The JPEG2000 image data file associated with this label. */
OBJECT = COMPRESSED_FILE
  FILE_NAME = "HG680_0000_P13.JP2"
  RECORD_TYPE = UNDEFINED
  FILE_RECORDS = UNK
  ENCODING_TYPE = "JP2"
  INTERCHANGE_FORMAT = BINARY
  UNCOMPRESSED_FILE_NAME = "HG680_0000_P13.IMG"
  REQUIRED_STORAGE_BYTES = "74305507"
  ^DESCRIPTION = "JP2INFO.TXT"
END_OBJECT = COMPRESSED_FILE
END
